Workbook
Name Print_Area: DRG_11!$A$1:$I$36
Name Print_Area: DRG_12!$A$1:$I$36
Name Print_Area: DRG_forskel!$A$1:$H$36
Name Print_Area: DTD_11!$A$1:$G$36
Name Print_Area: DTD_12!$A$1:$G$36
Name Print_Area: DTD_forskel!$A$1:$G$36
Name Print_Area: produktivitet!$A$1:$J$37
Name Print_Area: 'Skema1-7_2011'!$A$1:$J$36
Name Print_Area: 'Skema1-7_2012'!$A$1:$J$36
Name Print_Area: 'Skema1-7_forskel'!$A$1:$J$36
Name SAM_06: DRG_11!#REF!
Name SAM_06: DRG_12!#REF!
Name SAM_06: DRG_forskel!#REF!
Name SAM_07: produktivitet!$A$5:$B$37

Sheet (skema1-7_2011 - 11pl)
A1: Datagrundlag baseret på nyeste opdatering af driftsudgifter
A2: Sygehusenes nettodriftsudgifter for 2011, 1.000 kr. 2011 priser
A3: Tabel 0
A4: Nr. | B4: Sygehus | C4: Skema 1 | D4: Skema 2 | E4: Skema 3 | F4: Skema 4 | G4: Skema 5 | H4: Skema 6 | I4: Skema 7 | J4: Totale driftsudgifter, ekskl. udgifter der ikke bidrager til somatisk patient behandling
A5: 1301 | B5: Rigshospitalet | C5: 4113704 | D5: 146392.24 | E5: 77745.442 | F5: 0 | G5: 28307.668 | H5: -2161498.1 | I5: -913.01928 | J5: =SUM(C5:E5)-SUM(F5:I5) -> 6471945.2
A6: 1309 | B6: Bispebjerg Hospital | C6: 1615291 | D6: 46383.084 | E6: 30527.601 | F6: 0 | G6: 2692.2536 | H6: -40894.319 | I6: 57749.76 | J6: =SUM(C6:E6)-SUM(F6:I6) -> 1672654
A7: 1330 | B7: Hvidovre Hospital | C7: 1893141 | D7: 55915.078 | E7: 35778.725 | F7: 0 | G7: 4552.058 | H7: -125338.8 | I7: -5588.0229 | J7: =SUM(C7:E7)-SUM(F7:I7) -> 2111209.6
A8: 1351 | B8: Amager Hospital | C8: 337782 | D8: 9307.8206 | E8: 6383.7872 | F8: 0 | G8: 0 | H8: 393.00887 | I8: -17602.093 | J8: =SUM(C8:E8)-SUM(F8:I8) -> 370682.69
A9: 1401 | B9: Frederiksberg Hospital | C9: 599589 | D9: 18168.081 | E9: 11331.713 | F9: 0 | G9: 0 | H9: -41992.972 | I9: -41233.926 | J9: =SUM(C9:E9)-SUM(F9:I9) -> 712315.69
A10: 1501 | B10: Gentofte Hospital | C10: 1138215 | D10: 33487.155 | E10: 21511.259 | F10: 0 | G10: 0 | H10: -40808.842 | I10: -23218.518 | J10: =SUM(C10:E10)-SUM(F10:I10) -> 1257240.8
A11: 1502 | B11: Glostrup Hospital | C11: 1379978 | D11: 43631.79 | E11: 26080.389 | F11: 0 | G11: 0 | H11: -94268.095 | I11: 20366.375 | J11: =SUM(C11:E11)-SUM(F11:I11) -> 1523591.9
A12: 1516 | B12: Herlev Hospital | C12: 2778038 | D12: 86317.854 | E12: 52502.493 | F12: 0 | G12: 11414.11 | H12: -99117.261 | I12: 20659.898 | J12: =SUM(C12:E12)-SUM(F12:I12) -> 2983901.6
A13: 2000 | B13: Nordsjællands Hospital | C13: 2288925 | D13: 66291.133 | E13: 43258.7 | F13: 0 | G13: 938.05605 | H13: 112573.37 | I13: 5753.9746 | J13: =SUM(C13:E13)-SUM(F13:I13) -> 2279209.4
A14: 4001 | B14: Bornholms Hospital | C14: 382648 | D14: 11116.013 | E14: 7231.6969 | F14: 0 | G14: 0 | H14: 29157.827 | I14: -431.45263 | J14: =SUM(C14:E14)-SUM(F14:I14) -> 372269.34
A15: 2500 | B15: Sygehus Nord | C15: 3310816.8 | D15: 98803 | E15: 135498 | F15: 4149 | G15: 17666 | H15: 83091 | I15: -42268.895 | J15: =SUM(C15:E15)-SUM(F15:I15) -> 3482480.7
A16: 2501 | B16: Sygehus Syd | C16: 3131453 | D16: 95933 | E16: 130889 | F16: 10025 | G16: 10402 | H16: 118525 | I16: 42788.485 | J16: =SUM(C16:E16)-SUM(F16:I16) -> 3176534.5
... A27: 6630 | B27: Hospitalsenhed Midt | C27: 2103616.7 | D27: 59542 | E27: 51715 | F27: 1 | G27: 1462 | H27: 95989 | I27: 27639 | J27: =SUM(C27:E27)-SUM(F27:I27) -> 2089782.7
A28: 7603 | B28: Sygehus Thy - Mors | C28: 401365 | D28: 14238 | E28: 15583 | F28: 0 | G28: 2679 | H28: 20631 | I28: 21909 | J28: =SUM(C28:E28)-SUM(F28:I28)-77875.603 -> 308091.4
A29: 8001 | B29: Aalborg sygehus | C29: 3768069 | D29: 123922 | E29: 110847 | F29: 1693.495 | G29: 30116 | H29: 189139 | I29: -75825 | J29: =SUM(C29:E29)-SUM(F29:I29)+77875.603 -> 3935590.1
A30: 8003 | B30: Sygehus Vendsyssel | C30: 942927 | D30: 33024 | E30: 35899 | F30: 1339.227 | G30: 2559 | H30: 66603 | I30: 64010 | J30: =SUM(C30:E30)-SUM(F30:I30) -> 877338.77
A31: 8005 | B31: Sygehus Himmerland | C31: 221086 | D31: 8019 | E31: 14538 | F31: 0 | G31: 559 | H31: 11025 | I31: -10094 | J31: =SUM(C31:E31)-SUM(F31:I31) -> 242153
B36: Hele landet | C36: =+SUM(C5:C33) -> 52180157 | D36: =+SUM(D5:D33) -> 1611768.2 | E36: =+SUM(E5:E33) -> 1300736.8 | F36: =+SUM(F5:F33) -> 46261.722 | G36: =+SUM(G5:G33) -> 141892.14 | H36: =+SUM(H5:H33) -> -1077703.2 | I36: =+SUM(I5:I33) -> 72667.566 | J36: =SUM(C36:E36)-SUM(F36:I36) -> 55909544
B38: Hovedstaden | C38: =SUM(C5:C14) -> 16527311 | D38: =SUM(D5:D14) -> 517010.25 | E38: =SUM(E5:E14) -> 312351.81 | F38: =SUM(F5:F14) -> 0 | G38: =SUM(G5:G14) -> 47904.145 | H38: =SUM(H5:H14) -> -2461794.2 | I38: =SUM(I5:I14) -> 15542.976 | J38: =SUM(J5:J14) -> 19755020
B39: Sjælland | C39: =SUM(C15:C16) -> 6442269.8 | D39: =SUM(D15:D16) -> 194736 | E39: =SUM(E15:E16) -> 266387 | F39: =SUM(F15:F16) -> 14174 | G39: =SUM(G15:G16) -> 28068 | H39: =SUM(H15:H16) -> 201616 | I39: =SUM(I15:I16) -> 519.59 | J39: =SUM(J15:J16) -> 6659015.2
B40: Syddanmark | C40: =SUM(C17:C22) -> 12052030 | D40: =SUM(D17:D22) -> 245242 | E40: =SUM(E17:E22) -> 250337 | F40: =SUM(F17:F22) -> 23906 | G40: =SUM(G17:G22) -> 12512 | H40: =SUM(H17:H22) -> 476260 | I40: =SUM(I17:I22) -> 2037 | J40: =SUM(J17:J22) -> 12032894
B41: Midtjylland | C41: =SUM(C23:C27) -> 11825099 | D41: =SUM(D23:D27) -> 475577 | E41: =SUM(E23:E27) -> 294794 | F41: =SUM(F23:F27) -> 5149 | G41: =SUM(G23:G27) -> 17495 | H41: =SUM(H23:H27) -> 418817 | I41: =SUM(I23:I27) -> 54568 | J41: =SUM(J23:J27) -> 12099441
B42: Nordjylland | C42: =SUM(C28:C31) -> 5333447 | D42: =SUM(D28:D31) -> 179203 | E42: =SUM(E28:E31) -> 176867 | F42: =SUM(F28:F31) -> 3032.722 | G42: =SUM(G28:G31) -> 35913 | H42: =SUM(H28:H31) -> 287398 | I42: =SUM(I28:I31) -> 0 | J42: =SUM(J28:J31) -> 5363173.3
B43: Hele landet | C43: =+SUM(C38:C42) -> 52180157 | D43: =+SUM(D38:D42) -> 1611768.2 | E43: =+SUM(E38:E42) -> 1300736.8 | F43: =+SUM(F38:F42) -> 46261.722 | G43: =+SUM(G38:G42) -> 141892.14 | H43: =+SUM(H38:H42) -> -1077703.2 | I43: =+SUM(I38:I42) -> 72667.566 | J43: =+SUM(J38:J42) -> 55909544

Sheet Skema1-7_2011
A1: Endelig version -21. februar 2014 | F1: P/L-faktor (11-->12): | H1: 1.02
A2: Sygehusenes nettodriftsudgifter for 2011, 1.000 kr. 2012-priser
A3: Tabel 1.
A4: Nr. | B4: Sygehus | C4: Skema 1 | D4: Skema 2 | E4: Skema 3 | F4: Skema 4 | G4: Skema 5 | H4: Skema 6 | I4: Skema 7 | J4: Totale driftsudgifter, ekskl. udgifter der ikke bidrager til somatisk patient behandling
A5: 1301 | B5: Rigshospitalet | C5: =+'(skema1-7_2011 - 11pl)'!C5*'Skema1-7_2011'!$H$1 -> 4195978.1 | D5: =+'(skema1-7_2011 - 11pl)'!D5*'Skema1-7_2011'!$H$1 -> 149320.08 | E5: =+'(skema1-7_2011 - 11pl)'!E5*'Skema1-7_2011'!$H$1 -> 79300.351 | F5: =+'(skema1-7_2011 - 11pl)'!F5*'Skema1-7_2011'!$H$1 -> 0 | G5: =+'(skema1-7_2011 - 11pl)'!G5*'Skema1-7_2011'!$H$1 -> 28873.821 | H5: =+'(skema1-7_2011 - 11pl)'!H5*'Skema1-7_2011'!$H$1 -> -2204728.1 | I5: =+'(skema1-7_2011 - 11pl)'!I5*'Skema1-7_2011'!$H$1 -> -931.27967 | J5: =+SUM(C5:E5) - SUM(F5:I5) -> 6601384.1
A6: 1309 | B6: Bispebjerg Hospital | C6: =+'(skema1-7_2011 - 11pl)'!C6*'Skema1-7_2011'!$H$1 -> 1647596.8 | D6: =+'(skema1-7_2011 - 11pl)'!D6*'Skema1-7_2011'!$H$1 -> 47310.745 | E6: =+'(skema1-7_2011 - 11pl)'!E6*'Skema1-7_2011'!$H$1 -> 31138.153 | F6: =+'(skema1-7_2011 - 11pl)'!F6*'Skema1-7_2011'!$H$1 -> 0 | G6: =+'(skema1-7_2011 - 11pl)'!G6*'Skema1-7_2011'!$H$1 -> 2746.0987 | H6: =+'(skema1-7_2011 - 11pl)'!H6*'Skema1-7_2011'!$H$1 -> -41712.205 | I6: =+'(skema1-7_2011 - 11pl)'!I6*'Skema1-7_2011'!$H$1 -> 58904.755 | J6: =+SUM(C6:E6) - SUM(F6:I6) -> 1706107.1
A7: 1330 | B7: Hvidovre Hospital | C7: =+'(skema1-7_2011 - 11pl)'!C7*'Skema1-7_2011'!$H$1 -> 1931003.8 | D7: =+'(skema1-7_2011 - 11pl)'!D7*'Skema1-7_2011'!$H$1 -> 57033.38 | E7: =+'(skema1-7_2011 - 11pl)'!E7*'Skema1-7_2011'!$H$1 -> 36494.3 | F7: =+'(skema1-7_2011 - 11pl)'!F7*'Skema1-7_2011'!$H$1 -> 0 | G7: =+'(skema1-7_2011 - 11pl)'!G7*'Skema1-7_2011'!$H$1 -> 4643.0992 | H7: =+'(skema1-7_2011 - 11pl)'!H7*'Skema1-7_2011'!$H$1 -> -127845.58 | I7: =+'(skema1-7_2011 - 11pl)'!I7*'Skema1-7_2011'!$H$1 -> -5699.7834 | J7: =+SUM(C7:E7) - SUM(F7:I7) -> 2153433.8
A8: 1351 | B8: Amager Hospital | C8: =+'(skema1-7_2011 - 11pl)'!C8*'Skema1-7_2011'!$H$1 -> 344537.64 | D8: =+'(skema1-7_2011 - 11pl)'!D8*'Skema1-7_2011'!$H$1 -> 9493.9771 | E8: =+'(skema1-7_2011 - 11pl)'!E8*'Skema1-7_2011'!$H$1 -> 6511.463 | F8: =+'(skema1-7_2011 - 11pl)'!F8*'Skema1-7_2011'!$H$1 -> 0 | G8: =+'(skema1-7_2011 - 11pl)'!G8*'Skema1-7_2011'!$H$1 -> 0 | H8: =+'(skema1-7_2011 - 11pl)'!H8*'Skema1-7_2011'!$H$1 -> 400.86905 | I8: =+'(skema1-7_2011 - 11pl)'!I8*'Skema1-7_2011'!$H$1 -> -17954.135 | J8: =+SUM(C8:E8) - SUM(F8:I8) -> 378096.35
A9: 1401 | B9: Frederiksberg Hospital | C9: =+'(skema1-7_2011 - 11pl)'!C9*'Skema1-7_2011'!$H$1 -> 611580.78 | D9: =+'(skema1-7_2011 - 11pl)'!D9*'Skema1-7_2011'!$H$1 -> 18531.442 | E9: =+'(skema1-7_2011 - 11pl)'!E9*'Skema1-7_2011'!$H$1 -> 11558.347 | F9: =+'(skema1-7_2011 - 11pl)'!F9*'Skema1-7_2011'!$H$1 -> 0 | G9: =+'(skema1-7_2011 - 11pl)'!G9*'Skema1-7_2011'!$H$1 -> 0 | H9: =+'(skema1-7_2011 - 11pl)'!H9*'Skema1-7_2011'!$H$1 -> -42832.832 | I9: =+'(skema1-7_2011 - 11pl)'!I9*'Skema1-7_2011'!$H$1 -> -42058.604 | J9: =+SUM(C9:E9) - SUM(F9:I9) -> 726562.01
A10: 1501 | B10: Gentofte Hospital | C10: =+'(skema1-7_2011 - 11pl)'!C10*'Skema1-7_2011'!$H$1 -> 1160979.3 | D10: =+'(skema1-7_2011 - 11pl)'!D10*'Skema1-7_2011'!$H$1 -> 34156.898 | E10: =+'(skema1-7_2011 - 11pl)'!E10*'Skema1-7_2011'!$H$1 -> 21941.484 | F10: =+'(skema1-7_2011 - 11pl)'!F10*'Skema1-7_2011'!$H$1 -> 0 | G10: =+'(skema1-7_2011 - 11pl)'!G10*'Skema1-7_2011'!$H$1 -> 0 | H10: =+'(skema1-7_2011 - 11pl)'!H10*'Skema1-7_2011'!$H$1 -> -41625.019 | I10: =+'(skema1-7_2011 - 11pl)'!I10*'Skema1-7_2011'!$H$1 -> -23682.888 | J10: =+SUM(C10:E10) - SUM(F10:I10) -> 1282385.6
A11: 1502 | B11: Glostrup Hospital | C11: =+'(skema1-7_2011 - 11pl)'!C11*'Skema1-7_2011'!$H$1 -> 1407577.6 | D11: =+'(skema1-7_2011 - 11pl)'!D11*'Skema1-7_2011'!$H$1 -> 44504.426 | E11: =+'(skema1-7_2011 - 11pl)'!E11*'Skema1-7_2011'!$H$1 -> 26601.997 | F11: =+'(skema1-7_2011 - 11pl)'!F11*'Skema1-7_2011'!$H$1 -> 0 | G11: =+'(skema1-7_2011 - 11pl)'!G11*'Skema1-7_2011'!$H$1 -> 0 | H11: =+'(skema1-7_2011 - 11pl)'!H11*'Skema1-7_2011'!$H$1 -> -96153.457 | I11: =+'(skema1-7_2011 - 11pl)'!I11*'Skema1-7_2011'!$H$1 -> 20773.703 | J11: =+SUM(C11:E11) - SUM(F11:I11) -> 1554063.7
A12: 1516 | B12: Herlev Hospital | C12: =+'(skema1-7_2011 - 11pl)'!C12*'Skema1-7_2011'!$H$1 -> 2833598.8 | D12: =+'(skema1-7_2011 - 11pl)'!D12*'Skema1-7_2011'!$H$1 -> 88044.211 | E12: =+'(skema1-7_2011 - 11pl)'!E12*'Skema1-7_2011'!$H$1 -> 53552.543 | F12: =+'(skema1-7_2011 - 11pl)'!F12*'Skema1-7_2011'!$H$1 -> 0 | G12: =+'(skema1-7_2011 - 11pl)'!G12*'Skema1-7_2011'!$H$1 -> 11642.392 | H12: =+'(skema1-7_2011 - 11pl)'!H12*'Skema1-7_2011'!$H$1 -> -101099.61 | I12: =+'(skema1-7_2011 - 11pl)'!I12*'Skema1-7_2011'!$H$1 -> 21073.096 | J12: =+SUM(C12:E12) - SUM(F12:I12) -> 3043579.6
A13: 2000 | B13: Nordsjællands Hospital | C13: =+'(skema1-7_2011 - 11pl)'!C13*'Skema1-7_2011'!$H$1 -> 2334703.5 | D13: =+'(skema1-7_2011 - 11pl)'!D13*'Skema1-7_2011'!$H$1 -> 67616.956 | E13: =+'(skema1-7_2011 - 11pl)'!E13*'Skema1-7_2011'!$H$1 -> 44123.874 | F13: =+'(skema1-7_2011 - 11pl)'!F13*'Skema1-7_2011'!$H$1 -> 0 | G13: =+'(skema1-7_2011 - 11pl)'!G13*'Skema1-7_2011'!$H$1 -> 956.81717 | H13: =+'(skema1-7_2011 - 11pl)'!H13*'Skema1-7_2011'!$H$1 -> 114824.84 | I13: =+'(skema1-7_2011 - 11pl)'!I13*'Skema1-7_2011'!$H$1 -> 5869.0541 | J13: =+SUM(C13:E13) - SUM(F13:I13) -> 2324793.6
A14: 4001 | B14: Bornholms Hospital | C14: =+'(skema1-7_2011 - 11pl)'!C14*'Skema1-7_2011'!$H$1 -> 390300.96 | D14: =+'(skema1-7_2011 - 11pl)'!D14*'Skema1-7_2011'!$H$1 -> 11338.333 | E14: =+'(skema1-7_2011 - 11pl)'!E14*'Skema1-7_2011'!$H$1 -> 7376.3308 | F14: =+'(skema1-7_2011 - 11pl)'!F14*'Skema1-7_2011'!$H$1 -> 0 | G14: =+'(skema1-7_2011 - 11pl)'!G14*'Skema1-7_2011'!$H$1 -> 0 | H14: =+'(skema1-7_2011 - 11pl)'!H14*'Skema1-7_2011'!$H$1 -> 29740.984 | I14: =+'(skema1-7_2011 - 11pl)'!I14*'Skema1-7_2011'!$H$1 -> -440.08169 | J14: =+SUM(C14:E14) - SUM(F14:I14) -> 379714.72
A15: 2500 | B15: Sygehus Nord | C15: =+'(skema1-7_2011 - 11pl)'!C15*'Skema1-7_2011'!$H$1 -> 3377033.1 | D15: =+'(skema1-7_2011 - 11pl)'!D15*'Skema1-7_2011'!$H$1 -> 100779.06 | E15: =+'(skema1-7_2011 - 11pl)'!E15*'Skema1-7_2011'!$H$1 -> 138207.96 | F15: =+'(skema1-7_2011 - 11pl)'!F15*'Skema1-7_2011'!$H$1 -> 4231.98 | G15: =+'(skema1-7_2011 - 11pl)'!G15*'Skema1-7_2011'!$H$1 -> 18019.32 | H15: =+'(skema1-7_2011 - 11pl)'!H15*'Skema1-7_2011'!$H$1 -> 84752.82 | I15: =+'(skema1-7_2011 - 11pl)'!I15*'Skema1-7_2011'!$H$1 -> -43114.273 | J15: =+SUM(C15:E15) - SUM(F15:I15) -> 3552130.3
A16: 2501 | B16: Sygehus Syd | C16: =+'(skema1-7_2011 - 11pl)'!C16*'Skema1-7_2011'!$H$1 -> 3194082.1 | D16: =+'(skema1-7_2011 - 11pl)'!D16*'Skema1-7_2011'!$H$1 -> 97851.66 | E16: =+'(skema1-7_2011 - 11pl)'!E16*'Skema1-7_2011'!$H$1 -> 133506.78 | F16: =+'(skema1-7_2011 - 11pl)'!F16*'Skema1-7_2011'!$H$1 -> 10225.5 | G16: =+'(skema1-7_2011 - 11pl)'!G16*'Skema1-7_2011'!$H$1 -> 10610.04 | H16: =+'(skema1-7_2011 - 11pl)'!H16*'Skema1-7_2011'!$H$1 -> 120895.5 | I16: =+'(skema1-7_2011 - 11pl)'!I16*'Skema1-7_2011'!$H$1 -> 43644.255 | J16: =+SUM(C16:E16) - SUM(F16:I16) -> 3240065.2
... A31: 8005 | B31: Sygehus Himmerland | C31: =+'(skema1-7_2011 - 11pl)'!C31*'Skema1-7_2011'!$H$1 -> 225507.72 | D31: =+'(skema1-7_2011 - 11pl)'!D31*'Skema1-7_2011'!$H$1 -> 8179.38 | E31: =+'(skema1-7_2011 - 11pl)'!E31*'Skema1-7_2011'!$H$1 -> 14828.76 | F31: =+'(skema1-7_2011 - 11pl)'!F31*'Skema1-7_2011'!$H$1 -> 0 | G31: =+'(skema1-7_2011 - 11pl)'!G31*'Skema1-7_2011'!$H$1 -> 570.18 | H31: =+'(skema1-7_2011 - 11pl)'!H31*'Skema1-7_2011'!$H$1 -> 11245.5 | I31: =+'(skema1-7_2011 - 11pl)'!I31*'Skema1-7_2011'!$H$1 -> -10295.88 | J31: =+SUM(C31:E31) - SUM(F31:I31) -> 246996.06
B36: Hele landet | C36: =+SUM(C5:C33) -> 53223760 | D36: =+SUM(D5:D33) -> 1644003.6 | E36: =+SUM(E5:E33) -> 1326751.5 | F36: =+SUM(F5:F33) -> 47186.956 | G36: =+SUM(G5:G33) -> 144729.99 | H36: =+SUM(H5:H33) -> -1099257.3 | I36: =+SUM(I5:I33) -> 74120.917 | J36: =SUM(C36:E36)-SUM(F36:I36) -> 57027735
B38: Hovedstaden | C38: =SUM(C5:C14) -> 16857857 | D38: =SUM(D5:D14) -> 527350.45 | E38: =SUM(E5:E14) -> 318598.84 | F38: =SUM(F5:F14) -> 0 | G38: =SUM(G5:G14) -> 48862.228 | H38: =SUM(H5:H14) -> -2511030.1 | I38: =SUM(I5:I14) -> 15853.835 | J38: =SUM(J5:J14) -> 20150121
B39: Sjælland | C39: =SUM(C15:C16) -> 6571115.2 | D39: =SUM(D15:D16) -> 198630.72 | E39: =SUM(E15:E16) -> 271714.74 | F39: =SUM(F15:F16) -> 14457.48 | G39: =SUM(G15:G16) -> 28629.36 | H39: =SUM(H15:H16) -> 205648.32 | I39: =SUM(I15:I16) -> 529.9818 | J39: =SUM(J15:J16) -> 6792195.5
B40: Syddanmark | C40: =SUM(C17:C22) -> 12293071 | D40: =SUM(D17:D22) -> 250146.84 | E40: =SUM(E17:E22) -> 255343.74 | F40: =SUM(F17:F22) -> 24384.12 | G40: =SUM(G17:G22) -> 12762.24 | H40: =SUM(H17:H22) -> 485785.2 | I40: =SUM(I17:I22) -> 2077.74 | J40: =SUM(J17:J22) -> 12273552
B41: Midtjylland | C41: =SUM(C23:C27) -> 12061601 | D41: =SUM(D23:D27) -> 485088.54 | E41: =SUM(E23:E27) -> 300689.88 | F41: =SUM(F23:F27) -> 5251.98 | G41: =SUM(G23:G27) -> 17844.9 | H41: =SUM(H23:H27) -> 427193.34 | I41: =SUM(I23:I27) -> 55659.36 | J41: =SUM(J23:J27) -> 12341430
B42: Nordjylland | C42: =SUM(C28:C31) -> 5440115.9 | D42: =SUM(D28:D31) -> 182787.06 | E42: =SUM(E28:E31) -> 180404.34 | F42: =SUM(F28:F31) -> 3093.3764 | G42: =SUM(G28:G31) -> 36631.26 | H42: =SUM(H28:H31) -> 293145.96 | I42: =SUM(I28:I31) -> 0 | J42: =SUM(J28:J31) -> 5470436.7
B43: Hele landet | C43: =+SUM(C38:C42) -> 53223760 | D43: =+SUM(D38:D42) -> 1644003.6 | E43: =+SUM(E38:E42) -> 1326751.5 | F43: =+SUM(F38:F42) -> 47186.956 | G43: =+SUM(G38:G42) -> 144729.99 | H43: =+SUM(H38:H42) -> -1099257.3 | I43: =+SUM(I38:I42) -> 74120.917 | J43: =+SUM(J38:J42) -> 57027735

Sheet Skema1-7_2012
A1: =+'Skema1-7_2011'!A1 -> Endelig version -21. februar 2014
A2: Sygehusenes nettodriftsudgifter for 2012, 1.000 kr. 2012 priser
A3: Tabel 2.
A4: Nr. | B4: Sygehus | C4: Skema 1 | D4: Skema 2 | E4: Skema 3 | F4: Skema 4 | G4: Skema 5 | H4: Skema 6 | I4: Skema 7 | J4: Totale driftsudgifter, ekskl. udgifter der ikke bidrager til somatisk patient behandling
A5: 1301 | B5: Rigshospitalet | C5: 4269891.1 | D5: 154572.51 | E5: 275031.75 | F5: 0 | G5: 40242.034 | H5: -1875007.1 | I5: -3401 | J5: =SUM(C5:E5)-SUM(F5:I5) -> 6537661.3
A6: 1309 | B6: Bispebjerg Hospital | C6: 1658913.5 | D6: 24729.115 | E6: 106853.75 | F6: 0 | G6: 2027.788 | H6: -56060.292 | I6: 109557 | J6: =SUM(C6:E6)-SUM(F6:I6) -> 1734971.9
A7: 1330 | B7: Hvidovre Hospital | C7: 1950773 | D7: 32534.176 | E7: 125652.97 | F7: 0 | G7: 3456.2088 | H7: -116002.21 | I7: 72101 | J7: =SUM(C7:E7)-SUM(F7:I7) -> 2149405.1
A8: 1351 | B8: Amager Hospital | C8: 299031.77 | D8: 3184.8456 | E8: 19261.201 | F8: 0 | G8: 0 | H8: -479.871 | I8: -48304 | J8: =SUM(C8:E8)-SUM(F8:I8) -> 370261.69
A9: 1401 | B9: Frederiksberg Hospital | C9: 495725.71 | D9: 10498.626 | E9: 31930.63 | F9: 0 | G9: 0 | H9: -63429.099 | I9: -105026 | J9: =SUM(C9:E9)-SUM(F9:I9) -> 706610.06
A10: 1501 | B10: Gentofte Hospital | C10: 1141839 | D10: 19055.996 | E10: 73548.01 | F10: 0 | G10: 0 | H10: -46172.729 | I10: -13082 | J10: =SUM(C10:E10)-SUM(F10:I10) -> 1293697.8
A11: 1502 | B11: Glostrup Hospital | C11: 1456429.8 | D11: 38220.531 | E11: 93811.398 | F11: 0 | G11: 0 | H11: -139578.75 | I11: -649 | J11: =SUM(C11:E11)-SUM(F11:I11) -> 1728689.5
A12: 1516 | B12: Herlev Hospital | C12: 2881159.3 | D12: 64615.659 | E12: 185580.92 | F12: 0 | G12: 11304.255 | H12: -104898.43 | I12: 40692 | J12: =SUM(C12:E12)-SUM(F12:I12) -> 3184258.1
A13: 2000 | B13: Nordsjællands Hospital | C13: 2266563.8 | D13: 34204.881 | E13: 145993.66 | F13: 0 | G13: 973.51773 | H13: 110267.89 | I13: -31844 | J13: =SUM(C13:E13)-SUM(F13:I13) -> 2367365
A14: 4001 | B14: Bornholms Hospital | C14: 382632.34 | D14: 5995.0408 | E14: 24646.072 | F14: 0 | G14: 0 | H14: 29123 | I14: -1145 | J14: =SUM(C14:E14)-SUM(F14:I14) -> 385295.45
A15: 2500 | B15: Sygehus Nord | C15: 3525217.2 | D15: 111124 | E15: 141290 | F15: 3947 | G15: 20197.975 | H15: 105623.58 | I15: -44834 | J15: =SUM(C15:E15)-SUM(F15:I15) -> 3692696.6
A16: 2501 | B16: Sygehus Syd | C16: 3229582.5 | D16: 104229 | E16: 134553 | F16: 10573 | G16: 8898 | H16: 130012.91 | I16: 44834 | J16: =SUM(C16:E16)-SUM(F16:I16) -> 3274046.6
... A31: 8005 | B31: Sygehus Himmerland | C31: 229981.96 | D31: 13037.624 | E31: 15885.93 | F31: 0 | G31: 602.55819 | H31: 11046 | I31: -6666.1966 | J31: =SUM(C31:E31)-SUM(F31:I31) -> 253923.16
B36: Hele landet | C36: =+SUM(C5:C33) -> 53419888 | D36: =+SUM(D5:D33) -> 1748795.8 | E36: =+SUM(E5:E33) -> 2137728.6 | F36: =+SUM(F5:F33) -> 55557.792 | G36: =+SUM(G5:G33) -> 214769.05 | H36: =+SUM(H5:H33) -> -1405541.5 | I36: =+SUM(I5:I33) -> 64787 | J36: =SUM(C36:E36)-SUM(F36:I36) -> 58376840
B38: Hovedstaden | C38: =SUM(C5:C14) -> 16802959 | D38: =SUM(D5:D14) -> 387611.38 | E38: =SUM(E5:E14) -> 1082310.4 | F38: =SUM(F5:F14) -> 0 | G38: =SUM(G5:G14) -> 58003.803 | H38: =SUM(H5:H14) -> -2262237.5 | I38: =SUM(I5:I14) -> 18899 | J38: =SUM(J5:J14) -> 20458216
B39: Sjælland | C39: =SUM(C15:C16) -> 6754799.7 | D39: =SUM(D15:D16) -> 215353 | E39: =SUM(E15:E16) -> 275843 | F39: =SUM(F15:F16) -> 14520 | G39: =SUM(G15:G16) -> 29095.975 | H39: =SUM(H15:H16) -> 235636.49 | I39: =SUM(I15:I16) -> 0 | J39: =SUM(J15:J16) -> 6966743.3
B40: Syddanmark | C40: =SUM(C17:C22) -> 12597147 | D40: =SUM(D17:D22) -> 395089 | E40: =SUM(E17:E22) -> 266848 | F40: =SUM(F17:F22) -> 31008 | G40: =SUM(G17:G22) -> 31677 | H40: =SUM(H17:H22) -> 509554 | I40: =SUM(I17:I22) -> 608 | J40: =SUM(J17:J22) -> 12686237
B41: Midtjylland | C41: =SUM(C23:C27) -> 11807078 | D41: =SUM(D23:D27) -> 539697 | E41: =SUM(E23:E27) -> 321709 | F41: =SUM(F23:F27) -> 5948 | G41: =SUM(G23:G27) -> 57579 | H41: =SUM(H23:H27) -> -179894.14 | I41: =SUM(I23:I27) -> 45280 | J41: =SUM(J23:J27) -> 12739572
B42: Nordjylland | C42: =SUM(C28:C31) -> 5457903.2 | D42: =SUM(D28:D31) -> 211045.43 | E42: =SUM(E28:E31) -> 191018.21 | F42: =SUM(F28:F31) -> 4081.792 | G42: =SUM(G28:G31) -> 38413.27 | H42: =SUM(H28:H31) -> 291399.69 | I42: =SUM(I28:I31) -> -2.0372681e-10 | J42: =SUM(J28:J31) -> 5526072.1
B43: Hele landet | C43: =+SUM(C38:C42) -> 53419888 | D43: =+SUM(D38:D42) -> 1748795.8 | E43: =+SUM(E38:E42) -> 2137728.6 | F43: =+SUM(F38:F42) -> 55557.792 | G43: =+SUM(G38:G42) -> 214769.05 | H43: =+SUM(H38:H42) -> -1405541.5 | I43: =+SUM(I38:I42) -> 64787 | J43: =+SUM(J38:J42) -> 58376840

Sheet Skema1-7_forskel
A1: ='Skema1-7_2011'!A1 -> Endelig version -21. februar 2014
A2: Sygehusenes nettodriftsudgifter, procentvis ændring fra 2011-2012
A3: Tabel 3.
A4: Nr. | B4: Sygehus | C4: Skema 1 | D4: Skema 2 | E4: Skema 3 | F4: Skema 4 | G4: Skema 5 | H4: Skema 6 | I4: Skema 7 | J4: Totale driftsudgifter, ekskl. udgifter der ikke bidrager til somatisk patient behandling
A5: 1301 | B5: Rigshospitalet | C5: =IF('Skema1-7_2011'!C5=0,"-",'Skema1-7_2012'!C5/'Skema1-7_2011'!C5*100-100) -> 1.7615198 | D5: =IF('Skema1-7_2011'!D5=0,"-",'Skema1-7_2012'!D5/'Skema1-7_2011'!D5*100-100) -> 3.5175632 | E5: =IF('Skema1-7_2011'!E5=0,"-",'Skema1-7_2012'!E5/'Skema1-7_2011'!E5*100-100) -> 246.82287 | F5: =IF('Skema1-7_2011'!F5=0,"-",'Skema1-7_2012'!F5/'Skema1-7_2011'!F5*100-100) -> - | G5: =IF('Skema1-7_2011'!G5=0,"-",'Skema1-7_2012'!G5/'Skema1-7_2011'!G5*100-100) -> 39.372042 | H5: =IF('Skema1-7_2011'!H5=0,"-",'Skema1-7_2012'!H5/'Skema1-7_2011'!H5*100-100) -> -14.955179 | I5: =IF('Skema1-7_2011'!I5=0,"-",'Skema1-7_2012'!I5/'Skema1-7_2011'!I5*100-100) -> 265.19642 | J5: =IF('Skema1-7_2011'!J5=0,"-",'Skema1-7_2012'!J5/'Skema1-7_2011'!J5*100-100) -> -0.96529338
A6: 1309 | B6: Bispebjerg Hospital | C6: =IF('Skema1-7_2011'!C6=0,"-",'Skema1-7_2012'!C6/'Skema1-7_2011'!C6*100-100) -> 0.68685931 | D6: =IF('Skema1-7_2011'!D6=0,"-",'Skema1-7_2012'!D6/'Skema1-7_2011'!D6*100-100) -> -47.730447 | E6: =IF('Skema1-7_2011'!E6=0,"-",'Skema1-7_2012'!E6/'Skema1-7_2011'!E6*100-100) -> 243.16022 | F6: =IF('Skema1-7_2011'!F6=0,"-",'Skema1-7_2012'!F6/'Skema1-7_2011'!F6*100-100) -> - | G6: =IF('Skema1-7_2011'!G6=0,"-",'Skema1-7_2012'!G6/'Skema1-7_2011'!G6*100-100) -> -26.157497 | H6: =IF('Skema1-7_2011'!H6=0,"-",'Skema1-7_2012'!H6/'Skema1-7_2011'!H6*100-100) -> 34.397814 | I6: =IF('Skema1-7_2011'!I6=0,"-",'Skema1-7_2012'!I6/'Skema1-7_2011'!I6*100-100) -> 85.990079 | J6: =IF('Skema1-7_2011'!J6=0,"-",'Skema1-7_2012'!J6/'Skema1-7_2011'!J6*100-100) -> 1.6918513
A7: 1330 | B7: Hvidovre Hospital | C7: =IF('Skema1-7_2011'!C7=0,"-",'Skema1-7_2012'!C7/'Skema1-7_2011'!C7*100-100) -> 1.0237756 | D7: =IF('Skema1-7_2011'!D7=0,"-",'Skema1-7_2012'!D7/'Skema1-7_2011'!D7*100-100) -> -42.955903 | E7: =IF('Skema1-7_2011'!E7=0,"-",'Skema1-7_2012'!E7/'Skema1-7_2011'!E7*100-100) -> 244.30849 | F7: =IF('Skema1-7_2011'!F7=0,"-",'Skema1-7_2012'!F7/'Skema1-7_2011'!F7*100-100) -> - | G7: =IF('Skema1-7_2011'!G7=0,"-",'Skema1-7_2012'!G7/'Skema1-7_2011'!G7*100-100) -> -25.562461 | H7: =IF('Skema1-7_2011'!H7=0,"-",'Skema1-7_2012'!H7/'Skema1-7_2011'!H7*100-100) -> -9.2638083 | I7: =IF('Skema1-7_2011'!I7=0,"-",'Skema1-7_2012'!I7/'Skema1-7_2011'!I7*100-100) -> -1364.9779 | J7: =IF('Skema1-7_2011'!J7=0,"-",'Skema1-7_2012'!J7/'Skema1-7_2011'!J7*100-100) -> -0.18708006
A8: 1351 | B8: Amager Hospital | C8: =IF('Skema1-7_2011'!C8=0,"-",'Skema1-7_2012'!C8/'Skema1-7_2011'!C8*100-100) -> -13.207809 | D8: =IF('Skema1-7_2011'!D8=0,"-",'Skema1-7_2012'!D8/'Skema1-7_2011'!D8*100-100) -> -66.454041 | E8: =IF('Skema1-7_2011'!E8=0,"-",'Skema1-7_2012'!E8/'Skema1-7_2011'!E8*100-100) -> 195.80451 | F8: =IF('Skema1-7_2011'!F8=0,"-",'Skema1-7_2012'!F8/'Skema1-7_2011'!F8*100-100) -> - | G8: =IF('Skema1-7_2011'!G8=0,"-",'Skema1-7_2012'!G8/'Skema1-7_2011'!G8*100-100) -> - | H8: =IF('Skema1-7_2011'!H8=0,"-",'Skema1-7_2012'!H8/'Skema1-7_2011'!H8*100-100) -> -219.70767 | I8: =IF('Skema1-7_2011'!I8=0,"-",'Skema1-7_2012'!I8/'Skema1-7_2011'!I8*100-100) -> 169.04109 | J8: =IF('Skema1-7_2011'!J8=0,"-",'Skema1-7_2012'!J8/'Skema1-7_2011'!J8*100-100) -> -2.0721334
A9: 1401 | B9: Frederiksberg Hospital | C9: =IF('Skema1-7_2011'!C9=0,"-",'Skema1-7_2012'!C9/'Skema1-7_2011'!C9*100-100) -> -18.943543 | D9: =IF('Skema1-7_2011'!D9=0,"-",'Skema1-7_2012'!D9/'Skema1-7_2011'!D9*100-100) -> -43.346959 | E9: =IF('Skema1-7_2011'!E9=0,"-",'Skema1-7_2012'!E9/'Skema1-7_2011'!E9*100-100) -> 176.25602 | F9: =IF('Skema1-7_2011'!F9=0,"-",'Skema1-7_2012'!F9/'Skema1-7_2011'!F9*100-100) -> - | G9: =IF('Skema1-7_2011'!G9=0,"-",'Skema1-7_2012'!G9/'Skema1-7_2011'!G9*100-100) -> - | H9: =IF('Skema1-7_2011'!H9=0,"-",'Skema1-7_2012'!H9/'Skema1-7_2011'!H9*100-100) -> 48.085234 | I9: =IF('Skema1-7_2011'!I9=0,"-",'Skema1-7_2012'!I9/'Skema1-7_2011'!I9*100-100) -> 149.71347 | J9: =IF('Skema1-7_2011'!J9=0,"-",'Skema1-7_2012'!J9/'Skema1-7_2011'!J9*100-100) -> -2.7460754
A10: 1501 | B10: Gentofte Hospital | C10: =IF('Skema1-7_2011'!C10=0,"-",'Skema1-7_2012'!C10/'Skema1-7_2011'!C10*100-100) -> -1.6486313 | D10: =IF('Skema1-7_2011'!D10=0,"-",'Skema1-7_2012'!D10/'Skema1-7_2011'!D10*100-100) -> -44.210403 | E10: =IF('Skema1-7_2011'!E10=0,"-",'Skema1-7_2012'!E10/'Skema1-7_2011'!E10*100-100) -> 235.20071 | F10: =IF('Skema1-7_2011'!F10=0,"-",'Skema1-7_2012'!F10/'Skema1-7_2011'!F10*100-100) -> - | G10: =IF('Skema1-7_2011'!G10=0,"-",'Skema1-7_2012'!G10/'Skema1-7_2011'!G10*100-100) -> - | H10: =IF('Skema1-7_2011'!H10=0,"-",'Skema1-7_2012'!H10/'Skema1-7_2011'!H10*100-100) -> 10.925424 | I10: =IF('Skema1-7_2011'!I10=0,"-",'Skema1-7_2012'!I10/'Skema1-7_2011'!I10*100-100) -> -44.761805 | J10: =IF('Skema1-7_2011'!J10=0,"-",'Skema1-7_2012'!J10/'Skema1-7_2011'!J10*100-100) -> 0.88211976
A11: 1502 | B11: Glostrup Hospital | C11: =IF('Skema1-7_2011'!C11=0,"-",'Skema1-7_2012'!C11/'Skema1-7_2011'!C11*100-100) -> 3.470663 | D11: =IF('Skema1-7_2011'!D11=0,"-",'Skema1-7_2012'!D11/'Skema1-7_2011'!D11*100-100) -> -14.119709 | E11: =IF('Skema1-7_2011'!E11=0,"-",'Skema1-7_2012'!E11/'Skema1-7_2011'!E11*100-100) -> 252.64796 | F11: =IF('Skema1-7_2011'!F11=0,"-",'Skema1-7_2012'!F11/'Skema1-7_2011'!F11*100-100) -> - | G11: =IF('Skema1-7_2011'!G11=0,"-",'Skema1-7_2012'!G11/'Skema1-7_2011'!G11*100-100) -> - | H11: =IF('Skema1-7_2011'!H11=0,"-",'Skema1-7_2012'!H11/'Skema1-7_2011'!H11*100-100) -> 45.162484 | I11: =IF('Skema1-7_2011'!I11=0,"-",'Skema1-7_2012'!I11/'Skema1-7_2011'!I11*100-100) -> -103.12414 | J11: =IF('Skema1-7_2011'!J11=0,"-",'Skema1-7_2012'!J11/'Skema1-7_2011'!J11*100-100) -> 11.236719
A12: 1516 | B12: Herlev Hospital | C12: =IF('Skema1-7_2011'!C12=0,"-",'Skema1-7_2012'!C12/'Skema1-7_2011'!C12*100-100) -> 1.6784513 | D12: =IF('Skema1-7_2011'!D12=0,"-",'Skema1-7_2012'!D12/'Skema1-7_2011'!D12*100-100) -> -26.609986 | E12: =IF('Skema1-7_2011'!E12=0,"-",'Skema1-7_2012'!E12/'Skema1-7_2011'!E12*100-100) -> 246.53988 | F12: =IF('Skema1-7_2011'!F12=0,"-",'Skema1-7_2012'!F12/'Skema1-7_2011'!F12*100-100) -> - | G12: =IF('Skema1-7_2011'!G12=0,"-",'Skema1-7_2012'!G12/'Skema1-7_2011'!G12*100-100) -> -2.9043601 | H12: =IF('Skema1-7_2011'!H12=0,"-",'Skema1-7_2012'!H12/'Skema1-7_2011'!H12*100-100) -> 3.7575014 | I12: =IF('Skema1-7_2011'!I12=0,"-",'Skema1-7_2012'!I12/'Skema1-7_2011'!I12*100-100) -> 93.099297 | J12: =IF('Skema1-7_2011'!J12=0,"-",'Skema1-7_2012'!J12/'Skema1-7_2011'!J12*100-100) -> 4.6221379
A13: 2000 | B13: Nordsjællands Hospital | C13: =IF('Skema1-7_2011'!C13=0,"-",'Skema1-7_2012'!C13/'Skema1-7_2011'!C13*100-100) -> -2.918558 | D13: =IF('Skema1-7_2011'!D13=0,"-",'Skema1-7_2012'!D13/'Skema1-7_2011'!D13*100-100) -> -49.413753 | E13: =IF('Skema1-7_2011'!E13=0,"-",'Skema1-7_2012'!E13/'Skema1-7_2011'!E13*100-100) -> 230.87226 | F13: =IF('Skema1-7_2011'!F13=0,"-",'Skema1-7_2012'!F13/'Skema1-7_2011'!F13*100-100) -> - | G13: =IF('Skema1-7_2011'!G13=0,"-",'Skema1-7_2012'!G13/'Skema1-7_2011'!G13*100-100) -> 1.7454284 | H13: =IF('Skema1-7_2011'!H13=0,"-",'Skema1-7_2012'!H13/'Skema1-7_2011'!H13*100-100) -> -3.9686134 | I13: =IF('Skema1-7_2011'!I13=0,"-",'Skema1-7_2012'!I13/'Skema1-7_2011'!I13*100-100) -> -642.57465 | J13: =IF('Skema1-7_2011'!J13=0,"-",'Skema1-7_2012'!J13/'Skema1-7_2011'!J13*100-100) -> 1.831188
A14: 4001 | B14: Bornholms Hospital | C14: =IF('Skema1-7_2011'!C14=0,"-",'Skema1-7_2012'!C14/'Skema1-7_2011'!C14*100-100) -> -1.9647968 | D14: =IF('Skema1-7_2011'!D14=0,"-",'Skema1-7_2012'!D14/'Skema1-7_2011'!D14*100-100) -> -47.125907 | E14: =IF('Skema1-7_2011'!E14=0,"-",'Skema1-7_2012'!E14/'Skema1-7_2011'!E14*100-100) -> 234.12374 | F14: =IF('Skema1-7_2011'!F14=0,"-",'Skema1-7_2012'!F14/'Skema1-7_2011'!F14*100-100) -> - | G14: =IF('Skema1-7_2011'!G14=0,"-",'Skema1-7_2012'!G14/'Skema1-7_2011'!G14*100-100) -> - | H14: =IF('Skema1-7_2011'!H14=0,"-",'Skema1-7_2012'!H14/'Skema1-7_2011'!H14*100-100) -> -2.0778854 | I14: =IF('Skema1-7_2011'!I14=0,"-",'Skema1-7_2012'!I14/'Skema1-7_2011'!I14*100-100) -> 160.17897 | J14: =IF('Skema1-7_2011'!J14=0,"-",'Skema1-7_2012'!J14/'Skema1-7_2011'!J14*100-100) -> 1.4697165
A15: 2500 | B15: Sygehus Nord | C15: =IF('Skema1-7_2011'!C15=0,"-",'Skema1-7_2012'!C15/'Skema1-7_2011'!C15*100-100) -> 4.3879961 | D15: =IF('Skema1-7_2011'!D15=0,"-",'Skema1-7_2012'!D15/'Skema1-7_2011'!D15*100-100) -> 10.26497 | E15: =IF('Skema1-7_2011'!E15=0,"-",'Skema1-7_2012'!E15/'Skema1-7_2011'!E15*100-100) -> 2.2300018 | F15: =IF('Skema1-7_2011'!F15=0,"-",'Skema1-7_2012'!F15/'Skema1-7_2011'!F15*100-100) -> -6.7339638 | G15: =IF('Skema1-7_2011'!G15=0,"-",'Skema1-7_2012'!G15/'Skema1-7_2011'!G15*100-100) -> 12.090662 | H15: =IF('Skema1-7_2011'!H15=0,"-",'Skema1-7_2012'!H15/'Skema1-7_2011'!H15*100-100) -> 24.625446 | I15: =IF('Skema1-7_2011'!I15=0,"-",'Skema1-7_2012'!I15/'Skema1-7_2011'!I15*100-100) -> 3.9887652 | J15: =IF('Skema1-7_2011'!J15=0,"-",'Skema1-7_2012'!J15/'Skema1-7_2011'!J15*100-100) -> 3.9572409
A16: 2501 | B16: Sygehus Syd | C16: =IF('Skema1-7_2011'!C16=0,"-",'Skema1-7_2012'!C16/'Skema1-7_2011'!C16*100-100) -> 1.1114457 | D16: =IF('Skema1-7_2011'!D16=0,"-",'Skema1-7_2012'!D16/'Skema1-7_2011'!D16*100-100) -> 6.5173549 | E16: =IF('Skema1-7_2011'!E16=0,"-",'Skema1-7_2012'!E16/'Skema1-7_2011'!E16*100-100) -> 0.78364559 | F16: =IF('Skema1-7_2011'!F16=0,"-",'Skema1-7_2012'!F16/'Skema1-7_2011'!F16*100-100) -> 3.3983668 | G16: =IF('Skema1-7_2011'!G16=0,"-",'Skema1-7_2012'!G16/'Skema1-7_2011'!G16*100-100) -> -16.136037 | H16: =IF('Skema1-7_2011'!H16=0,"-",'Skema1-7_2012'!H16/'Skema1-7_2011'!H16*100-100) -> 7.5415628 | I16: =IF('Skema1-7_2011'!I16=0,"-",'Skema1-7_2012'!I16/'Skema1-7_2011'!I16*100-100) -> 2.7260067 | J16: =IF('Skema1-7_2011'!J16=0,"-",'Skema1-7_2012'!J16/'Skema1-7_2011'!J16*100-100) -> 1.0487885
... A31: 8005 | B31: Sygehus Himmerland | C31: =IF('Skema1-7_2011'!C31=0,"-",'Skema1-7_2012'!C31/'Skema1-7_2011'!C31*100-100) -> 1.984076 | D31: =IF('Skema1-7_2011'!D31=0,"-",'Skema1-7_2012'!D31/'Skema1-7_2011'!D31*100-100) -> 59.396243 | E31: =IF('Skema1-7_2011'!E31=0,"-",'Skema1-7_2012'!E31/'Skema1-7_2011'!E31*100-100) -> 7.1291886 | F31: =IF('Skema1-7_2011'!F31=0,"-",'Skema1-7_2012'!F31/'Skema1-7_2011'!F31*100-100) -> - | G31: =IF('Skema1-7_2011'!G31=0,"-",'Skema1-7_2012'!G31/'Skema1-7_2011'!G31*100-100) -> 5.678591 | H31: =IF('Skema1-7_2011'!H31=0,"-",'Skema1-7_2012'!H31/'Skema1-7_2011'!H31*100-100) -> -1.774043 | I31: =IF('Skema1-7_2011'!I31=0,"-",'Skema1-7_2012'!I31/'Skema1-7_2011'!I31*100-100) -> -35.253746 | J31: =IF('Skema1-7_2011'!J31=0,"-",'Skema1-7_2012'!J31/'Skema1-7_2011'!J31*100-100) -> 2.8045377
B36: Hele landet | C36: =IF('Skema1-7_2011'!C36=0,"-",'Skema1-7_2012'!C36/'Skema1-7_2011'!C36*100-100) -> 0.36849592 | D36: =IF('Skema1-7_2011'!D36=0,"-",'Skema1-7_2012'!D36/'Skema1-7_2011'!D36*100-100) -> 6.3742073 | E36: =IF('Skema1-7_2011'!E36=0,"-",'Skema1-7_2012'!E36/'Skema1-7_2011'!E36*100-100) -> 61.125011 | F36: =IF('Skema1-7_2011'!F36=0,"-",'Skema1-7_2012'!F36/'Skema1-7_2011'!F36*100-100) -> 17.739723 | G36: =IF('Skema1-7_2011'!G36=0,"-",'Skema1-7_2012'!G36/'Skema1-7_2011'!G36*100-100) -> 48.392916 | H36: =IF('Skema1-7_2011'!H36=0,"-",'Skema1-7_2012'!H36/'Skema1-7_2011'!H36*100-100) -> 27.862833 | I36: =IF('Skema1-7_2011'!I36=0,"-",'Skema1-7_2012'!I36/'Skema1-7_2011'!I36*100-100) -> -12.592825 | J36: =IF('Skema1-7_2011'!J36=0,"-",'Skema1-7_2012'!J36/'Skema1-7_2011'!J36*100-100) -> 2.3656995
B38: Hovedstaden | C38: =IF('Skema1-7_2011'!C38=0,"-",'Skema1-7_2012'!C38/'Skema1-7_2011'!C38*100-100) -> -0.32565146 | D38: =IF('Skema1-7_2011'!D38=0,"-",'Skema1-7_2012'!D38/'Skema1-7_2011'!D38*100-100) -> -26.498332 | E38: =IF('Skema1-7_2011'!E38=0,"-",'Skema1-7_2012'!E38/'Skema1-7_2011'!E38*100-100) -> 239.70945 | F38: =IF('Skema1-7_2011'!F38=0,"-",'Skema1-7_2012'!F38/'Skema1-7_2011'!F38*100-100) -> - | G38: =IF('Skema1-7_2011'!G38=0,"-",'Skema1-7_2012'!G38/'Skema1-7_2011'!G38*100-100) -> 18.70888 | H38: =IF('Skema1-7_2011'!H38=0,"-",'Skema1-7_2012'!H38/'Skema1-7_2011'!H38*100-100) -> -9.907988 | I38: =IF('Skema1-7_2011'!I38=0,"-",'Skema1-7_2012'!I38/'Skema1-7_2011'!I38*100-100) -> 19.207746 | J38: =IF('Skema1-7_2011'!J38=0,"-",'Skema1-7_2012'!J38/'Skema1-7_2011'!J38*100-100) -> 1.5289997
B39: Sjælland | C39: =IF('Skema1-7_2011'!C39=0,"-",'Skema1-7_2012'!C39/'Skema1-7_2011'!C39*100-100) -> 2.7953333 | D39: =IF('Skema1-7_2011'!D39=0,"-",'Skema1-7_2012'!D39/'Skema1-7_2011'!D39*100-100) -> 8.4187783 | E39: =IF('Skema1-7_2011'!E39=0,"-",'Skema1-7_2012'!E39/'Skema1-7_2011'!E39*100-100) -> 1.5193361 | F39: =IF('Skema1-7_2011'!F39=0,"-",'Skema1-7_2012'!F39/'Skema1-7_2011'!F39*100-100) -> 0.43244051 | G39: =IF('Skema1-7_2011'!G39=0,"-",'Skema1-7_2012'!G39/'Skema1-7_2011'!G39*100-100) -> 1.6298478 | H39: =IF('Skema1-7_2011'!H39=0,"-",'Skema1-7_2012'!H39/'Skema1-7_2011'!H39*100-100) -> 14.582259 | I39: =IF('Skema1-7_2011'!I39=0,"-",'Skema1-7_2012'!I39/'Skema1-7_2011'!I39*100-100) -> -100 | J39: =IF('Skema1-7_2011'!J39=0,"-",'Skema1-7_2012'!J39/'Skema1-7_2011'!J39*100-100) -> 2.5698287
B40: Syddanmark | C40: =IF('Skema1-7_2011'!C40=0,"-",'Skema1-7_2012'!C40/'Skema1-7_2011'!C40*100-100) -> 2.4735594 | D40: =IF('Skema1-7_2011'!D40=0,"-",'Skema1-7_2012'!D40/'Skema1-7_2011'!D40*100-100) -> 57.942831 | E40: =IF('Skema1-7_2011'!E40=0,"-",'Skema1-7_2012'!E40/'Skema1-7_2011'!E40*100-100) -> 4.5054012 | F40: =IF('Skema1-7_2011'!F40=0,"-",'Skema1-7_2012'!F40/'Skema1-7_2011'!F40*100-100) -> 27.164729 | G40: =IF('Skema1-7_2011'!G40=0,"-",'Skema1-7_2012'!G40/'Skema1-7_2011'!G40*100-100) -> 148.20878 | H40: =IF('Skema1-7_2011'!H40=0,"-",'Skema1-7_2012'!H40/'Skema1-7_2011'!H40*100-100) -> 4.8928621 | I40: =IF('Skema1-7_2011'!I40=0,"-",'Skema1-7_2012'!I40/'Skema1-7_2011'!I40*100-100) -> -70.737436 | J40: =IF('Skema1-7_2011'!J40=0,"-",'Skema1-7_2012'!J40/'Skema1-7_2011'!J40*100-100) -> 3.3623936
B41: Midtjylland | C41: =IF('Skema1-7_2011'!C41=0,"-",'Skema1-7_2012'!C41/'Skema1-7_2011'!C41*100-100) -> -2.1101925 | D41: =IF('Skema1-7_2011'!D41=0,"-",'Skema1-7_2012'!D41/'Skema1-7_2011'!D41*100-100) -> 11.257421 | E41: =IF('Skema1-7_2011'!E41=0,"-",'Skema1-7_2012'!E41/'Skema1-7_2011'!E41*100-100) -> 6.9902984 | F41: =IF('Skema1-7_2011'!F41=0,"-",'Skema1-7_2012'!F41/'Skema1-7_2011'!F41*100-100) -> 13.252526 | G41: =IF('Skema1-7_2011'!G41=0,"-",'Skema1-7_2012'!G41/'Skema1-7_2011'!G41*100-100) -> 222.66362 | H41: =IF('Skema1-7_2011'!H41=0,"-",'Skema1-7_2012'!H41/'Skema1-7_2011'!H41*100-100) -> -142.11071 | I41: =IF('Skema1-7_2011'!I41=0,"-",'Skema1-7_2012'!I41/'Skema1-7_2011'!I41*100-100) -> -18.648005 | J41: =IF('Skema1-7_2011'!J41=0,"-",'Skema1-7_2012'!J41/'Skema1-7_2011'!J41*100-100) -> 3.2260547
B42: Nordjylland | C42: =IF('Skema1-7_2011'!C42=0,"-",'Skema1-7_2012'!C42/'Skema1-7_2011'!C42*100-100) -> 0.32696509 | D42: =IF('Skema1-7_2011'!D42=0,"-",'Skema1-7_2012'!D42/'Skema1-7_2011'!D42*100-100) -> 15.459721 | E42: =IF('Skema1-7_2011'!E42=0,"-",'Skema1-7_2012'!E42/'Skema1-7_2011'!E42*100-100) -> 5.8833761 | F42: =IF('Skema1-7_2011'!F42=0,"-",'Skema1-7_2012'!F42/'Skema1-7_2011'!F42*100-100) -> 31.952643 | G42: =IF('Skema1-7_2011'!G42=0,"-",'Skema1-7_2012'!G42/'Skema1-7_2011'!G42*100-100) -> 4.8647259 | H42: =IF('Skema1-7_2011'!H42=0,"-",'Skema1-7_2012'!H42/'Skema1-7_2011'!H42*100-100) -> -0.59570088 | I42: =IF('Skema1-7_2011'!I42=0,"-",'Skema1-7_2012'!I42/'Skema1-7_2011'!I42*100-100) -> - | J42: =IF('Skema1-7_2011'!J42=0,"-",'Skema1-7_2012'!J42/'Skema1-7_2011'!J42*100-100) -> 1.0170187
B43: Hele landet | C43: =IF('Skema1-7_2011'!C43=0,"-",'Skema1-7_2012'!C43/'Skema1-7_2011'!C43*100-100) -> 0.36849592 | D43: =IF('Skema1-7_2011'!D43=0,"-",'Skema1-7_2012'!D43/'Skema1-7_2011'!D43*100-100) -> 6.3742073 | E43: =IF('Skema1-7_2011'!E43=0,"-",'Skema1-7_2012'!E43/'Skema1-7_2011'!E43*100-100) -> 61.125011 | F43: =IF('Skema1-7_2011'!F43=0,"-",'Skema1-7_2012'!F43/'Skema1-7_2011'!F43*100-100) -> 17.739723 | G43: =IF('Skema1-7_2011'!G43=0,"-",'Skema1-7_2012'!G43/'Skema1-7_2011'!G43*100-100) -> 48.392916 | H43: =IF('Skema1-7_2011'!H43=0,"-",'Skema1-7_2012'!H43/'Skema1-7_2011'!H43*100-100) -> 27.862833 | I43: =IF('Skema1-7_2011'!I43=0,"-",'Skema1-7_2012'!I43/'Skema1-7_2011'!I43*100-100) -> -12.592825 | J43: =IF('Skema1-7_2011'!J43=0,"-",'Skema1-7_2012'!J43/'Skema1-7_2011'!J43*100-100) -> 2.3656995

Sheet DTD_11
A1: ='Skema1-7_2011'!A1 -> Endelig version -21. februar 2014
A2: Korrigerede tilrettede driftudgifter for 2011, 1.000 kr. 2012 priser
A3: Tabel 4.
A4: Nr. | B4: Sygehus | C4: Totale driftsudgifter, ekskl. udgifter der ikke bidrager til somatisk patient behandling | D4: Internt finansieret forskning (-) | E4: De tilrettede driftsudgifter (=) | F4: Medicin på ambulante afdelinger (-) | G4: De korrigerede tilrettede driftsudgifter (=)
A5: 1301 | B5: Rigshospitalet | C5: ='Skema1-7_2011'!J5 -> 6601384.1 | D5: 178969.55 | E5: =C5-D5 -> 6422414.5 | F5: 934831.67 | G5: =E5-F5 -> 5487582.8
A6: 1309 | B6: Bispebjerg Hospital | C6: ='Skema1-7_2011'!J6 -> 1706107.1 | D6: 55051.236 | E6: =C6-D6 -> 1651055.8 | F6: 64097.285 | G6: =E6-F6 -> 1586958.5
A7: 1330 | B7: Hvidovre Hospital | C7: ='Skema1-7_2011'!J7 -> 2153433.8 | D7: 64042.658 | E7: =C7-D7 -> 2089391.1 | F7: 135693.66 | G7: =E7-F7 -> 1953697.4
A8: 1351 | B8: Amager Hospital | C8: ='Skema1-7_2011'!J8 -> 378096.35 | D8: 617.1 | E8: =C8-D8 -> 377479.25 | F8: 1776.5926 | G8: =E8-F8 -> 375702.65
A9: 1401 | B9: Frederiksberg Hospital | C9: ='Skema1-7_2011'!J9 -> 726562.01 | D9: 1356.6 | E9: =C9-D9 -> 725205.41 | F9: 60191.443 | G9: =E9-F9 -> 665013.96
A10: 1501 | B10: Gentofte Hospital | C10: ='Skema1-7_2011'!J10 -> 1282385.6 | D10: 32289.359 | E10: =C10-D10 -> 1250096.2 | F10: 68062.402 | G10: =E10-F10 -> 1182033.8
A11: 1502 | B11: Glostrup Hospital | C11: ='Skema1-7_2011'!J11 -> 1554063.7 | D11: 60368.297 | E11: =C11-D11 -> 1493695.4 | F11: 211160.38 | G11: =E11-F11 -> 1282535.1
A12: 1516 | B12: Herlev Hospital | C12: ='Skema1-7_2011'!J12 -> 3043579.6 | D12: 74787.825 | E12: =C12-D12 -> 2968791.8 | F12: 302978.16 | G12: =E12-F12 -> 2665813.7
A13: 2000 | B13: Nordsjællands Hospital | C13: ='Skema1-7_2011'!J13 -> 2324793.6 | D13: 33480.523 | E13: =C13-D13 -> 2291313.1 | F13: 110962.74 | G13: =E13-F13 -> 2180350.4
A14: 4001 | B14: Bornholms Hospital | C14: ='Skema1-7_2011'!J14 -> 379714.72 | D14: 0 | E14: =C14-D14 -> 379714.72 | F14: 22656.371 | G14: =E14-F14 -> 357058.35
A15: 2500 | B15: Sygehus Nord | C15: ='Skema1-7_2011'!J15 -> 3552130.3 | D15: 21404 | E15: =C15-D15 -> 3530726.3 | F15: 314485.05 | G15: =E15-F15 -> 3216241.2
A16: 2501 | B16: Sygehus Syd | C16: ='Skema1-7_2011'!J16 -> 3240065.2 | D16: 13737 | E16: =C16-D16 -> 3226328.2 | F16: 191796.82 | G16: =E16-F16 -> 3034531.4
... A31: 8005 | B31: Sygehus Himmerland | C31: ='Skema1-7_2011'!J31 -> 246996.06 | D31: 0 | E31: =C31-D31 -> 246996.06 | F31: 439.24356 | G31: =E31-F31 -> 246556.82
B36: Hele landet | C36: =SUM(C5:C35) -> 57027735 | D36: =SUM(D5:D35) -> 1149549.2 | E36: =SUM(E5:E35) -> 55878186 | F36: =SUM(F5:F35) -> 4808234.1 | G36: =SUM(G5:G35) -> 51069952
B38: Hovedstaden | C38: =SUM(C5:C14) -> 20150121 | D38: =SUM(D5:D14) -> 500963.15 | E38: =SUM(E5:E14) -> 19649157 | F38: =SUM(F5:F14) -> 1912410.7 | G38: =SUM(G5:G14) -> 17736747
B39: Sjælland | C39: =SUM(C15:C16) -> 6792195.5 | D39: =SUM(D15:D16) -> 35141 | E39: =SUM(E15:E16) -> 6757054.5 | F39: =SUM(F15:F16) -> 506281.87 | G39: =SUM(G15:G16) -> 6250772.6
B40: Syddanmark | C40: =SUM(C17:C22) -> 12273552 | D40: =SUM(D17:D22) -> 243577.02 | E40: =SUM(E17:E22) -> 12029975 | F40: =SUM(F17:F22) -> 955187.77 | G40: =SUM(G17:G22) -> 11074787
B41: Midtjylland | C41: =SUM(C23:C27) -> 12341430 | D41: =SUM(D23:D27) -> 271789.2 | E41: =SUM(E23:E27) -> 12069641 | F41: =SUM(F23:F27) -> 1093385.4 | G41: =SUM(G23:G27) -> 10976256
B42: Nordjylland | C42: =SUM(C28:C31) -> 5470436.7 | D42: =SUM(D28:D31) -> 98078.857 | E42: =SUM(E28:E31) -> 5372357.9 | F42: =SUM(F28:F31) -> 340968.42 | G42: =SUM(G28:G31) -> 5031389.5
B43: Hele landet | C43: =SUM(C38:C42) -> 57027735 | D43: =SUM(D38:D42) -> 1149549.2 | E43: =SUM(E38:E42) -> 55878186 | F43: =SUM(F38:F42) -> 4808234.1 | G43: =SUM(G38:G42) -> 51069952

Sheet DTD_12
A1: ='Skema1-7_2011'!A1 -> Endelig version -21. februar 2014
A2: Korrigerede tilrettede driftudgifter for 2012, 1.000 kr. 2012 priser
A3: Tabel 5.
A4: Nr. | B4: Sygehus | C4: Totale driftsudgifter, ekskl. udgifter der ikke bidrager til somatisk patient behandling | D4: Internt finansieret forskning (-) | E4: De tilrettede driftsudgifter (=) | F4: Medicin på ambulante afdelinger (-) | G4: De korrigerede tilrettede driftsudgifter (=)
A5: 1301 | B5: Rigshospitalet | C5: =+'Skema1-7_2012'!J5 -> 6537661.3 | D5: 168087.96 | E5: =C5-D5 -> 6369573.4 | F5: 912153.65 | G5: =E5-F5 -> 5457419.7
A6: 1309 | B6: Bispebjerg Hospital | C6: =+'Skema1-7_2012'!J6 -> 1734971.9 | D6: 55787.77 | E6: =C6-D6 -> 1679184.1 | F6: 70603.861 | G6: =E6-F6 -> 1608580.2
A7: 1330 | B7: Hvidovre Hospital | C7: =+'Skema1-7_2012'!J7 -> 2149405.1 | D7: 74610.316 | E7: =C7-D7 -> 2074794.8 | F7: 130099.72 | G7: =E7-F7 -> 1944695.1
A8: 1351 | B8: Amager Hospital | C8: =+'Skema1-7_2012'!J8 -> 370261.69 | D8: 0 | E8: =C8-D8 -> 370261.69 | F8: 1075.8528 | G8: =E8-F8 -> 369185.83
A9: 1401 | B9: Frederiksberg Hospital | C9: =+'Skema1-7_2012'!J9 -> 706610.06 | D9: 3477 | E9: =C9-D9 -> 703133.06 | F9: 56935.298 | G9: =E9-F9 -> 646197.77
A10: 1501 | B10: Gentofte Hospital | C10: =+'Skema1-7_2012'!J10 -> 1293697.8 | D10: 19573.795 | E10: =C10-D10 -> 1274124 | F10: 78668.333 | G10: =E10-F10 -> 1195455.6
A11: 1502 | B11: Glostrup Hospital | C11: =+'Skema1-7_2012'!J11 -> 1728689.5 | D11: 44757.578 | E11: =C11-D11 -> 1683931.9 | F11: 251777.25 | G11: =E11-F11 -> 1432154.7
A12: 1516 | B12: Herlev Hospital | C12: =+'Skema1-7_2012'!J12 -> 3184258.1 | D12: 86199.252 | E12: =C12-D12 -> 3098058.8 | F12: 324480.86 | G12: =E12-F12 -> 2773578
A13: 2000 | B13: Nordsjællands Hospital | C13: =+'Skema1-7_2012'!J13 -> 2367365 | D13: 27613.26 | E13: =C13-D13 -> 2339751.7 | F13: 114303.43 | G13: =E13-F13 -> 2225448.3
A14: 4001 | B14: Bornholms Hospital | C14: =+'Skema1-7_2012'!J14 -> 385295.45 | D14: 0 | E14: =C14-D14 -> 385295.45 | F14: 22918.376 | G14: =E14-F14 -> 362377.08
A15: 2500 | B15: Sygehus Nord | C15: =+'Skema1-7_2012'!J15 -> 3692696.6 | D15: 21404 | E15: =C15-D15 -> 3671292.6 | F15: =361485.68249687-1434.912 -> 360050.77 | G15: =E15-F15 -> 3311241.8
A16: 2501 | B16: Sygehus Syd | C16: =+'Skema1-7_2012'!J16 -> 3274046.6 | D16: 13737 | E16: =C16-D16 -> 3260309.6 | F16: =195622.081191913+1434.912 -> 197056.99 | G16: =E16-F16 -> 3063252.6
A17: 4202 | B17: Odense Universitetshospital | C17: =+'Skema1-7_2012'!J17 -> 5998928 | D17: 186602 | E17: =C17-D17 -> 5812326 | F17: 482082.52 | G17: =E17-F17 -> 5330243.5
A18: 5000 | B18: Sygehus Sønderjylland | C18: =+'Skema1-7_2012'!J18 -> 1778828 | D18: 3323 | E18: =C18-D18 -> 1775505 | F18: 101195.02 | G18: =E18-F18 -> 1674310
A19: 5501 | B19: Sydvestjysk Sygehus | C19: =+'Skema1-7_2012'!J19 -> 1730671 | D19: 8495 | E19: =C19-D19 -> 1722176 | F19: 137713.02 | G19: =E19-F19 -> 1584463
A20: 6007 | B20: Fredericia og Kolding Sygehuse | C20: =+'Skema1-7_2012'!J20 -> 1419386 | D20: 8803.2002 | E20: =C20-D20 -> 1410582.8 | F20: 64772.44 | G20: =E20-F20 -> 1345810.4
A21: 6008 | B21: Vejle og Give sygehuse | C21: =+'Skema1-7_2012'!J21 -> 1648736 | D21: 58361.8 | E21: =C21-D21 -> 1590374.2 | F21: 230839.31 | G21: =E21-F21 -> 1359534.9
A22: 6013 | B22: De Vestdanske Friklinikker, Syddanmark | C22: =+'Skema1-7_2012'!J22 -> 109688 | D22: 0 | E22: =C22-D22 -> 109688 | F22: 343.4632 | G22: =E22-F22 -> 109344.54
A23: 6006 | B23: Hospitalsenheden Horsens | C23: =+'Skema1-7_2012'!J23 -> 936997 | D23: 5980 | E23: =C23-D23 -> 931017 | F23: 25751.324 | G23: =E23-F23 -> 905265.68
A24: 6650 | B24: Hospitalsenheden Vest | C24: =+'Skema1-7_2012'!J24 -> 1981261 | D24: 21384 | E24: =C24-D24 -> 1959877 | F24: 164520.78 | G24: =E24-F24 -> 1795356.2
A25: 6620 | B25: Århus Universitetshospital | C25: =+'Skema1-7_2012'!J25 -> 6682320.6 | D25: 248987 | E25: =C25-D25 -> 6433333.6 | F25: 840702.65 | G25: =E25-F25 -> 5592630.9
A26: 7005 | B26: Regionshospitalet Randers | C26: =+'Skema1-7_2012'!J26 -> 986071 | D26: 537 | E26: =C26-D26 -> 985534 | F26: 28249.567 | G26: =E26-F26 -> 957284.43
A27: 6630 | B27: Hospitalsenhed Midt | C27: =+'Skema1-7_2012'!J27 -> 2152922 | D27: 16565 | E27: =C27-D27 -> 2136357 | F27: 128857.7 | G27: =E27-F27 -> 2007499.3
A28: 7603 | B28: Sygehus Thy - Mors | C28: =+'Skema1-7_2012'!J28 -> 387825.84 | D28: 0 | E28: =C28-D28 -> 387825.84 | F28: 4951.7726 | G28: =E28-F28 -> 382874.07
... A31: 8005 | B31: Sygehus Himmerland | C31: =+'Skema1-7_2012'!J31 -> 253923.16 | D31: 0 | E31: =C31-D31 -> 253923.16 | F31: 349.46683 | G31: =E31-F31 -> 253573.69
B36: Hele landet | C36: =SUM(C5:C35) -> 58376840 | D36: =SUM(D5:D35) -> 1186676.6 | E36: =SUM(E5:E35) -> 57190163 | F36: =SUM(F5:F35) -> 5069688 | G36: =SUM(G5:G35) -> 52120475
B38: Hovedstaden | C38: =SUM(C5:C14) -> 20458216 | D38: =SUM(D5:D14) -> 480106.93 | E38: =SUM(E5:E14) -> 19978109 | F38: =SUM(F5:F14) -> 1963016.6 | G38: =SUM(G5:G14) -> 18015092
B39: Sjælland | C39: =SUM(C15:C16) -> 6966743.3 | D39: =SUM(D15:D16) -> 35141 | E39: =SUM(E15:E16) -> 6931602.3 | F39: =SUM(F15:F16) -> 557107.76 | G39: =SUM(G15:G16) -> 6374494.5
B40: Syddanmark | C40: =SUM(C17:C22) -> 12686237 | D40: =SUM(D17:D22) -> 265585 | E40: =SUM(E17:E22) -> 12420652 | F40: =SUM(F17:F22) -> 1016945.8 | G40: =SUM(G17:G22) -> 11403706
B41: Midtjylland | C41: =SUM(C23:C27) -> 12739572 | D41: =SUM(D23:D27) -> 293453 | E41: =SUM(E23:E27) -> 12446119 | F41: =SUM(F23:F27) -> 1188082 | G41: =SUM(G23:G27) -> 11258037
B42: Nordjylland | C42: =SUM(C28:C31) -> 5526072.1 | D42: =SUM(D28:D31) -> 112390.67 | E42: =SUM(E28:E31) -> 5413681.4 | F42: =SUM(F28:F31) -> 344535.79 | G42: =SUM(G28:G31) -> 5069145.6
B43: Hele landet | C43: =SUM(C38:C42) -> 58376840 | D43: =SUM(D38:D42) -> 1186676.6 | E43: =SUM(E38:E42) -> 57190163 | F43: =SUM(F38:F42) -> 5069688 | G43: =SUM(G38:G42) -> 52120475

Sheet DTD_forskel
A1: ='Skema1-7_2011'!A1 -> Endelig version -21. februar 2014
A2: Korrigerede tilrettede driftudgifter, procentvis ændring fra 2011-2012
A3: Tabel 6.
A4: Nr. | B4: Sygehus | C4: Totale driftsudgifter, ekskl. udgifter der ikke bidrager til somatisk patient behandling | D4: Internt finansieret forskning (-) | E4: De tilrettede driftsudgifter (=) | F4: Medicin på ambulante afdelinger (-) | G4: De korrigerede tilrettede driftsudgifter (=)
A5: 1301 | B5: Rigshospitalet | C5: =IF(DTD_11!C5=0,"-",DTD_12!C5/DTD_11!C5*100-100) -> -0.96529338 | D5: =IF(DTD_11!D5=0,"-",DTD_12!D5/DTD_11!D5*100-100) -> -6.080136 | E5: =IF(DTD_11!E5=0,"-",DTD_12!E5/DTD_11!E5*100-100) -> -0.82276115 | F5: =IF(DTD_11!F5=0,"-",DTD_12!F5/DTD_11!F5*100-100) -> -2.4258937 | G5: =IF(DTD_11!G5=0,"-",DTD_12!G5/DTD_11!G5*100-100) -> -0.5496611
A6: 1309 | B6: Bispebjerg Hospital | C6: =IF(DTD_11!C6=0,"-",DTD_12!C6/DTD_11!C6*100-100) -> 1.6918513 | D6: =IF(DTD_11!D6=0,"-",DTD_12!D6/DTD_11!D6*100-100) -> 1.3379064 | E6: =IF(DTD_11!E6=0,"-",DTD_12!E6/DTD_11!E6*100-100) -> 1.7036529 | F6: =IF(DTD_11!F6=0,"-",DTD_12!F6/DTD_11!F6*100-100) -> 10.151094 | G6: =IF(DTD_11!G6=0,"-",DTD_12!G6/DTD_11!G6*100-100) -> 1.3624606
A7: 1330 | B7: Hvidovre Hospital | C7: =IF(DTD_11!C7=0,"-",DTD_12!C7/DTD_11!C7*100-100) -> -0.18708006 | D7: =IF(DTD_11!D7=0,"-",DTD_12!D7/DTD_11!D7*100-100) -> 16.500967 | E7: =IF(DTD_11!E7=0,"-",DTD_12!E7/DTD_11!E7*100-100) -> -0.69859123 | F7: =IF(DTD_11!F7=0,"-",DTD_12!F7/DTD_11!F7*100-100) -> -4.1224785 | G7: =IF(DTD_11!G7=0,"-",DTD_12!G7/DTD_11!G7*100-100) -> -0.46078584
A8: 1351 | B8: Amager Hospital | C8: =IF(DTD_11!C8=0,"-",DTD_12!C8/DTD_11!C8*100-100) -> -2.0721334 | D8: =IF(DTD_11!D8=0,"-",DTD_12!D8/DTD_11!D8*100-100) -> -100 | E8: =IF(DTD_11!E8=0,"-",DTD_12!E8/DTD_11!E8*100-100) -> -1.9120418 | F8: =IF(DTD_11!F8=0,"-",DTD_12!F8/DTD_11!F8*100-100) -> -39.442907 | G8: =IF(DTD_11!G8=0,"-",DTD_12!G8/DTD_11!G8*100-100) -> -1.7345688
A9: 1401 | B9: Frederiksberg Hospital | C9: =IF(DTD_11!C9=0,"-",DTD_12!C9/DTD_11!C9*100-100) -> -2.7460754 | D9: =IF(DTD_11!D9=0,"-",DTD_12!D9/DTD_11!D9*100-100) -> 156.30252 | E9: =IF(DTD_11!E9=0,"-",DTD_12!E9/DTD_11!E9*100-100) -> -3.0435985 | F9: =IF(DTD_11!F9=0,"-",DTD_12!F9/DTD_11!F9*100-100) -> -5.409648 | G9: =IF(DTD_11!G9=0,"-",DTD_12!G9/DTD_11!G9*100-100) -> -2.8294436
A10: 1501 | B10: Gentofte Hospital | C10: =IF(DTD_11!C10=0,"-",DTD_12!C10/DTD_11!C10*100-100) -> 0.88211976 | D10: =IF(DTD_11!D10=0,"-",DTD_12!D10/DTD_11!D10*100-100) -> -39.380045 | E10: =IF(DTD_11!E10=0,"-",DTD_12!E10/DTD_11!E10*100-100) -> 1.9220713 | F10: =IF(DTD_11!F10=0,"-",DTD_12!F10/DTD_11!F10*100-100) -> 15.582657 | G10: =IF(DTD_11!G10=0,"-",DTD_12!G10/DTD_11!G10*100-100) -> 1.1354844
A11: 1502 | B11: Glostrup Hospital | C11: =IF(DTD_11!C11=0,"-",DTD_12!C11/DTD_11!C11*100-100) -> 11.236719 | D11: =IF(DTD_11!D11=0,"-",DTD_12!D11/DTD_11!D11*100-100) -> -25.859136 | E11: =IF(DTD_11!E11=0,"-",DTD_12!E11/DTD_11!E11*100-100) -> 12.735963 | F11: =IF(DTD_11!F11=0,"-",DTD_12!F11/DTD_11!F11*100-100) -> 19.23508 | G11: =IF(DTD_11!G11=0,"-",DTD_12!G11/DTD_11!G11*100-100) -> 11.665928
A12: 1516 | B12: Herlev Hospital | C12: =IF(DTD_11!C12=0,"-",DTD_12!C12/DTD_11!C12*100-100) -> 4.6221379 | D12: =IF(DTD_11!D12=0,"-",DTD_12!D12/DTD_11!D12*100-100) -> 15.258403 | E12: =IF(DTD_11!E12=0,"-",DTD_12!E12/DTD_11!E12*100-100) -> 4.3541962 | F12: =IF(DTD_11!F12=0,"-",DTD_12!F12/DTD_11!F12*100-100) -> 7.0971149 | G12: =IF(DTD_11!G12=0,"-",DTD_12!G12/DTD_11!G12*100-100) -> 4.0424548
A13: 2000 | B13: Nordsjællands Hospital | C13: =IF(DTD_11!C13=0,"-",DTD_12!C13/DTD_11!C13*100-100) -> 1.831188 | D13: =IF(DTD_11!D13=0,"-",DTD_12!D13/DTD_11!D13*100-100) -> -17.524407 | E13: =IF(DTD_11!E13=0,"-",DTD_12!E13/DTD_11!E13*100-100) -> 2.1140107 | F13: =IF(DTD_11!F13=0,"-",DTD_12!F13/DTD_11!F13*100-100) -> 3.0106455 | G13: =IF(DTD_11!G13=0,"-",DTD_12!G13/DTD_11!G13*100-100) -> 2.068379
A14: 4001 | B14: Bornholms Hospital | C14: =IF(DTD_11!C14=0,"-",DTD_12!C14/DTD_11!C14*100-100) -> 1.4697165 | D14: =IF(DTD_11!D14=0,"-",DTD_12!D14/DTD_11!D14*100-100) -> - | E14: =IF(DTD_11!E14=0,"-",DTD_12!E14/DTD_11!E14*100-100) -> 1.4697165 | F14: =IF(DTD_11!F14=0,"-",DTD_12!F14/DTD_11!F14*100-100) -> 1.1564283 | G14: =IF(DTD_11!G14=0,"-",DTD_12!G14/DTD_11!G14*100-100) -> 1.4895955
A15: 2500 | B15: Sygehus Nord | C15: =IF(DTD_11!C15=0,"-",DTD_12!C15/DTD_11!C15*100-100) -> 3.9572409 | D15: =IF(DTD_11!D15=0,"-",DTD_12!D15/DTD_11!D15*100-100) -> 0 | E15: =IF(DTD_11!E15=0,"-",DTD_12!E15/DTD_11!E15*100-100) -> 3.9812306 | F15: =IF(DTD_11!F15=0,"-",DTD_12!F15/DTD_11!F15*100-100) -> 14.488996 | G15: =IF(DTD_11!G15=0,"-",DTD_12!G15/DTD_11!G15*100-100) -> 2.9537781
A16: 2501 | B16: Sygehus Syd | C16: =IF(DTD_11!C16=0,"-",DTD_12!C16/DTD_11!C16*100-100) -> 1.0487885 | D16: =IF(DTD_11!D16=0,"-",DTD_12!D16/DTD_11!D16*100-100) -> 0 | E16: =IF(DTD_11!E16=0,"-",DTD_12!E16/DTD_11!E16*100-100) -> 1.0532541 | F16: =IF(DTD_11!F16=0,"-",DTD_12!F16/DTD_11!F16*100-100) -> 2.7425761 | G16: =IF(DTD_11!G16=0,"-",DTD_12!G16/DTD_11!G16*100-100) -> 0.94648087
... A31: 8005 | B31: Sygehus Himmerland | C31: =IF(DTD_11!C31=0,"-",DTD_12!C31/DTD_11!C31*100-100) -> 2.8045377 | D31: =IF(DTD_11!D31=0,"-",DTD_12!D31/DTD_11!D31*100-100) -> - | E31: =IF(DTD_11!E31=0,"-",DTD_12!E31/DTD_11!E31*100-100) -> 2.8045377 | F31: =IF(DTD_11!F31=0,"-",DTD_12!F31/DTD_11!F31*100-100) -> -20.438941 | G31: =IF(DTD_11!G31=0,"-",DTD_12!G31/DTD_11!G31*100-100) -> 2.8459462
B36: Hele landet | C36: =IF(DTD_11!C36=0,"-",DTD_12!C36/DTD_11!C36*100-100) -> 2.3656995 | D36: =IF(DTD_11!D36=0,"-",DTD_12!D36/DTD_11!D36*100-100) -> 3.2297329 | E36: =IF(DTD_11!E36=0,"-",DTD_12!E36/DTD_11!E36*100-100) -> 2.3479243 | F36: =IF(DTD_11!F36=0,"-",DTD_12!F36/DTD_11!F36*100-100) -> 5.4376271 | G36: =IF(DTD_11!G36=0,"-",DTD_12!G36/DTD_11!G36*100-100) -> 2.0570289
B38: Hovedstaden | C38: =IF(DTD_11!C38=0,"-",DTD_12!C38/DTD_11!C38*100-100) -> 1.5289997 | D38: =IF(DTD_11!D38=0,"-",DTD_12!D38/DTD_11!D38*100-100) -> -4.1632243 | E38: =IF(DTD_11!E38=0,"-",DTD_12!E38/DTD_11!E38*100-100) -> 1.6741253 | F38: =IF(DTD_11!F38=0,"-",DTD_12!F38/DTD_11!F38*100-100) -> 2.6461854 | G38: =IF(DTD_11!G38=0,"-",DTD_12!G38/DTD_11!G38*100-100) -> 1.5693159
B39: Sjælland | C39: =IF(DTD_11!C39=0,"-",DTD_12!C39/DTD_11!C39*100-100) -> 2.5698287 | D39: =IF(DTD_11!D39=0,"-",DTD_12!D39/DTD_11!D39*100-100) -> 0 | E39: =IF(DTD_11!E39=0,"-",DTD_12!E39/DTD_11!E39*100-100) -> 2.5831934 | F39: =IF(DTD_11!F39=0,"-",DTD_12!F39/DTD_11!F39*100-100) -> 10.039052 | G39: =IF(DTD_11!G39=0,"-",DTD_12!G39/DTD_11!G39*100-100) -> 1.9793055
B40: Syddanmark | C40: =IF(DTD_11!C40=0,"-",DTD_12!C40/DTD_11!C40*100-100) -> 3.3623936 | D40: =IF(DTD_11!D40=0,"-",DTD_12!D40/DTD_11!D40*100-100) -> 9.0353269 | E40: =IF(DTD_11!E40=0,"-",DTD_12!E40/DTD_11!E40*100-100) -> 3.2475308 | F40: =IF(DTD_11!F40=0,"-",DTD_12!F40/DTD_11!F40*100-100) -> 6.4655363 | G40: =IF(DTD_11!G40=0,"-",DTD_12!G40/DTD_11!G40*100-100) -> 2.9699815
B41: Midtjylland | C41: =IF(DTD_11!C41=0,"-",DTD_12!C41/DTD_11!C41*100-100) -> 3.2260547 | D41: =IF(DTD_11!D41=0,"-",DTD_12!D41/DTD_11!D41*100-100) -> 7.9708097 | E41: =IF(DTD_11!E41=0,"-",DTD_12!E41/DTD_11!E41*100-100) -> 3.1192103 | F41: =IF(DTD_11!F41=0,"-",DTD_12!F41/DTD_11!F41*100-100) -> 8.6608644 | G41: =IF(DTD_11!G41=0,"-",DTD_12!G41/DTD_11!G41*100-100) -> 2.5671857
B42: Nordjylland | C42: =IF(DTD_11!C42=0,"-",DTD_12!C42/DTD_11!C42*100-100) -> 1.0170187 | D42: =IF(DTD_11!D42=0,"-",DTD_12!D42/DTD_11!D42*100-100) -> 14.592146 | E42: =IF(DTD_11!E42=0,"-",DTD_12!E42/DTD_11!E42*100-100) -> 0.76918838 | F42: =IF(DTD_11!F42=0,"-",DTD_12!F42/DTD_11!F42*100-100) -> 1.046248 | G42: =IF(DTD_11!G42=0,"-",DTD_12!G42/DTD_11!G42*100-100) -> 0.75041254
B43: Hele landet | C43: =IF(DTD_11!C43=0,"-",DTD_12!C43/DTD_11!C43*100-100) -> 2.3656995 | D43: =IF(DTD_11!D43=0,"-",DTD_12!D43/DTD_11!D43*100-100) -> 3.2297329 | E43: =IF(DTD_11!E43=0,"-",DTD_12!E43/DTD_11!E43*100-100) -> 2.3479243 | F43: =IF(DTD_11!F43=0,"-",DTD_12!F43/DTD_11!F43*100-100) -> 5.4376271 | G43: =IF(DTD_11!G43=0,"-",DTD_12!G43/DTD_11!G43*100-100) -> 2.0570289

Sheet DRG_11
A1: ='Skema1-7_2011'!A1 -> Endelig version -21. februar 2014
A2: Korrigeret produktionsværdi, 2011-aktivitet med LPR pr. 10. marts 2012, 1.000 kr., 2012-takstsystem
A3: Tabel 7.
A4: Nr. | B4: Sygehus | C4: Stationær produktions-værdi inkl. genoptræning | D4: Ambulant produktions-værdi inkl. genoptræning | E4: Ukorrigeret produktions-værdi i alt (=) | F4: Medicin på ambulante afdelinger (-) | G4: Korrektion for forskelle i organisering (-) | H4: Regionsspeci-fikke korrektioner (-) | I4: Korrigeret produktions-værdi (=)
A5: 1301 | B5: Rigshospitalet | C5: 4234567 | D5: 2342138 | E5: =C5+D5 -> 6576705 | F5: 666594 | G5: -22984 | I5: =E5-SUM(F5:H5) -> 5933095
A6: 1309 | B6: Bispebjerg Hospital | C6: 1227180 | D6: 571090 | E6: =C6+D6 -> 1798270 | F6: 44822 | G6: -7074 | H6: 1238 | I6: =E6-SUM(F6:H6) -> 1759284
A7: 1330 | B7: Hvidovre Hospital | C7: 1625994 | D7: 701429 | E7: =C7+D7 -> 2327423 | F7: 63562 | G7: -9236 | H7: 25242 | I7: =E7-SUM(F7:H7) -> 2247855
A8: 1351 | B8: Amager Hospital | C8: 263101 | D8: 89774 | E8: =C8+D8 -> 352875 | F8: 295 | G8: -1521 | H8: 0 | I8: =E8-SUM(F8:H8) -> 354101
A9: 1401 | B9: Frederiksberg Hospital | C9: 458219 | D9: 327862 | E9: =C9+D9 -> 786081 | F9: 76822 | G9: -2611 | H9: 0 | I9: =E9-SUM(F9:H9) -> 711870
A10: 1501 | B10: Gentofte Hospital | C10: 746714 | D10: 583835 | E10: =C10+D10 -> 1330549 | F10: 99858 | G10: -6780 | H10: 9643 | I10: =E10-SUM(F10:H10) -> 1227828
A11: 1502 | B11: Glostrup Hospital | C11: 848319 | D11: 751442 | E11: =C11+D11 -> 1599761 | F11: 217861 | G11: -2785 | H11: 0 | I11: =E11-SUM(F11:H11) -> 1384685
A12: 1516 | B12: Herlev Hospital | C12: 1984333 | D12: 1686532 | E12: =C12+D12 -> 3670865 | F12: 471769 | G12: -11191 | H12: 6562 | I12: =E12-SUM(F12:H12) -> 3203725
A13: 2000 | B13: Nordsjællands Hospital | C13: 1598702 | D13: 825260 | E13: =C13+D13 -> 2423962 | F13: 126049 | G13: -9330 | H13: 1984 | I13: =E13-SUM(F13:H13) -> 2305259
A14: 4001 | B14: Bornholms Hospital | C14: 193136 | D14: 123550 | E14: =C14+D14 -> 316686 | F14: 14099 | G14: -1105 | H14: 0 | I14: =E14-SUM(F14:H14) -> 303692
A15: 2500 | B15: Sygehus Nord | C15: 2404335 | D15: 1526913 | E15: =C15+D15 -> 3931248 | F15: 320963 | G15: -45906 | H15: 10009 | I15: =E15-SUM(F15:H15) -> 3646182
A16: 2501 | B16: Sygehus Syd | C16: 2103209 | D16: 1253359 | E16: =C16+D16 -> 3356568 | F16: 261204 | G16: -44280 | H16: 5891 | I16: =E16-SUM(F16:H16) -> 3133753
A17: 4202 | B17: Odense Universitetshospital | C17: 3631999 | D17: 2715906 | E17: =C17+D17 -> 6347905 | F17: 505010 | G17: 43135 | H17: 26263 | I17: =E17-SUM(F17:H17) -> 5773497
... A31: 8005 | B31: Sygehus Himmerland | C31: 213412 | D31: 47046 | E31: =C31+D31 -> 260458 | F31: 183 | G31: -1236 | H31: 0 | I31: =E31-SUM(F31:H31) -> 261511
B36: Hele landet | C36: =SUM(C5:C35) -> 36738348 | D36: =SUM(D5:D35) -> 24456962 | E36: =SUM(E5:E35) -> 61195310 | F36: =SUM(F5:F35) -> 4656684 | G36: 0 | H36: =SUM(H5:H35) -> 263087 | I36: =SUM(I5:I35) -> 56275540
B38: Hovedstaden | C38: =SUM(C5:C14) -> 13180265 | D38: =SUM(D5:D14) -> 8002912 | E38: =SUM(E5:E14) -> 21183177 | F38: =SUM(F5:F14) -> 1781731 | G38: =SUM(G5:G14) -> -74617 | H38: =SUM(H5:H14) -> 44669 | I38: =SUM(I5:I14) -> 19431394
B39: Sjælland | C39: =SUM(C15:C16) -> 4507544 | D39: =SUM(D15:D16) -> 2780272 | E39: =SUM(E15:E16) -> 7287816 | F39: =SUM(F15:F16) -> 582167 | G39: =SUM(G15:G16) -> -90186 | H39: =SUM(H15:H16) -> 15900 | I39: =SUM(I15:I16) -> 6779935
B40: Syddanmark | C40: =SUM(C17:C22) -> 7495660 | D40: =SUM(D17:D22) -> 6352831 | E40: =SUM(E17:E22) -> 13848491 | F40: =SUM(F17:F22) -> 1137078 | G40: =SUM(G17:G22) -> 58463 | H40: =SUM(H17:H22) -> 34031 | I40: =SUM(I17:I22) -> 12618919
B41: Midtjylland | C41: =SUM(C23:C27) -> 8006928 | D41: =SUM(D23:D27) -> 5155124 | E41: =SUM(E23:E27) -> 13162052 | F41: =SUM(F23:F27) -> 832612 | G41: =SUM(G23:G27) -> 118311 | H41: =SUM(H23:H27) -> 102928 | I41: =SUM(I23:I27) -> 12108201
B42: Nordjylland | C42: =SUM(C28:C31) -> 3547951 | D42: =SUM(D28:D31) -> 2165823 | E42: =SUM(E28:E31) -> 5713774 | F42: =SUM(F28:F31) -> 323096 | G42: =SUM(G28:G31) -> -11972 | H42: =SUM(H28:H31) -> 65559 | I42: =SUM(I28:I31) -> 5337091
B43: Hele landet | C43: =SUM(C38:C42) -> 36738348 | D43: =SUM(D38:D42) -> 24456962 | E43: =SUM(E38:E42) -> 61195310 | F43: =SUM(F38:F42) -> 4656684 | G43: 0 | H43: 0 | I43: =SUM(I38:I42) -> 56275540

Sheet DRG_12
A1: ='Skema1-7_2011'!A1 -> Endelig version -21. februar 2014
A2: Korrigeret produktionsværdi, 2012-aktivitet med LPR pr. 10. marts 2013, 1.000 kr., 2012-takstsystem
A3: Tabel 8.
A4: Nr. | B4: Sygehus | C4: Stationær produktions-værdi inkl. genoptræning | D4: Ambulant produktions-værdi inkl. genoptræning | E4: Ukorrigeret produktions-værdi i alt (=) | F4: Medicin på ambulante afdelinger (-) | G4: Korrektion for forskelle i organisering (-) | H4: Regionsspeci-fikke korrektioner (-) | I4: Korrigeret produktions-værdi (=)
A5: 1301 | B5: Rigshospitalet | C5: 4376597 | D5: 2439359 | E5: =C5+D5 -> 6815956 | F5: 687638 | G5: -10934 | I5: =E5-SUM(F5:H5) -> 6139252
A6: 1309 | B6: Bispebjerg Hospital | C6: 1286249 | D6: 598334 | E6: =C6+D6 -> 1884583 | F6: 40035 | G6: -2770 | I6: =E6-SUM(F6:H6) -> 1847318
A7: 1330 | B7: Hvidovre Hospital | C7: 1659578 | D7: 696385 | E7: =C7+D7 -> 2355963 | F7: 61549 | G7: -4286 | I7: =E7-SUM(F7:H7) -> 2298700
A8: 1351 | B8: Amager Hospital | C8: 301985 | D8: 84063 | E8: =C8+D8 -> 386048 | F8: 439 | G8: -644 | I8: =E8-SUM(F8:H8) -> 386253
A9: 1401 | B9: Frederiksberg Hospital | C9: 456596 | D9: 343692 | E9: =C9+D9 -> 800288 | F9: 82340 | G9: -965 | I9: =E9-SUM(F9:H9) -> 718913
A10: 1501 | B10: Gentofte Hospital | C10: 734605 | D10: 618734 | E10: =C10+D10 -> 1353339 | F10: 117449 | G10: -1768 | I10: =E10-SUM(F10:H10) -> 1237658
A11: 1502 | B11: Glostrup Hospital | C11: 967505 | D11: 888249 | E11: =C11+D11 -> 1855754 | F11: 275710 | G11: -4881 | I11: =E11-SUM(F11:H11) -> 1584925
A12: 1516 | B12: Herlev Hospital | C12: 2128390 | D12: 1783518 | E12: =C12+D12 -> 3911908 | F12: 509163 | G12: -4633 | I12: =E12-SUM(F12:H12) -> 3407378
A13: 2000 | B13: Nordsjællands Hospital | C13: 1651420 | D13: 859901 | E13: =C13+D13 -> 2511321 | F13: 124832 | G13: -3624 | I13: =E13-SUM(F13:H13) -> 2390113
A14: 4001 | B14: Bornholms Hospital | C14: 206345 | D14: 129879 | E14: =C14+D14 -> 336224 | F14: 14636 | G14: -446 | I14: =E14-SUM(F14:H14) -> 322034
A15: 2500 | B15: Sygehus Nord | C15: 2385830 | D15: 1660491 | E15: =C15+D15 -> 4046321 | F15: 392697 | G15: -40865 | I15: =E15-SUM(F15:H15) -> 3694489
A16: 2501 | B16: Sygehus Syd | C16: 2233097 | D16: 1377759 | E16: =C16+D16 -> 3610856 | F16: 340345 | G16: -36174 | I16: =E16-SUM(F16:H16) -> 3306685
... A26: 7005 | B26: Regionshospitalet Randers | C26: 715351 | D26: 466136 | E26: =C26+D26 -> 1181487 | F26: 20677 | G26: -1550 | I26: =E26-SUM(F26:H26) -> 1162360
A27: 6630 | B27: Hospitalsenhed Midt | C27: 1390938 | D27: 969448 | E27: =C27+D27 -> 2360386 | F27: 133330 | G27: 11683 | H27: -10920 | I27: =E27-SUM(F27:H27) -> 2226293
A28: 7603 | B28: Sygehus Thy - Mors | C28: 253811 | D28: 132113 | E28: =C28+D28 -> 385924 | F28: 541 | G28: -2494 | I28: =E28-SUM(F28:H28) -> 387877
A29: 8001 | B29: Aalborg sygehus | C29: 2356498 | D29: 1777503 | E29: =C29+D29 -> 4134001 | F29: 365625 | G29: -3587 | I29: =E29-SUM(F29:H29) -> 3771963
A30: 8003 | B30: Sygehus Vendsyssel | C30: 687282 | D30: 383756 | E30: =C30+D30 -> 1071038 | F30: 72726 | G30: -1526 | I30: =E30-SUM(F30:H30) -> 999838
A31: 8005 | B31: Sygehus Himmerland | C31: 219939 | D31: 49091 | E31: =C31+D31 -> 269030 | F31: 161 | G31: -475 | I31: =E31-SUM(F31:H31) -> 269344
B36: Hele landet | C36: =SUM(C5:C35) -> 37414182 | D36: =SUM(D5:D35) -> 26132858 | E36: =SUM(E5:E35) -> 63547040 | F36: =SUM(F5:F35) -> 5343652 | G36: 0 | H36: =SUM(H5:H35) -> -10920 | I36: =SUM(I5:I35) -> 58214312
B38: Hovedstaden | C38: =SUM(C5:C14) -> 13769270 | D38: =SUM(D5:D14) -> 8442114 | E38: =SUM(E5:E14) -> 22211384 | F38: =SUM(F5:F14) -> 1913791 | G38: =SUM(G5:G14) -> -34951 | H38: =SUM(H5:H14) -> 0 | I38: =SUM(I5:I14) -> 20332544
B39: Sjælland | C39: =SUM(C15:C16) -> 4618927 | D39: =SUM(D15:D16) -> 3038250 | E39: =SUM(E15:E16) -> 7657177 | F39: =SUM(F15:F16) -> 733042 | G39: =SUM(G15:G16) -> -77039 | H39: =SUM(H15:H16) -> 0 | I39: =SUM(I15:I16) -> 7001174
B40: Syddanmark | C40: =SUM(C17:C22) -> 7460083 | D40: =SUM(D17:D22) -> 6787633 | E40: =SUM(E17:E22) -> 14247716 | F40: =SUM(F17:F22) -> 1218903 | G40: =SUM(G17:G22) -> 78675 | H40: =SUM(H17:H22) -> 0 | I40: =SUM(I17:I22) -> 12950138
B41: Midtjylland | C41: =SUM(C23:C27) -> 8048372 | D41: =SUM(D23:D27) -> 5522398 | E41: =SUM(E23:E27) -> 13570770 | F41: =SUM(F23:F27) -> 1038863 | G41: =SUM(G23:G27) -> 41393 | H41: =SUM(H23:H27) -> -10920 | I41: =SUM(I23:I27) -> 12501434
B42: Nordjylland | C42: =SUM(C28:C31) -> 3517530 | D42: =SUM(D28:D31) -> 2342463 | E42: =SUM(E28:E31) -> 5859993 | F42: =SUM(F28:F31) -> 439053 | G42: =SUM(G28:G31) -> -8082 | H42: =SUM(H28:H31) -> 0 | I42: =SUM(I28:I31) -> 5429022
B43: Hele landet | C43: =SUM(C38:C42) -> 37414182 | D43: =SUM(D38:D42) -> 26132858 | E43: =SUM(E38:E42) -> 63547040 | F43: =SUM(F38:F42) -> 5343652 | G43: 0 | H43: =SUM(H38:H42) -> -10920 | I43: =SUM(I38:I42) -> 58214312

Sheet DRG_forskel
A1: ='Skema1-7_2011'!A1 -> Endelig version -21. februar 2014
A2: Korrigeret produktionsværdi, procentvis ændring fra 2011-2012
A3: Tabel 9.
A4: Nr. | B4: Sygehus | C4: Stationær produktions-værdi inkl. genoptræning | D4: Ambulant produktions-værdi inkl. genoptræning | E4: Ukorrigeret produktions-værdi i alt (=) | F4: Medicin på ambulante afdelinger (-) | G4: Korrektion for forskelle i organisering (-) | H4: Korrigeret produktions-værdi (=)
A5: 1301 | B5: Rigshospitalet | C5: =IF(DRG_11!C5=0,"-",DRG_12!C5/DRG_11!C5*100-100) -> 3.3540619 | D5: =IF(DRG_11!D5=0,"-",DRG_12!D5/DRG_11!D5*100-100) -> 4.150951 | E5: =IF(DRG_11!E5=0,"-",DRG_12!E5/DRG_11!E5*100-100) -> 3.6378551 | F5: =IF(DRG_11!F5=0,"-",DRG_12!F5/DRG_11!F5*100-100) -> 3.1569441 | G5: =IF(DRG_12!G5=0,"-",DRG_12!G5/DRG_11!G5*100-100) -> -52.427776 | H5: =IF(DRG_11!I5=0,"-",DRG_12!I5/DRG_11!I5*100-100) -> 3.4746958
A6: 1309 | B6: Bispebjerg Hospital | C6: =IF(DRG_11!C6=0,"-",DRG_12!C6/DRG_11!C6*100-100) -> 4.8133933 | D6: =IF(DRG_11!D6=0,"-",DRG_12!D6/DRG_11!D6*100-100) -> 4.7705265 | E6: =IF(DRG_11!E6=0,"-",DRG_12!E6/DRG_11!E6*100-100) -> 4.7997798 | F6: =IF(DRG_11!F6=0,"-",DRG_12!F6/DRG_11!F6*100-100) -> -10.680023 | G6: =IF(DRG_12!G6=0,"-",DRG_12!G6/DRG_11!G6*100-100) -> -60.842522 | H6: =IF(DRG_11!I6=0,"-",DRG_12!I6/DRG_11!I6*100-100) -> 5.0039675
A7: 1330 | B7: Hvidovre Hospital | C7: =IF(DRG_11!C7=0,"-",DRG_12!C7/DRG_11!C7*100-100) -> 2.0654443 | D7: =IF(DRG_11!D7=0,"-",DRG_12!D7/DRG_11!D7*100-100) -> -0.71910343 | E7: =IF(DRG_11!E7=0,"-",DRG_12!E7/DRG_11!E7*100-100) -> 1.2262489 | F7: =IF(DRG_11!F7=0,"-",DRG_12!F7/DRG_11!F7*100-100) -> -3.1669866 | G7: =IF(DRG_12!G7=0,"-",DRG_12!G7/DRG_11!G7*100-100) -> -53.59463 | H7: =IF(DRG_11!I7=0,"-",DRG_12!I7/DRG_11!I7*100-100) -> 2.2619342
A8: 1351 | B8: Amager Hospital | C8: =IF(DRG_11!C8=0,"-",DRG_12!C8/DRG_11!C8*100-100) -> 14.779115 | D8: =IF(DRG_11!D8=0,"-",DRG_12!D8/DRG_11!D8*100-100) -> -6.3615301 | E8: =IF(DRG_11!E8=0,"-",DRG_12!E8/DRG_11!E8*100-100) -> 9.4007793 | F8: =IF(DRG_11!F8=0,"-",DRG_12!F8/DRG_11!F8*100-100) -> 48.813559 | G8: =IF(DRG_12!G8=0,"-",DRG_12!G8/DRG_11!G8*100-100) -> -57.659435 | H8: =IF(DRG_11!I8=0,"-",DRG_12!I8/DRG_11!I8*100-100) -> 9.0798953
A9: 1401 | B9: Frederiksberg Hospital | C9: =IF(DRG_11!C9=0,"-",DRG_12!C9/DRG_11!C9*100-100) -> -0.35419745 | D9: =IF(DRG_11!D9=0,"-",DRG_12!D9/DRG_11!D9*100-100) -> 4.8282509 | E9: =IF(DRG_11!E9=0,"-",DRG_12!E9/DRG_11!E9*100-100) -> 1.8073201 | F9: =IF(DRG_11!F9=0,"-",DRG_12!F9/DRG_11!F9*100-100) -> 7.1828382 | G9: =IF(DRG_12!G9=0,"-",DRG_12!G9/DRG_11!G9*100-100) -> -63.04098 | H9: =IF(DRG_11!I9=0,"-",DRG_12!I9/DRG_11!I9*100-100) -> 0.98936604
A10: 1501 | B10: Gentofte Hospital | C10: =IF(DRG_11!C10=0,"-",DRG_12!C10/DRG_11!C10*100-100) -> -1.6216383 | D10: =IF(DRG_11!D10=0,"-",DRG_12!D10/DRG_11!D10*100-100) -> 5.977545 | E10: =IF(DRG_11!E10=0,"-",DRG_12!E10/DRG_11!E10*100-100) -> 1.7128268 | F10: =IF(DRG_11!F10=0,"-",DRG_12!F10/DRG_11!F10*100-100) -> 17.616015 | G10: =IF(DRG_12!G10=0,"-",DRG_12!G10/DRG_11!G10*100-100) -> -73.923304 | H10: =IF(DRG_11!I10=0,"-",DRG_12!I10/DRG_11!I10*100-100) -> 0.80060074
A11: 1502 | B11: Glostrup Hospital | C11: =IF(DRG_11!C11=0,"-",DRG_12!C11/DRG_11!C11*100-100) -> 14.049668 | D11: =IF(DRG_11!D11=0,"-",DRG_12!D11/DRG_11!D11*100-100) -> 18.205929 | E11: =IF(DRG_11!E11=0,"-",DRG_12!E11/DRG_11!E11*100-100) -> 16.001953 | F11: =IF(DRG_11!F11=0,"-",DRG_12!F11/DRG_11!F11*100-100) -> 26.553169 | G11: =IF(DRG_12!G11=0,"-",DRG_12!G11/DRG_11!G11*100-100) -> 75.260323 | H11: =IF(DRG_11!I11=0,"-",DRG_12!I11/DRG_11!I11*100-100) -> 14.461051
A12: 1516 | B12: Herlev Hospital | C12: =IF(DRG_11!C12=0,"-",DRG_12!C12/DRG_11!C12*100-100) -> 7.259719 | D12: =IF(DRG_11!D12=0,"-",DRG_12!D12/DRG_11!D12*100-100) -> 5.7506172 | E12: =IF(DRG_11!E12=0,"-",DRG_12!E12/DRG_11!E12*100-100) -> 6.5663815 | F12: =IF(DRG_11!F12=0,"-",DRG_12!F12/DRG_11!F12*100-100) -> 7.9263368 | G12: =IF(DRG_12!G12=0,"-",DRG_12!G12/DRG_11!G12*100-100) -> -58.600661 | H12: =IF(DRG_11!I12=0,"-",DRG_12!I12/DRG_11!I12*100-100) -> 6.3567566
A13: 2000 | B13: Nordsjællands Hospital | C13: =IF(DRG_11!C13=0,"-",DRG_12!C13/DRG_11!C13*100-100) -> 3.2975501 | D13: =IF(DRG_11!D13=0,"-",DRG_12!D13/DRG_11!D13*100-100) -> 4.1975862 | E13: =IF(DRG_11!E13=0,"-",DRG_12!E13/DRG_11!E13*100-100) -> 3.6039756 | F13: =IF(DRG_11!F13=0,"-",DRG_12!F13/DRG_11!F13*100-100) -> -0.96549754 | G13: =IF(DRG_12!G13=0,"-",DRG_12!G13/DRG_11!G13*100-100) -> -61.157556 | H13: =IF(DRG_11!I13=0,"-",DRG_12!I13/DRG_11!I13*100-100) -> 3.6808879
A14: 4001 | B14: Bornholms Hospital | C14: =IF(DRG_11!C14=0,"-",DRG_12!C14/DRG_11!C14*100-100) -> 6.8392221 | D14: =IF(DRG_11!D14=0,"-",DRG_12!D14/DRG_11!D14*100-100) -> 5.1226224 | E14: =IF(DRG_11!E14=0,"-",DRG_12!E14/DRG_11!E14*100-100) -> 6.1695181 | F14: =IF(DRG_11!F14=0,"-",DRG_12!F14/DRG_11!F14*100-100) -> 3.8087808 | G14: =IF(DRG_12!G14=0,"-",DRG_12!G14/DRG_11!G14*100-100) -> -59.638009 | H14: =IF(DRG_11!I14=0,"-",DRG_12!I14/DRG_11!I14*100-100) -> 6.0396718
A15: 2500 | B15: Sygehus Nord | C15: =IF(DRG_11!C15=0,"-",DRG_12!C15/DRG_11!C15*100-100) -> -0.76965148 | D15: =IF(DRG_11!D15=0,"-",DRG_12!D15/DRG_11!D15*100-100) -> 8.7482391 | E15: =IF(DRG_11!E15=0,"-",DRG_12!E15/DRG_11!E15*100-100) -> 2.9271366 | F15: =IF(DRG_11!F15=0,"-",DRG_12!F15/DRG_11!F15*100-100) -> 22.349617 | G15: =IF(DRG_12!G15=0,"-",DRG_12!G15/DRG_11!G15*100-100) -> -10.981135 | H15: =IF(DRG_11!I15=0,"-",DRG_12!I15/DRG_11!I15*100-100) -> 1.3248653
A16: 2501 | B16: Sygehus Syd | C16: =IF(DRG_11!C16=0,"-",DRG_12!C16/DRG_11!C16*100-100) -> 6.1757058 | D16: =IF(DRG_11!D16=0,"-",DRG_12!D16/DRG_11!D16*100-100) -> 9.9253287 | E16: =IF(DRG_11!E16=0,"-",DRG_12!E16/DRG_11!E16*100-100) -> 7.5758334 | F16: =IF(DRG_11!F16=0,"-",DRG_12!F16/DRG_11!F16*100-100) -> 30.298541 | G16: =IF(DRG_12!G16=0,"-",DRG_12!G16/DRG_11!G16*100-100) -> -18.306233 | H16: =IF(DRG_11!I16=0,"-",DRG_12!I16/DRG_11!I16*100-100) -> 5.5183673
... A31: 8005 | B31: Sygehus Himmerland | C31: =IF(DRG_11!C31=0,"-",DRG_12!C31/DRG_11!C31*100-100) -> 3.0584035 | D31: =IF(DRG_11!D31=0,"-",DRG_12!D31/DRG_11!D31*100-100) -> 4.3468095 | E31: =IF(DRG_11!E31=0,"-",DRG_12!E31/DRG_11!E31*100-100) -> 3.2911256 | F31: =IF(DRG_11!F31=0,"-",DRG_12!F31/DRG_11!F31*100-100) -> -12.021858 | G31: =IF(DRG_12!G31=0,"-",DRG_12!G31/DRG_11!G31*100-100) -> -61.569579 | H31: =IF(DRG_11!I31=0,"-",DRG_12!I31/DRG_11!I31*100-100) -> 2.9952851
B36: Hele landet | C36: =IF(DRG_11!C36=0,"-",DRG_12!C36/DRG_11!C36*100-100) -> 1.8395873 | D36: =IF(DRG_11!D36=0,"-",DRG_12!D36/DRG_11!D36*100-100) -> 6.8524292 | E36: =IF(DRG_11!E36=0,"-",DRG_12!E36/DRG_11!E36*100-100) -> 3.8429906 | F36: =IF(DRG_11!F36=0,"-",DRG_12!F36/DRG_11!F36*100-100) -> 14.7523 | G36: =IF(DRG_12!G36=0,"-",DRG_12!G36/DRG_11!G36*100-100) -> - | H36: =IF(DRG_11!I36=0,"-",DRG_12!I36/DRG_11!I36*100-100) -> 3.4451415
B38: Hovedstaden | C38: =IF(DRG_11!C38=0,"-",DRG_12!C38/DRG_11!C38*100-100) -> 4.4688403 | D38: =IF(DRG_11!D38=0,"-",DRG_12!D38/DRG_11!D38*100-100) -> 5.4880274 | E38: =IF(DRG_11!E38=0,"-",DRG_12!E38/DRG_11!E38*100-100) -> 4.8538848 | F38: =IF(DRG_11!F38=0,"-",DRG_12!F38/DRG_11!F38*100-100) -> 7.4118933 | G38: =IF(DRG_11!G38=0,"-",DRG_12!G38/DRG_11!G38*100-100) -> -53.159468 | H38: =IF(DRG_11!I38=0,"-",DRG_12!I38/DRG_11!I38*100-100) -> 4.6375983
B39: Sjælland | C39: =IF(DRG_11!C39=0,"-",DRG_12!C39/DRG_11!C39*100-100) -> 2.4710352 | D39: =IF(DRG_11!D39=0,"-",DRG_12!D39/DRG_11!D39*100-100) -> 9.2788763 | E39: =IF(DRG_11!E39=0,"-",DRG_12!E39/DRG_11!E39*100-100) -> 5.0681988 | F39: =IF(DRG_11!F39=0,"-",DRG_12!F39/DRG_11!F39*100-100) -> 25.916103 | G39: =IF(DRG_11!G39=0,"-",DRG_12!G39/DRG_11!G39*100-100) -> -14.577651 | H39: =IF(DRG_11!I39=0,"-",DRG_12!I39/DRG_11!I39*100-100) -> 3.2631434
B40: Syddanmark | C40: =IF(DRG_11!C40=0,"-",DRG_12!C40/DRG_11!C40*100-100) -> -0.47463466 | D40: =IF(DRG_11!D40=0,"-",DRG_12!D40/DRG_11!D40*100-100) -> 6.8442243 | E40: =IF(DRG_11!E40=0,"-",DRG_12!E40/DRG_11!E40*100-100) -> 2.8828051 | F40: =IF(DRG_11!F40=0,"-",DRG_12!F40/DRG_11!F40*100-100) -> 7.1960763 | G40: =IF(DRG_11!G40=0,"-",DRG_12!G40/DRG_11!G40*100-100) -> 34.572294 | H40: =IF(DRG_11!I40=0,"-",DRG_12!I40/DRG_11!I40*100-100) -> 2.6247811
B41: Midtjylland | C41: =IF(DRG_11!C41=0,"-",DRG_12!C41/DRG_11!C41*100-100) -> 0.51760176 | D41: =IF(DRG_11!D41=0,"-",DRG_12!D41/DRG_11!D41*100-100) -> 7.1244455 | E41: =IF(DRG_11!E41=0,"-",DRG_12!E41/DRG_11!E41*100-100) -> 3.1052757 | F41: =IF(DRG_11!F41=0,"-",DRG_12!F41/DRG_11!F41*100-100) -> 24.771562 | G41: =IF(DRG_11!G41=0,"-",DRG_12!G41/DRG_11!G41*100-100) -> -65.013397 | H41: =IF(DRG_11!I41=0,"-",DRG_12!I41/DRG_11!I41*100-100) -> 3.2476583
B42: Nordjylland | C42: =IF(DRG_11!C42=0,"-",DRG_12!C42/DRG_11!C42*100-100) -> -0.85742447 | D42: =IF(DRG_11!D42=0,"-",DRG_12!D42/DRG_11!D42*100-100) -> 8.1557911 | E42: =IF(DRG_11!E42=0,"-",DRG_12!E42/DRG_11!E42*100-100) -> 2.5590617 | F42: =IF(DRG_11!F42=0,"-",DRG_12!F42/DRG_11!F42*100-100) -> 35.889333 | G42: =IF(DRG_11!G42=0,"-",DRG_12!G42/DRG_11!G42*100-100) -> -32.492482 | H42: =IF(DRG_11!I42=0,"-",DRG_12!I42/DRG_11!I42*100-100) -> 1.7224926
B43: Hele landet | C43: =IF(DRG_11!C43=0,"-",DRG_12!C43/DRG_11!C43*100-100) -> 1.8395873 | D43: =IF(DRG_11!D43=0,"-",DRG_12!D43/DRG_11!D43*100-100) -> 6.8524292 | E43: =IF(DRG_11!E43=0,"-",DRG_12!E43/DRG_11!E43*100-100) -> 3.8429906 | F43: =IF(DRG_11!F43=0,"-",DRG_12!F43/DRG_11!F43*100-100) -> 14.7523 | G43: =IF(DRG_11!G43=0,"-",DRG_12!G43/DRG_11!G43*100-100) -> - | H43: =IF(DRG_11!I43=0,"-",DRG_12!I43/DRG_11!I43*100-100) -> 3.4451415

Sheet produktivitet
A1: ='Skema1-7_2011'!A1 -> Endelig version -21. februar 2014
A2: Produktionsværdi, udgifter og produktivitet for amter og sygehuse, 2011-2012
A3: Tabel 10.
C4: Korrigeret produktionsværdi, mio. kr. | E4: De korrigerede tilrettede driftsudgifter, mio. kr. | G4: Udvikling, 2011-2012, pct. | J4: Produk-tivitets-niveau
A5: Nr. | B5: Sygehus | C5: 2011 | D5: 2012 | E5: 2011 | F5: 2012 | G5: Produk-tionsværdi | H5: Udgifter | I5: Produktivitet | J5: 2012
A6: 1301 | B6: Rigshospitalet | C6: =DRG_11!I5/1000 -> 5933.095 | D6: =DRG_12!I5/1000 -> 6139.252 | E6: =DTD_11!G5/1000 -> 5487.5828 | F6: =DTD_12!G5/1000 -> 5457.4197 | G6: =(D6/C6-1)*100 -> 3.4746958 | H6: =(F6/E6-1)*100 -> -0.5496611 | I6: =((D6/C6)/(F6/E6)-1)*100 -> 4.0465994 | J6: =(D6/F6)/($D$37/$F$37)*100 -> 100.71791
A7: 1309 | B7: Bispebjerg Hospital | C7: =DRG_11!I6/1000 -> 1759.284 | D7: =DRG_12!I6/1000 -> 1847.318 | E7: =DTD_11!G6/1000 -> 1586.9585 | F7: =DTD_12!G6/1000 -> 1608.5802 | G7: =(D7/C7-1)*100 -> 5.0039675 | H7: =(F7/E7-1)*100 -> 1.3624606 | I7: =((D7/C7)/(F7/E7)-1)*100 -> 3.5925597 | J7: =(D7/F7)/($D$37/$F$37)*100 -> 102.81998
A8: 1330 | B8: Hvidovre Hospital | C8: =DRG_11!I7/1000 -> 2247.855 | D8: =DRG_12!I7/1000 -> 2298.7 | E8: =DTD_11!G7/1000 -> 1953.6974 | F8: =DTD_12!G7/1000 -> 1944.6951 | G8: =(D8/C8-1)*100 -> 2.2619342 | H8: =(F8/E8-1)*100 -> -0.46078584 | I8: =((D8/C8)/(F8/E8)-1)*100 -> 2.735324 | J8: =(D8/F8)/($D$37/$F$37)*100 -> 105.83014
A9: 1351 | B9: Amager Hospital | C9: =DRG_11!I8/1000 -> 354.101 | D9: =DRG_12!I8/1000 -> 386.253 | E9: =DTD_11!G8/1000 -> 375.70265 | F9: =DTD_12!G8/1000 -> 369.18583 | G9: =(D9/C9-1)*100 -> 9.0798953 | H9: =(F9/E9-1)*100 -> -1.7345688 | I9: =((D9/C9)/(F9/E9)-1)*100 -> 11.00536 | J9: =(D9/F9)/($D$37/$F$37)*100 -> 93.67106
A10: 1401 | B10: Frederiksberg Hospital | C10: =DRG_11!I9/1000 -> 711.87 | D10: =DRG_12!I9/1000 -> 718.913 | E10: =DTD_11!G9/1000 -> 665.01396 | F10: =DTD_12!G9/1000 -> 646.19777 | G10: =(D10/C10-1)*100 -> 0.98936604 | H10: =(F10/E10-1)*100 -> -2.8294436 | I10: =((D10/C10)/(F10/E10)-1)*100 -> 3.930007 | J10: =(D10/F10)/($D$37/$F$37)*100 -> 99.606913
A11: 1501 | B11: Gentofte Hospital | C11: =DRG_11!I10/1000 -> 1227.828 | D11: =DRG_12!I10/1000 -> 1237.658 | E11: =DTD_11!G10/1000 -> 1182.0338 | F11: =DTD_12!G10/1000 -> 1195.4556 | G11: =(D11/C11-1)*100 -> 0.80060074 | H11: =(F11/E11-1)*100 -> 1.1354844 | I11: =((D11/C11)/(F11/E11)-1)*100 -> -0.33112383 | J11: =(D11/F11)/($D$37/$F$37)*100 -> 92.692754
A12: 1502 | B12: Glostrup Hospital | C12: =DRG_11!I11/1000 -> 1384.685 | D12: =DRG_12!I11/1000 -> 1584.925 | E12: =DTD_11!G11/1000 -> 1282.5351 | F12: =DTD_12!G11/1000 -> 1432.1547 | G12: =(D12/C12-1)*100 -> 14.461051 | H12: =(F12/E12-1)*100 -> 11.665928 | I12: =((D12/C12)/(F12/E12)-1)*100 -> 2.5031111 | J12: =(D12/F12)/($D$37/$F$37)*100 -> 99.082598
A13: 1516 | B13: Herlev Hospital | C13: =DRG_11!I12/1000 -> 3203.725 | D13: =DRG_12!I12/1000 -> 3407.378 | E13: =DTD_11!G12/1000 -> 2665.8137 | F13: =DTD_12!G12/1000 -> 2773.578 | G13: =(D13/C13-1)*100 -> 6.3567566 | H13: =(F13/E13-1)*100 -> 4.0424548 | I13: =((D13/C13)/(F13/E13)-1)*100 -> 2.2243821 | J13: =(D13/F13)/($D$37/$F$37)*100 -> 109.99135
A14: 2000 | B14: Nordsjællands Hospital | C14: =DRG_11!I13/1000 -> 2305.259 | D14: =DRG_12!I13/1000 -> 2390.113 | E14: =DTD_11!G13/1000 -> 2180.3504 | F14: =DTD_12!G13/1000 -> 2225.4483 | G14: =(D14/C14-1)*100 -> 3.6808879 | H14: =(F14/E14-1)*100 -> 2.068379 | I14: =((D14/C14)/(F14/E14)-1)*100 -> 1.579832 | J14: =(D14/F14)/($D$37/$F$37)*100 -> 96.156695
A15: 4001 | B15: Bornholms Hospital | C15: =DRG_11!I14/1000 -> 303.692 | D15: =DRG_12!I14/1000 -> 322.034 | E15: =DTD_11!G14/1000 -> 357.05835 | F15: =DTD_12!G14/1000 -> 362.37708 | G15: =(D15/C15-1)*100 -> 6.0396718 | H15: =(F15/E15-1)*100 -> 1.4895955 | I15: =((D15/C15)/(F15/E15)-1)*100 -> 4.4832933 | J15: =(D15/F15)/($D$37/$F$37)*100 -> 79.564549
A16: 2500 | B16: Sygehus Nord | C16: =DRG_11!I15/1000 -> 3646.182 | D16: =DRG_12!I15/1000 -> 3694.489 | E16: =DTD_11!G15/1000 -> 3216.2412 | F16: =DTD_12!G15/1000 -> 3311.2418 | G16: =(D16/C16-1)*100 -> 1.3248653 | H16: =(F16/E16-1)*100 -> 2.9537781 | I16: =((D16/C16)/(F16/E16)-1)*100 -> -1.5821787 | J16: =(D16/F16)/($D$37/$F$37)*100 -> 99.894614
A17: 2501 | B17: Sygehus Syd | C17: =DRG_11!I16/1000 -> 3133.753 | D17: =DRG_12!I16/1000 -> 3306.685 | E17: =DTD_11!G16/1000 -> 3034.5314 | F17: =DTD_12!G16/1000 -> 3063.2526 | G17: =(D17/C17-1)*100 -> 5.5183673 | H17: =(F17/E17-1)*100 -> 0.94648087 | I17: =((D17/C17)/(F17/E17)-1)*100 -> 4.5290201 | J17: =(D17/F17)/($D$37/$F$37)*100 -> 96.647051
... A32: 8005 | B32: Sygehus Himmerland | C32: =DRG_11!I31/1000 -> 261.511 | D32: =DRG_12!I31/1000 -> 269.344 | E32: =DTD_11!G31/1000 -> 246.55682 | F32: =DTD_12!G31/1000 -> 253.57369 | G32: =(D32/C32-1)*100 -> 2.9952851 | H32: =(F32/E32-1)*100 -> 2.8459462 | I32: =((D32/C32)/(F32/E32)-1)*100 -> 0.14520638 | J32: =(D32/F32)/($D$37/$F$37)*100 -> 95.100261
B37: Hele landet | C37: =SUM(C6:C36) -> 56275.54 | D37: =SUM(D6:D36) -> 58214.312 | E37: =SUM(E6:E36) -> 51069.952 | F37: =SUM(F6:F36) -> 52120.475 | G37: =(D37/C37-1)*100 -> 3.4451415 | H37: =(F37/E37-1)*100 -> 2.0570289 | I37: =((D37/C37)/(F37/E37)-1)*100 -> 1.3601343 | J37: =(D37/F37)/($D$37/$F$37)*100 -> 100
C39: Korrigeret produktionsværdi, mio. kr. | E39: De korrigerede tilrettede driftsudgifter, mio. kr. | G39: Udvikling, 2011-2012, pct. | J39: Produk-tivitets-niveau
A40: Nr. | B40: Sygehus | C40: 2011 | D40: 2012 | E40: 2011 | F40: 2012 | G40: Produk-tionsværdi | H40: Udgifter | I40: Produktivitet | J40: 2012
B41: Hovedstaden | C41: =SUM(C6:C15) -> 19431.394 | D41: =SUM(D6:D15) -> 20332.544 | E41: =SUM(E6:E15) -> 17736.747 | F41: =SUM(F6:F15) -> 18015.092 | G41: =(D41/C41-1)*100 -> 4.6375983 | H41: =(F41/E41-1)*100 -> 1.5693159 | I41: =((D41/C41)/(F41/E41)-1)*100 -> 3.0208754 | J41: =(D41/F41)/($D$37/$F$37)*100 -> 101.04942
B42: Sjælland | C42: =SUM(C16:C17) -> 6779.935 | D42: =SUM(D16:D17) -> 7001.174 | E42: =SUM(E16:E17) -> 6250.7726 | F42: =SUM(F16:F17) -> 6374.4945 | G42: =(D42/C42-1)*100 -> 3.2631434 | H42: =(F42/E42-1)*100 -> 1.9793055 | I42: =((D42/C42)/(F42/E42)-1)*100 -> 1.25892 | J42: =(D42/F42)/($D$37/$F$37)*100 -> 98.334003
B43: Syddanmark | C43: =SUM(C18:C23) -> 12618.919 | D43: =SUM(D18:D23) -> 12950.138 | E43: =SUM(E18:E23) -> 11074.787 | F43: =SUM(F18:F23) -> 11403.706 | G43: =(D43/C43-1)*100 -> 2.6247811 | H43: =(F43/E43-1)*100 -> 2.9699815 | I43: =((D43/C43)/(F43/E43)-1)*100 -> -0.33524374 | J43: =(D43/F43)/($D$37/$F$37)*100 -> 101.67331
B44: Midtjylland | C44: =SUM(C24:C28) -> 12108.201 | D44: =SUM(D24:D28) -> 12501.434 | E44: =SUM(E24:E28) -> 10976.256 | F44: =SUM(F24:F28) -> 11258.037 | G44: =(D44/C44-1)*100 -> 3.2476583 | H44: =(F44/E44-1)*100 -> 2.5671857 | I44: =((D44/C44)/(F44/E44)-1)*100 -> 0.66344089 | J44: =(D44/F44)/($D$37/$F$37)*100 -> 99.420462
B45: Nordjylland | C45: =SUM(C29:C32) -> 5337.091 | D45: =SUM(D29:D32) -> 5429.022 | E45: =SUM(E29:E32) -> 5031.3895 | F45: =SUM(F29:F32) -> 5069.1456 | G45: =(D45/C45-1)*100 -> 1.7224926 | H45: =(F45/E45-1)*100 -> 0.75041254 | I45: =((D45/C45)/(F45/E45)-1)*100 -> 0.96483983 | J45: =(D45/F45)/($D$37/$F$37)*100 -> 95.888258
B46: Hele landet | C46: =SUM(C41:C45) -> 56275.54 | D46: =SUM(D41:D45) -> 58214.312 | E46: =SUM(E41:E45) -> 51069.952 | F46: =SUM(F41:F45) -> 52120.475 | G46: =(D46/C46-1)*100 -> 3.4451415 | H46: =(F46/E46-1)*100 -> 2.0570289 | I46: =((D46/C46)/(F46/E46)-1)*100 -> 1.3601343 | J46: =(D46/F46)/($D$37/$F$37)*100 -> 100

Sheet Dokumentation
A1: De resterende ark i mappen indeholder yderligere dokumentation af udvalgte dele af datamaterialet:
A2: 1. Dokumentation af korrektion for medicin på produktionssiden, 2011:
A3: 2. Dokumentation af korrektion for medicin på produktionssiden, 2012:
A4: 3. Regionsspecifikke korrektioner i den statslige aktivitetspulje tilpasset produktivitetsanalysen

Sheet Medicin produktionssiden 2011
A1: 2011: Casemix-grupper med medicinkorrektion fordelt på sygehus, overgruppe, besøgstype og casemix-gruppe 2011
E3: Antal | F3: Stykpris før korrektion | G3: Pris før korrektion | H3: Stykpris efter korrektion | I3: Pris efter korrektion | J3: Korrektion
A4: Produktivitets-sygehus | E4: 52183 | G4: 753152880 | I4: 86559095 | J4: 666593785
A5: Rigshospitalet | B5: I alt
B6: Gruppe | C6: Besøgstype | D6: DAGS-gruppe | E6: 8 | F6: 30130 | G6: 241040 | H6: 0 | I6: 0 | J6: 241040
B7: Cancer-grupper | C7: Uden besøg | D7: PG12A_UB
D8: PG12C_UB | E8: 17 | F8: 14344 | G8: 243848 | H8: 0 | I8: 0 | J8: 243848
D9: PG12E_UB | E9: 308 | F9: 6851 | G9: 2110108 | H9: 0 | I9: 0 | J9: 2110108
D10: PG12I_UB | E10: 5 | F10: 10344 | G10: 51720 | H10: 0 | I10: 0 | J10: 51720
C11: BG50C: Besøg med anamnese/journal | D11: PG12B | E11: 2 | F11: 28584 | G11: 57168 | H11: 2770 | I11: 5540 | J11: 51628
D12: PG12C | E12: 8 | F12: 15928 | G12: 127424 | H12: 2770 | I12: 22160 | J12: 105264
D13: PG12E | E13: 44 | F13: 8435 | G13: 371140 | H13: 2770 | I13: 121880 | J13: 249260
D14: PG12I | E14: 4 | F14: 11928 | G14: 47712 | H14: 2770 | I14: 11080 | J14: 36632
C15: BG50B: Besøg pat. 0 - 6 år | D15: PG12C | E15: 4 | F15: 15682 | G15: 62728 | H15: 2524 | I15: 10096 | J15: 52632
D16: PG12E | E16: 1050 | F16: 8153 | G16: 8560818 | H16: 2524 | I16: 2650200 | J16: 5910618
D17: PG12I | E17: 46 | F17: 11682 | G17: 537372 | H17: 2524 | I17: 116104 | J17: 421268
C18: BG50A: Besøg pat. 7 år + | D18: PG12A | E18: 1 | F18: 31084 | G18: 31084 | H18: 2140 | I18: 2140 | J18: 28944
D19: PG12B | E19: 1947 | F19: 27954 | G19: 54426438 | H19: 2140 | I19: 4166580 | J19: 50259858
D20: PG12C | E20: 7630 | F20: 15298 | G20: 116723740 | H20: 2140 | I20: 16328200 | J20: 100395540
D21: PG12D | E21: 135 | F21: 20416 | G21: 2756160 | H21: 2140 | I21: 288900 | J21: 2467260
D22: PG12E | E22: 13033 | F22: 7805 | G22: 101722565 | H22: 2140 | I22: 27890620 | J22: 73831945
D23: PG12I | E23: 5024 | F23: 11298 | G23: 56761152 | H23: 2140 | I23: 10751360 | J23: 46009792
B24: GR2719/22 | D24: GR2719 | E24: 314 | F24: 21290 | G24: 6685060 | H24: 3465 | I24: 1088010 | J24: 5597050
D25: GR2722 | E25: 571 | F25: 18337 | G25: 10470427 | H25: 3465 | I25: 1978515 | J25: 8491912
B26: Andre grupper | C26: Uden besøg | D26: PG12H_UB | E26: 6 | F26: 33449 | G26: 200694 | H26: 0 | I26: 0 | J26: 200694
D27: PG12J_UB | E27: 1 | F27: 24865 | G27: 24865 | H27: 0 | I27: 0 | J27: 24865
D28: PG12U_UB | E28: 13 | F28: 6198 | G28: 80574 | H28: 0 | I28: 0 | J28: 80574
C29: BG50C: Besøg med anamnese/journal | D29: DG30J | E29: 107 | F29: 7059 | G29: 755313 | H29: 1584 | I29: 169488 | J29: 585825
D30: PG11F | E30: 1 | F30: 9876 | G30: 9876 | H30: 1584 | I30: 1584 | J30: 8292
D31: PG11G | E31: 1 | F31: 6950 | G31: 6950 | H31: 1584 | I31: 1584 | J31: 5366
D32: PG12H | E32: 20 | F32: 35033 | G32: 700660 | H32: 1584 | I32: 31680 | J32: 668980
D33: PG12J | E33: 9 | F33: 26449 | G33: 238041 | H33: 1584 | I33: 14256 | J33: 223785
D34: PG12T | E34: 11 | F34: 5561 | G34: 61171 | H34: 1584 | I34: 17424 | J34: 43747
D35: PG12U | E35: 4 | F35: 7782 | G35: 31128 | H35: 1584 | I35: 6336 | J35: 24792
C36: BG50B: Besøg pat. 0 - 6 år | D36: PG11D | E36: 3 | F36: 20720 | G36: 62160 | H36: 1338 | I36: 4014 | J36: 58146
D37: PG11G | E37: 8 | F37: 6704 | G37: 53632 | H37: 1338 | I37: 10704 | J37: 42928
D38: PG12H | E38: 6 | F38: 34659 | G38: 207954 | H38: 1338 | I38: 8028 | J38: 199926
D39: PG12T | E39: 2 | F39: 5123 | G39: 10246 | H39: 1338 | I39: 2676 | J39: 7570
D40: PG12U | E40: 64 | F40: 7434 | G40: 475776 | H40: 1338 | I40: 85632 | J40: 390144
C41: BG50A: Besøg pat. 7 år + | D41: DG30J | E41: 6247 | F41: 6429 | G41: 40161963 | H41: 954 | I41: 5959638 | J41: 34202325
D42: PG11D | E42: 2023 | F42: 20464 | G42: 41398672 | H42: 954 | I42: 1929942 | J42: 39468730
D43: PG11E | E43: 57 | F43: 13148 | G43: 749436 | H43: 954 | I43: 54378 | J43: 695058
D44: PG11F | E44: 1078 | F44: 9246 | G44: 9967188 | H44: 954 | I44: 1028412 | J44: 8938776
D45: PG11G | E45: 156 | F45: 6320 | G45: 985920 | H45: 954 | I45: 148824 | J45: 837096
D46: PG11I | E46: 683 | F46: 2418 | G46: 1651494 | H46: 954 | I46: 651582 | J46: 999912
D47: PG12H | E47: 7576 | F47: 34403 | G47: 260637128 | H47: 954 | I47: 7227504 | J47: 253409624
D48: PG12J | E48: 241 | F48: 25819 | G48: 6222379 | H48: 954 | I48: 229914 | J48: 5992465
D49: PG12T | E49: 44 | F49: 4931 | G49: 216964 | H49: 954 | I49: 41976 | J49: 174988
D50: PG12U | E50: 3671 | F50: 7152 | G50: 26254992 | H50: 954 | I50: 3502134 | J50: 22752858
A51: Bispebjerg Hospital | B51: I alt | E51: 4227 | G51: 50242284 | I51: 5420640 | J51: 44821644
B52: Gruppe | C52: Besøgstype | D52: DAGS-gruppe | E52: 5 | F52: 6851 | G52: 34255 | H52: 0 | I52: 0 | J52: 34255
B53: Cancer-grupper | C53: Uden besøg | D53: PG12E_UB
D54: PG12I_UB | E54: 1 | F54: 10344 | G54: 10344 | H54: 0 | I54: 0 | J54: 10344
C55: BG50C: Besøg med anamnese/journal | D55: PG12E | E55: 27 | F55: 8435 | G55: 227745 | H55: 2770 | I55: 74790 | J55: 152955
C56: BG50A: Besøg pat. 7 år + | D56: PG12B | E56: 3 | F56: 27954 | G56: 83862 | H56: 2140 | I56: 6420 | J56: 77442
D57: PG12E | E57: 727 | F57: 7805 | G57: 5674235 | H57: 2140 | I57: 1555780 | J57: 4118455
D58: PG12I | E58: 389 | F58: 11298 | G58: 4394922 | H58: 2140 | I58: 832460 | J58: 3562462
B59: Andre grupper | C59: BG50C: Besøg med anamnese/journal | D59: DG30J | E59: 4 | F59: 7059 | G59: 28236 | H59: 1584 | I59: 6336 | J59: 21900
D60: PG12H | E60: 11 | F60: 35033 | G60: 385363 | H60: 1584 | I60: 17424 | J60: 367939
D61: PG12T | E61: 12 | F61: 5561 | G61: 66732 | H61: 1584 | I61: 19008 | J61: 47724
D62: PG12U | E62: 1 | F62: 7782 | G62: 7782 | H62: 1584 | I62: 1584 | J62: 6198
C63: BG50A: Besøg pat. 7 år + | D63: DG30J | E63: 11 | F63: 6429 | G63: 70719 | H63: 954 | I63: 10494 | J63: 60225
D64: PG12H | E64: 821 | F64: 34403 | G64: 28244863 | H64: 954 | I64: 783234 | J64: 27461629
D65: PG12T | E65: 2174 | F65: 4931 | G65: 10719994 | H65: 954 | I65: 2073996 | J65: 8645998
D66: PG12U | E66: 41 | F66: 7152 | G66: 293232 | H66: 954 | I66: 39114 | J66: 254118
A67: Hvidovre Hospital | B67: I alt | E67: 7258 | G67: 70698778 | I67: 7136330 | J67: 63562448
B68: Gruppe | C68: Besøgstype | D68: DAGS-gruppe | E68: 6 | F68: 7805 | G68: 46830 | H68: 2140 | I68: 12840 | J68: 33990
B69: Cancer-grupper | C69: BG50A: Besøg pat. 7 år + | D69: PG12E
D70: PG12I | E70: 138 | F70: 11298 | G70: 1559124 | H70: 2140 | I70: 295320 | J70: 1263804
B71: AMD | C71: BG50A: Besøg pat. 7 år + | D71: PG11F_UB | E71: 1 | F71: 8292 | G71: 8292 | H71: 1592 | I71: 1592 | J71: 6700
B72: Andre grupper | C72: Uden besøg | D72: PG11D_UB | E72: 1 | F72: 19510 | G72: 19510 | H72: 0 | I72: 0 | J72: 19510
C73: BG50C: Besøg med anamnese/journal | D73: DG30J | E73: 45 | F73: 7059 | G73: 317655 | H73: 1584 | I73: 71280 | J73: 246375
D74: PG11D | E74: 4 | F74: 21094 | G74: 84376 | H74: 1584 | I74: 6336 | J74: 78040
D75: PG12H | E75: 2 | F75: 35033 | G75: 70066 | H75: 1584 | I75: 3168 | J75: 66898
C76: BG50B: Besøg pat. 0 - 6 år | D76: DG30J | E76: 25 | F76: 6752 | G76: 168789 | H76: 1338 | I76: 33450 | J76: 135339
C77: BG50A: Besøg pat. 7 år + | D77: DG30J | E77: 5826 | F77: 6429 | G77: 37455354 | H77: 954 | I77: 5558004 | J77: 31897350
D78: PG11C | E78: 4 | F78: 33634 | G78: 134536 | H78: 954 | I78: 3816 | J78: 130720
D79: PG11D | E79: 756 | F79: 20464 | G79: 15470784 | H79: 954 | I79: 721224 | J79: 14749560
D80: PG12H | E80: 446 | F80: 34403 | G80: 15343738 | H80: 954 | I80: 425484 | J80: 14918254
D81: PG12T | E81: 4 | F81: 4931 | G81: 19724 | H81: 954 | I81: 3816 | J81: 15908
A82: Amager Hospital | B82: I alt | E82: 35 | G82: 342372 | I82: 47338 | J82: 295034
B83: Gruppe | C83: Besøgstype | D83: DAGS-gruppe | E83: 9 | F83: 6851 | G83: 61659 | H83: 0 | I83: 0 | J83: 61659
B84: Cancer-grupper | C84: Uden besøg | D84: PG12E_UB
C85: BG50A: Besøg pat. 7 år + | D85: PG12E | E85: 18 | F85: 7805 | G85: 140490 | H85: 2140 | I85: 38520 | J85: 101970
D86: PG12I | E86: 1 | F86: 11298 | G86: 11298 | H86: 2140 | I86: 2140 | J86: 9158
B87: Andre grupper | C87: BG50A: Besøg pat. 7 år + | D87: DG30J | E87: 4 | F87: 6429 | G87: 25716 | H87: 954 | I87: 3816 | J87: 21900
D88: PG12H | E88: 3 | F88: 34403 | G88: 103209 | H88: 954 | I88: 2862 | J88: 100347
A89: Frederiksberg Hospital | B89: I alt | E89: 5436 | G89: 85028224 | I89: 8206716 | J89: 76821508
B90: Gruppe | C90: Besøgstype | D90: DAGS-gruppe | E90: 6 | F90: 6851 | G90: 41106 | H90: 0 | I90: 0 | J90: 41106
B91: Cancer-grupper | C91: Uden besøg | D91: PG12E_UB
C92: BG50C: Besøg med anamnese/journal | D92: PG12E | E92: 2 | F92: 8435 | G92: 16870 | H92: 2770 | I92: 5540 | J92: 11330
C93: BG50A: Besøg pat. 7 år + | D93: PG12B | E93: 288 | F93: 27954 | G93: 8050752 | H93: 2140 | I93: 616320 | J93: 7434432
D94: PG12E | E94: 2260 | F94: 7805 | G94: 17639300 | H94: 2140 | I94: 4836400 | J94: 12802900
B95: Andre grupper | C95: Uden besøg | D95: PG11D_UB | E95: 1 | F95: 19510 | G95: 19510 | H95: 0 | I95: 0 | J95: 19510
C96: BG50C: Besøg med anamnese/journal | D96: DG30J | E96: 3 | F96: 7059 | G96: 21177 | H96: 1584 | I96: 4752 | J96: 16425
C97: BG50A: Besøg pat. 7 år + | D97: PG11C | E97: 56 | F97: 33634 | G97: 1883504 | H97: 954 | I97: 53424 | J97: 1830080
D98: PG11D | E98: 2705 | F98: 20464 | G98: 55355120 | H98: 954 | I98: 2580570 | J98: 52774550
D99: PG11E | E99: 92 | F99: 13148 | G99: 1209616 | H99: 954 | I99: 87768 | J99: 1121848
D100: PG12H | E100: 23 | F100: 34403 | G100: 791269 | H100: 954 | I100: 21942 | J100: 769327
A101: Gentofte Hospital | B101: I alt | E101: 6869 | G101: 109996032 | I101: 10138530 | J101: 99857502
...

Sheet Medicin produktionssiden 2012
A1: 2012: Casemix-grupper med medicinkorrektion fordelt på sygehus, overgruppe, besøgstype og casemix-gruppe 2012
E3: Antal | F3: Stykpris før korrektion | G3: Pris før korrektion | H3: Stykpris efter korrektion | I3: Pris efter korrektion | J3: Korrektion
A4: Produktivitets-sygehus | E4: 53850 | G4: 775690129 | I4: 88052007 | J4: 687638122
A5: Rigshospitalet | B5: I alt
B6: Gruppe | C6: Besøgstype | D6: DAGS-gruppe | E6: 3 | F6: 30130 | G6: 90390 | H6: 0 | I6: 0 | J6: 90390
B7: Cancer-grupper | C7: Uden besøg | D7: PG12A_UB
D8: PG12B_UB | E8: 1 | F8: 27000 | G8: 27000 | H8: 0 | I8: 0 | J8: 27000
D9: PG12C_UB | E9: 20 | F9: 14344 | G9: 286880 | H9: 0 | I9: 0 | J9: 286880
D10: PG12E_UB | E10: 641 | F10: 6851 | G10: 4391491 | H10: 0 | I10: 0 | J10: 4391491
D11: PG12I_UB | E11: 3 | F11: 10344 | G11: 31032 | H11: 0 | I11: 0 | J11: 31032
C12: BG50C: Besøg med anamnese/journal | D12: PG12C | E12: 9 | F12: 15928 | G12: 143352 | H12: 2770 | I12: 24930 | J12: 118422
D13: PG12E | E13: 68 | F13: 8435 | G13: 573580 | H13: 2770 | I13: 188360 | J13: 385220
D14: PG12I | E14: 2 | F14: 11928 | G14: 23856 | H14: 2770 | I14: 5540 | J14: 18316
C15: BG50B: Besøg pat. 0 - 6 år | D15: PG12E | E15: 987 | F15: 8130 | G15: 8024175 | H15: 2524 | I15: 2491188 | J15: 5532987
D16: PG12I | E16: 29 | F16: 11682 | G16: 338778 | H16: 2524 | I16: 73196 | J16: 265582
C17: BG50A: Besøg pat. 7 år + | D17: PG12B | E17: 1713 | F17: 27954 | G17: 47885202 | H17: 2140 | I17: 3665820 | J17: 44219382
D18: PG12C | E18: 7681 | F18: 15298 | G18: 117503938 | H18: 2140 | I18: 16437340 | J18: 101066598
D19: PG12D | E19: 143 | F19: 20416 | G19: 2919488 | H19: 2140 | I19: 306020 | J19: 2613468
D20: PG12E | E20: 14067 | F20: 7805 | G20: 109792935 | H20: 2140 | I20: 30103380 | J20: 79689555
D21: PG12I | E21: 4947 | F21: 11298 | G21: 55891206 | H21: 2140 | I21: 10586580 | J21: 45304626
B22: GR2719/22 | D22: GR2719 | E22: 127 | F22: 21290 | G22: 2703830 | H22: 3465 | I22: 440055 | J22: 2263775
D23: GR2722 | E23: 512 | F23: 18337 | G23: 9388544 | H23: 3465 | I23: 1774080 | J23: 7614464
B24: Andre grupper | C24: Uden besøg | D24: PG11D_UB | E24: 6 | F24: 19510 | G24: 117060 | H24: 0 | I24: 0 | J24: 117060
D25: PG11F_UB | E25: 2 | F25: 8292 | G25: 16584 | H25: 0 | I25: 0 | J25: 16584
D26: PG11I_UB | E26: 1 | F26: 1464 | G26: 1464 | H26: 0 | I26: 0 | J26: 1464
D27: PG12H_UB | E27: 3 | F27: 33449 | G27: 100347 | H27: 0 | I27: 0 | J27: 100347
D28: PG12J_UB | E28: 2 | F28: 24865 | G28: 49730 | H28: 0 | I28: 0 | J28: 49730
D29: PG12T_UB | E29: 1 | F29: 3977 | G29: 3977 | H29: 0 | I29: 0 | J29: 3977
D30: PG12U_UB | E30: 2 | F30: 6198 | G30: 12396 | H30: 0 | I30: 0 | J30: 12396
C31: BG50C: Besøg med anamnese/journal | D31: DG30J | E31: 86 | F31: 7059 | G31: 607074 | H31: 1584 | I31: 136224 | J31: 470850
D32: PG11D | E32: 3 | F32: 21094 | G32: 63282 | H32: 1584 | I32: 4752 | J32: 58530
D33: PG11G | E33: 1 | F33: 6950 | G33: 6950 | H33: 1584 | I33: 1584 | J33: 5366
D34: PG12H | E34: 7 | F34: 35033 | G34: 245231 | H34: 1584 | I34: 11088 | J34: 234143
D35: PG12J | E35: 16 | F35: 26449 | G35: 423184 | H35: 1584 | I35: 25344 | J35: 397840
D36: PG12T | E36: 11 | F36: 5561 | G36: 61171 | H36: 1584 | I36: 17424 | J36: 43747
D37: PG12U | E37: 17 | F37: 7782 | G37: 132294 | H37: 1584 | I37: 26928 | J37: 105366
C38: BG50B: Besøg pat. 0 - 6 år | D38: PG11D | E38: 1 | F38: 20464 | G38: 20464 | H38: 1338 | I38: 1338 | J38: 19126
D39: PG12H | E39: 15 | F39: 34761 | G39: 521421 | H39: 1338 | I39: 20070 | J39: 501351
D40: PG12T | E40: 1 | F40: 4931 | G40: 4931 | H40: 1338 | I40: 1338 | J40: 3593
D41: PG12U | E41: 85 | F41: 7400 | G41: 629040 | H41: 1338 | I41: 113730 | J41: 515310
C42: BG50A: Besøg pat. 7 år + | D42: DG30J | E42: 5998 | F42: 6429 | G42: 38561142 | H42: 954 | I42: 5722092 | J42: 32839050
D43: PG11C | E43: 9 | F43: 33634 | G43: 302706 | H43: 954 | I43: 8586 | J43: 294120
D44: PG11D | E44: 2392 | F44: 20464 | G44: 48949888 | H44: 954 | I44: 2281968 | J44: 46667920
D45: PG11E | E45: 158 | F45: 13148 | G45: 2077384 | H45: 954 | I45: 150732 | J45: 1926652
D46: PG11F | E46: 1187 | F46: 9246 | G46: 10975002 | H46: 954 | I46: 1132398 | J46: 9842604
D47: PG11G | E47: 149 | F47: 6320 | G47: 941680 | H47: 954 | I47: 142146 | J47: 799534
D48: PG11H | E48: 2 | F48: 3881 | G48: 7762 | H48: 954 | I48: 1908 | J48: 5854
D49: PG11I | E49: 565 | F49: 2418 | G49: 1366170 | H49: 954 | I49: 539010 | J49: 827160
D50: PG12H | E50: 7999 | F50: 34403 | G50: 275189597 | H50: 954 | I50: 7631046 | J50: 267558551
D51: PG12J | E51: 241 | F51: 25819 | G51: 6222379 | H51: 954 | I51: 229914 | J51: 5992465
D52: PG12T | E52: 42 | F52: 4931 | G52: 207102 | H52: 954 | I52: 40068 | J52: 167034
D53: PG12U | E53: 3895 | F53: 7152 | G53: 27857040 | H53: 954 | I53: 3715830 | J53: 24141210
A54: Bispebjerg Hospital | B54: I alt | E54: 4491 | G54: 46200946 | I54: 6165736 | J54: 40035210
B55: Gruppe | C55: Besøgstype | D55: DAGS-gruppe | E55: 11 | F55: 6851 | G55: 75361 | H55: 0 | I55: 0 | J55: 75361
B56: Cancer-grupper | C56: Uden besøg | D56: PG12E_UB
D57: PG12I_UB | E57: 2 | F57: 10344 | G57: 20688 | H57: 0 | I57: 0 | J57: 20688
C58: BG50C: Besøg med anamnese/journal | D58: PG12E | E58: 61 | F58: 8435 | G58: 514535 | H58: 2770 | I58: 168970 | J58: 345565
D59: PG12I | E59: 3 | F59: 11928 | G59: 35784 | H59: 2770 | I59: 8310 | J59: 27474
C60: BG50B: Besøg pat. 0 - 6 år | D60: PG12E | E60: 4 | F60: 7997 | G60: 31988 | H60: 2524 | I60: 10096 | J60: 21892
D61: PG12I | E61: 1 | F61: 11682 | G61: 11682 | H61: 2524 | I61: 2524 | J61: 9158
C62: BG50A: Besøg pat. 7 år + | D62: PG12B | E62: 5 | F62: 27954 | G62: 139770 | H62: 2140 | I62: 10700 | J62: 129070
D63: PG12E | E63: 842 | F63: 7805 | G63: 6571810 | H63: 2140 | I63: 1801880 | J63: 4769930
D64: PG12I | E64: 636 | F64: 11298 | G64: 7185528 | H64: 2140 | I64: 1361040 | J64: 5824488
B65: Andre grupper | C65: Uden besøg | D65: PG12H_UB | E65: 1 | F65: 33449 | G65: 33449 | H65: 0 | I65: 0 | J65: 33449
D66: PG12T_UB | E66: 1 | F66: 3977 | G66: 3977 | H66: 0 | I66: 0 | J66: 3977
D67: PG12U_UB | E67: 2 | F67: 6198 | G67: 12396 | H67: 0 | I67: 0 | J67: 12396
C68: BG50C: Besøg med anamnese/journal | D68: DG30J | E68: 1 | F68: 7059 | G68: 7059 | H68: 1584 | I68: 1584 | J68: 5475
D69: PG12H | E69: 11 | F69: 35033 | G69: 385363 | H69: 1584 | I69: 17424 | J69: 367939
D70: PG12T | E70: 9 | F70: 5561 | G70: 50049 | H70: 1584 | I70: 14256 | J70: 35793
D71: PG12U | E71: 1 | F71: 7782 | G71: 7782 | H71: 1584 | I71: 1584 | J71: 6198
C72: BG50B: Besøg pat. 0 - 6 år | D72: PG12H | E72: 2 | F72: 34403 | G72: 68806 | H72: 1338 | I72: 2676 | J72: 66130
C73: BG50A: Besøg pat. 7 år + | D73: DG30J | E73: 17 | F73: 6429 | G73: 109293 | H73: 954 | I73: 16218 | J73: 93075
D74: PG12H | E74: 565 | F74: 34403 | G74: 19437695 | H74: 954 | I74: 539010 | J74: 18898685
D75: PG12T | E75: 2281 | F75: 4931 | G75: 11247611 | H75: 954 | I75: 2176074 | J75: 9071537
D76: PG12U | E76: 35 | F76: 7152 | G76: 250320 | H76: 954 | I76: 33390 | J76: 216930
A77: Hvidovre Hospital | B77: I alt | E77: 6441 | G77: 67981517 | I77: 6432316 | J77: 61549201
B78: Gruppe | C78: Besøgstype | D78: DAGS-gruppe | E78: 1 | F78: 11928 | G78: 11928 | H78: 2770 | I78: 2770 | J78: 9158
B79: Cancer-grupper | C79: BG50C: Besøg med anamnese/journal | D79: PG12I
C80: BG50A: Besøg pat. 7 år + | D80: PG12B | E80: 3 | F80: 27954 | G80: 83862 | H80: 2140 | I80: 6420 | J80: 77442
D81: PG12E | E81: 78 | F81: 7805 | G81: 608790 | H81: 2140 | I81: 166920 | J81: 441870
D82: PG12I | E82: 126 | F82: 11298 | G82: 1423548 | H82: 2140 | I82: 269640 | J82: 1153908
B83: Andre grupper | C83: Uden besøg | D83: PG11D_UB | E83: 1 | F83: 19510 | G83: 19510 | H83: 0 | I83: 0 | J83: 19510
C84: BG50C: Besøg med anamnese/journal | D84: DG30J | E84: 43 | F84: 7059 | G84: 303537 | H84: 1584 | I84: 68112 | J84: 235425
D85: PG11D | E85: 5 | F85: 21094 | G85: 105470 | H85: 1584 | I85: 7920 | J85: 97550
D86: PG12H | E86: 1 | F86: 35033 | G86: 35033 | H86: 1584 | I86: 1584 | J86: 33449
C87: BG50B: Besøg pat. 0 - 6 år | D87: DG30J | E87: 27 | F87: 6742 | G87: 182031 | H87: 1338 | I87: 36126 | J87: 145905
C88: BG50A: Besøg pat. 7 år + | D88: DG30J | E88: 4830 | F88: 6429 | G88: 31052070 | H88: 954 | I88: 4607820 | J88: 26444250
D89: PG11D | E89: 816 | F89: 20464 | G89: 16698624 | H89: 954 | I89: 778464 | J89: 15920160
D90: PG12H | E90: 507 | F90: 34403 | G90: 17442321 | H90: 954 | I90: 483678 | J90: 16958643
D91: PG12T | E91: 3 | F91: 4931 | G91: 14793 | H91: 954 | I91: 2862 | J91: 11931
A92: Amager Hospital | B92: I alt | E92: 41 | G92: 496651 | I92: 58038 | J92: 438613
B93: Gruppe | C93: Besøgstype | D93: DAGS-gruppe | E93: 10 | F93: 6851 | G93: 68510 | H93: 0 | I93: 0 | J93: 68510
B94: Cancer-grupper | C94: Uden besøg | D94: PG12E_UB
C95: BG50A: Besøg pat. 7 år + | D95: PG12E | E95: 24 | F95: 7805 | G95: 187320 | H95: 2140 | I95: 51360 | J95: 135960
B96: Andre grupper | C96: BG50A: Besøg pat. 7 år + | D96: PG12H | E96: 7 | F96: 34403 | G96: 240821 | H96: 954 | I96: 6678 | J96: 234143
A97: Frederiksberg Hospital | B97: I alt | E97: 5493 | G97: 90550302 | I97: 8210670 | J97: 82339632
B98: Gruppe | C98: Besøgstype | D98: DAGS-gruppe | E98: 6 | F98: 6851 | G98: 41106 | H98: 0 | I98: 0 | J98: 41106
B99: Cancer-grupper | C99: Uden besøg | D99: PG12E_UB
C100: BG50C: Besøg med anamnese/journal | D100: PG12E | E100: 11 | F100: 8435 | G100: 92785 | H100: 2770 | I100: 30470 | J100: 62315
C101: BG50A: Besøg pat. 7 år + | D101: PG12B | E101: 353 | F101: 27954 | G101: 9867762 | H101: 2140 | I101: 755420 | J101: 9112342
...

Sheet Regionsspecifikke korrektioner
A1: Læsevejledning:
A2: Kolonne A-C
A3: Indeholder den oprindelige opgørelse af korrektioner til statslig aktivitetspulje, ekskl. den seneste ændring i jordemoder-korrektionen
A4: Kolonne D
A5: Indeholder tilpasning af kolonne A-C, således at de enkelte poster passer til anvendelse i produktivitetsanalysen.
A6: Det gælder fx fjernelse af korrektioner, som i forvejen var håndteret i "Korrektion for forskelle i organisering", ændringer i jordemoder-korrektionen etc.
A7: Kolonne F-I
A8: Indeholder summering til produktivitetssygehusniveau samt opdeling af, hvilket år den enkelte korrektion skal henregnes.
A12: Regionsspecifikke korrektioner | B12: Sygehus | C12: Størrelse på korrektion | D12: Tilpasning til produktivitetsanalysen | F12: Summering til produktivitetssygehusniveau
D13: Beløb i t.kr. | F13: 2011 | G13: 2012 | H13: Prod.sgh | I13: Produktivitetssygehusnavn
A14: Region Nordjylland | H14: 1301 | I14: Rigshospitalet
A15: 1. Aalborg - Omlægning af aktivitet onkologi | B15: Ålborg Sygehus 8001 | C15: 12428000 | D15: =+ROUND(C15/1000, 0) -> 12428 | F15: =+D63 -> 1238 | H15: 1309 | I15: Bispebjerg Hospital
A16: 2. Aalborg, skademodtagelsen - Indførelse af visitation i skademodtagelsen | B16: Ålborg Sygehus 8001 | C16: 3350333 | D16: =+ROUND(C16/1000, 0) -> 3350 | F16: =+D65 -> 25242 | H16: 1330 | I16: Hvidovre Hospital
A17: Jordemoderkorrektioner | B17: 8001 Beløb 1994 t kr. | C17: 3234375 | D17: 7681 | H17: 1351 | I17: Amager Hospital
B18: 8003 Beløb 1241 t kr. | D18: 2541 | H18: 1401 | I18: Frederiksberg Hospital
F19: =+D64 -> 9643 | H19: 1501 | I19: Gentofte Hospital
A20: Korrektion for omlægning af aktivitet fra stationært til ambulant regi | C20: - | H20: 1502 | I20: Glostrup Hospital
A21: Onkologi jf. Nords høringssvar til produktivitetsanalysen | C21: Udgår | D21: 39559 | F21: =+D66 -> 6562 | H21: 1516 | I21: Herlev Hospital
A22: I alt | C22: 19012708 | F22: =+D67 -> 1984 | H22: 2000 | I22: Nordsjællands Hospital
H23: 4001 | I23: Bornholms Hospital
A24: Region Midtjylland | F24: =+D72-5891 -> 10009 | H24: 2500 | I24: Sygehus Nord
A25: 1. Viborg - DRG og Dagkirurgi | B25: - | C25: 0 | F25: =+D72-F24 -> 5891 | H25: 2501 | I25: Sygehus Syd
A26: 2. Fertilitetsklinikken - Ændret registreringspraksis | B26: - | C26: 0 | F26: =+D56+D57 -> 26263 | H26: 4202 | I26: Odense Universitetshospital
A27: 3. Viborg - Korrektion for omlægning af neurologisk aktivitet | B27: Regionshospitalet Viborg | C27: 14155000 | D27: =+ROUND(C27/1000, 0) -> 14155 | F27: =+D58 -> 7768 | H27: 5000 | I27: Sygehus Sønderjylland
A28: 4. Horsens - Omregistreringer af telefonkonsultationer | B28: HE Horsens 6006 | C28: 944394 | D28: =+ROUND(C28/1000, 0) -> 944 | H28: 5501 | I28: Sydvestjysk Sygehus
A29: 5. AUH - Korrektion for lukning af medicinske senge | B29: AUH | C29: 35678000 | D29: =+ROUND(C29/1000, 0) -> 35678 | H29: 6007 | I29: Fredericia og Kolding Sygehuse
A30: 6. AUH - Omlægning af sygehusnr. AUH | B30: Sammenlægning af Århus Sygehus og Skejby Sygehus (7003,7004,7013,7026) til Århus Universitetshospital 6620 | C30: 92366984 | H30: 6008 | I30: Vejle og Give sygehuse
A31: 7. AUH - Korrektion for ændret ambulant registreringspraksis | B31: AUH | C31: 7238637 | D31: =+ROUND(C31/1000, 0) -> 7239 | H31: 6013 | I31: De Vestdanske Friklinikker, Syddanmark
A32: 8. Skejby, Randers (AUH) og Horsens - Urologifusion | B32: Korrektion for omlægning af aktivitet i forbindelse med flytning fra Randers og Horsens til AUH. | C32: 2067045 | D32: =+ROUND(C32/1000, 0) -> 2067 | F32: =+D28+D47 -> 1693 | H32: 6006 | I32: Hospitalsenheden Horsens
A33: 9. HE Vest - Korrektioner til Staten | B33: Nedlæggelse af 6501,6502,6503,6504,6505 der er sammenlagt til 6650 | C33: 21337000 | F33: =+D33+D42+D46+D48 -> 1738 | H33: 6650 | I33: Hospitalsenheden Vest
A34: 10. Randers og Horsens - Omlægning af Urinkirurgisk afdeling K | B34: - | C34: Beløb under korrektion 8. | F34: =+D29+D30+D31+D32+D35+D43+D49 -> 77101 | H34: 6620 | I34: Århus Universitetshospital
A35: 11. AUH - Ændret registreringspraksis, Hjertemed. Afd. B | B35: Sammenlægning af Århus univesitetshospital Skejby og Århus Sygehus til AUH | C35: 24453774 | D35: =+ROUND(C35/1000, 0) -> 24454 | F35: =+D40+D45 -> 2054 | H35: 7005 | I35: Regionshospitalet Randers
A36: 12. RH Viborg - Omlægning fra akut til subakut behandling | B36: - | C36: 0 | F36: =+D27+D38+D41+D44 -> 20342 | G36: =+D39 -> 10920 | H36: 7601 | I36: Hospitalsenhed Midt
A37: 13. RH Viborg - Blodtransfusioner ambulant | B37: - | C37: 0 | H37: 7603 | I37: Sygehus Thy - Mors
A38: 14. RH Viborg - Omlægninger af aktivitet på Børneafdelingen | B38: Regions Hospitalet Viborg 7601 | C38: 2240460 | D38: =+ROUND(C38/1000, 0) -> 2240 | F38: =+D15+D16+D17+D21 -> 63018 | H38: 8001 | I38: Aalborg sygehus
A39: 15. RH Silkeborg - Aktivitetsfald, Center of Excellence | B39: Center of Excelence, RH Silkeborg, 7002 | C39: 10920482 | D39: =+ROUND(C39/1000, 0) -> 10920 | F39: =+D18 -> 2541 | H39: 8003 | I39: Sygehus Vendsyssel
A40: 16. Akutområdet - Aktivitetsfald på akutområdet | B40: Grenaa 7005 Beløb 1036 t.kr. | C40: 8216000 | D40: 1036 | H40: 8005 | I40: Sygehus Himmerland
B41: Silkeborg 7002 og 6630 (kun i 2012) Beløb 2372 t.kr | D41: 2372
B42: Holstebro 6501 og 6650 Beløb 16 t.kr. | D42: 16
B43: Århus 7003 (2011) 6620 (2012) Beløb 1381 t.kr | D43: 1381
B44: Viborg 7601 Beløb 1575 t.kr | D44: 1575
B45: Randers 7005 Beløb 1018 t.kr. | D45: 1018
B46: Herning 6502 og 6650 Beløb 69 t.kr. | D46: 69
B47: Horsens 6006 Beløb 749 t.kr. | D47: 749
A48: Jordemoderkorrektioner | B48: 6650 Beløb 1653 t kr. | C48: 7934593 | D48: 1653
B49: 7026 (2011) og 6620 (2012) Beløb 6282 t kr. | D49: 6282
A51: Korrektion for omlægning af aktivitet fra stationært til ambulant regi | B51: - | C51: Trukket tilbage af region
A52: Korrektion vedrørende 2609/2302 | B52: - | C52: Udgår
A53: I alt | C53: 227552369
A55: Region Syddanmark
A56: 1. Nyborg - Omlægning af aktivitet fra stationær til ambulant | B56: Stationær afdeling Nyborg nedlagt og erstattet af ambulant. | C56: 7368685 | D56: =+ROUND(C56/1000, 0) -> 7369
A57: Jordemoderkorrektioner | B57: 4202 Beløb 4622 t kr. | C57: 4622479 | D57: 18894
D58: 7768
A59: Korrektion vedrørende 2609/2302 | C59: Udgår
A60: I alt | C60: 11991164
A62: Region Hovedstaden
A63: 1. Bispebjerg - Tueprojekt | B63: Bispebjerg | C63: 1237536 | D63: =+ROUND(C63/1000, 0) -> 1238
A64: 2. Gentofte, Omlægning til ambulant KAG | B64: Gentofte | C64: 9643230 | D64: =+ROUND(C64/1000, 0) -> 9643
A65: Jordemoderkorrektioner | B65: 1330 Beløb 10530 t kr. | C65: 14216553 | D65: 25242
B66: 1516 Beløb 561 t kr. | D66: 6562
B67: 2000 Beløb 3125 t kr. | D67: 1984
A68: Korrektion vedrørende 2609/2302 | C68: Udgår
A69: I alt | C69: 25097319
A71: Region Sjælland
A72: Jordemoderkorrektioner | B72: 3800 Beløb 15900 t kr. | C72: 15900409 | D72: =+ROUND(C72/1000, 0) -> 15900
A73: Korrektion vedrørende 2609/2302 | C73: Udgår
A74: I alt | C74: 15900409
