Workbook
Name Print_Area: DRG_11!$A$1:$I$36
Name Print_Area: DRG_12!$A$1:$I$36
Name Print_Area: DRG_forskel!$A$1:$H$36
Name Print_Area: DTD_11!$A$1:$G$36
Name Print_Area: DTD_12!$A$1:$G$36
Name Print_Area: DTD_forskel!$A$1:$G$36
Name Print_Area: produktivitet!$A$1:$J$37
Name Print_Area: 'Skema1-7_2011'!$A$1:$J$36
Name Print_Area: 'Skema1-7_2012'!$A$1:$J$36
Name Print_Area: 'Skema1-7_forskel'!$A$1:$J$36
Name SAM_06: DRG_11!#REF!
Name SAM_06: DRG_12!#REF!
Name SAM_06: DRG_forskel!#REF!
Name SAM_07: produktivitet!$A$5:$B$37

Sheet (skema1-7_2011 - 11pl)
A1: Datagrundlag baseret på nyeste opdatering af driftsudgifter
A2: Sygehusenes nettodriftsudgifter for 2011, 1.000 kr. 2011 priser
A3: Tabel 0
A4: Nr. | B4: Sygehus | C4: Skema 1 | D4: Skema 2 | E4: Skema 3 | F4: Skema 4 | G4: Skema 5 | H4: Skema 6 | I4: Skema 7 | J4: Totale driftsudgifter, ekskl. udgifter der ikke bidrager til somatisk patient behandling
A5: 1301 | B5: Rigshospitalet | C5: 4113704 | D5: 146392.24 | E5: 77745.442 | F5: 0 | G5: 28307.668 | H5: -2161498.1 | I5: -913.01928 | J5: =SUM(C5:E5)-SUM(F5:I5) -> 6471945.2
A6: 1309 | B6: Bispebjerg Hospital | C6: 1615291 | D6: 46383.084 | E6: 30527.601 | F6: 0 | G6: 2692.2536 | H6: -40894.319 | I6: 57749.76 | J6: =SUM(C6:E6)-SUM(F6:I6) -> 1672654
A7: 1330 | B7: Hvidovre Hospital | C7: 1893141 | D7: 55915.078 | E7: 35778.725 | F7: 0 | G7: 4552.058 | H7: -125338.8 | I7: -5588.0229 | J7: =SUM(C7:E7)-SUM(F7:I7) -> 2111209.6
A8: 1351 | B8: Amager Hospital | C8: 337782 | D8: 9307.8206 | E8: 6383.7872 | F8: 0 | G8: 0 | H8: 393.00887 | I8: -17602.093 | J8: =SUM(C8:E8)-SUM(F8:I8) -> 370682.69
A9: 1401 | B9: Frederiksberg Hospital | C9: 599589 | D9: 18168.081 | E9: 11331.713 | F9: 0 | G9: 0 | H9: -41992.972 | I9: -41233.926 | J9: =SUM(C9:E9)-SUM(F9:I9) -> 712315.69
A10: 1501 | B10: Gentofte Hospital | C10: 1138215 | D10: 33487.155 | E10: 21511.259 | F10: 0 | G10: 0 | H10: -40808.842 | I10: -23218.518 | J10: =SUM(C10:E10)-SUM(F10:I10) -> 1257240.8
A11: 1502 | B11: Glostrup Hospital | C11: 1379978 | D11: 43631.79 | E11: 26080.389 | F11: 0 | G11: 0 | H11: -94268.095 | I11: 20366.375 | J11: =SUM(C11:E11)-SUM(F11:I11) -> 1523591.9
A12: 1516 | B12: Herlev Hospital | C12: 2778038 | D12: 86317.854 | E12: 52502.493 | F12: 0 | G12: 11414.11 | H12: -99117.261 | I12: 20659.898 | J12: =SUM(C12:E12)-SUM(F12:I12) -> 2983901.6
A13: 2000 | B13: Nordsjællands Hospital | C13: 2288925 | D13: 66291.133 | E13: 43258.7 | F13: 0 | G13: 938.05605 | H13: 112573.37 | I13: 5753.9746 | J13: =SUM(C13:E13)-SUM(F13:I13) -> 2279209.4
A14: 4001 | B14: Bornholms Hospital | C14: 382648 | D14: 11116.013 | E14: 7231.6969 | F14: 0 | G14: 0 | H14: 29157.827 | I14: -431.45263 | J14: =SUM(C14:E14)-SUM(F14:I14) -> 372269.34
A15: 2500 | B15: Sygehus Nord | C15: 3310816.8 | D15: 98803 | E15: 135498 | F15: 4149 | G15: 17666 | H15: 83091 | I15: -42268.895 | J15: =SUM(C15:E15)-SUM(F15:I15) -> 3482480.7
A16: 2501 | B16: Sygehus Syd | C16: 3131453 | D16: 95933 | E16: 130889 | F16: 10025 | G16: 10402 | H16: 118525 | I16: 42788.485 | J16: =SUM(C16:E16)-SUM(F16:I16) -> 3176534.5
... A27: 6630 | B27: Hospitalsenhed Midt | C27: 2103616.7 | D27: 59542 | E27: 51715 | F27: 1 | G27: 1462 | H27: 95989 | I27: 27639 | J27: =SUM(C27:E27)-SUM(F27:I27) -> 2089782.7
A28: 7603 | B28: Sygehus Thy - Mors | C28: 401365 | D28: 14238 | E28: 15583 | F28: 0 | G28: 2679 | H28: 20631 | I28: 21909 | J28: =SUM(C28:E28)-SUM(F28:I28)-77875.603 -> 308091.4
A29: 8001 | B29: Aalborg sygehus | C29: 3768069 | D29: 123922 | E29: 110847 | F29: 1693.495 | G29: 30116 | H29: 189139 | I29: -75825 | J29: =SUM(C29:E29)-SUM(F29:I29)+77875.603 -> 3935590.1
A30: 8003 | B30: Sygehus Vendsyssel | C30: 942927 | D30: 33024 | E30: 35899 | F30: 1339.227 | G30: 2559 | H30: 66603 | I30: 64010 | J30: =SUM(C30:E30)-SUM(F30:I30) -> 877338.77
A31: 8005 | B31: Sygehus Himmerland | C31: 221086 | D31: 8019 | E31: 14538 | F31: 0 | G31: 559 | H31: 11025 | I31: -10094 | J31: =SUM(C31:E31)-SUM(F31:I31) -> 242153
B36: Hele landet | C36: =+SUM(C5:C33) -> 52180157 | D36: =+SUM(D5:D33) -> 1611768.2 | E36: =+SUM(E5:E33) -> 1300736.8 | F36: =+SUM(F5:F33) -> 46261.722 | G36: =+SUM(G5:G33) -> 141892.14 | H36: =+SUM(H5:H33) -> -1077703.2 | I36: =+SUM(I5:I33) -> 72667.566 | J36: =SUM(C36:E36)-SUM(F36:I36) -> 55909544
B38: Hovedstaden | C38: =SUM(C5:C14) -> 16527311 | D38: =SUM(D5:D14) -> 517010.25 | E38: =SUM(E5:E14) -> 312351.81 | F38: =SUM(F5:F14) -> 0 | G38: =SUM(G5:G14) -> 47904.145 | H38: =SUM(H5:H14) -> -2461794.2 | I38: =SUM(I5:I14) -> 15542.976 | J38: =SUM(J5:J14) -> 19755020
B39: Sjælland | C39: =SUM(C15:C16) -> 6442269.8 | D39: =SUM(D15:D16) -> 194736 | E39: =SUM(E15:E16) -> 266387 | F39: =SUM(F15:F16) -> 14174 | G39: =SUM(G15:G16) -> 28068 | H39: =SUM(H15:H16) -> 201616 | I39: =SUM(I15:I16) -> 519.59 | J39: =SUM(J15:J16) -> 6659015.2
B40: Syddanmark | C40: =SUM(C17:C22) -> 12052030 | D40: =SUM(D17:D22) -> 245242 | E40: =SUM(E17:E22) -> 250337 | F40: =SUM(F17:F22) -> 23906 | G40: =SUM(G17:G22) -> 12512 | H40: =SUM(H17:H22) -> 476260 | I40: =SUM(I17:I22) -> 2037 | J40: =SUM(J17:J22) -> 12032894
B41: Midtjylland | C41: =SUM(C23:C27) -> 11825099 | D41: =SUM(D23:D27) -> 475577 | E41: =SUM(E23:E27) -> 294794 | F41: =SUM(F23:F27) -> 5149 | G41: =SUM(G23:G27) -> 17495 | H41: =SUM(H23:H27) -> 418817 | I41: =SUM(I23:I27) -> 54568 | J41: =SUM(J23:J27) -> 12099441
B42: Nordjylland | C42: =SUM(C28:C31) -> 5333447 | D42: =SUM(D28:D31) -> 179203 | E42: =SUM(E28:E31) -> 176867 | F42: =SUM(F28:F31) -> 3032.722 | G42: =SUM(G28:G31) -> 35913 | H42: =SUM(H28:H31) -> 287398 | I42: =SUM(I28:I31) -> 0 | J42: =SUM(J28:J31) -> 5363173.3
B43: Hele landet | C43: =+SUM(C38:C42) -> 52180157 | D43: =+SUM(D38:D42) -> 1611768.2 | E43: =+SUM(E38:E42) -> 1300736.8 | F43: =+SUM(F38:F42) -> 46261.722 | G43: =+SUM(G38:G42) -> 141892.14 | H43: =+SUM(H38:H42) -> -1077703.2 | I43: =+SUM(I38:I42) -> 72667.566 | J43: =+SUM(J38:J42) -> 55909544

Sheet Skema1-7_2011
A1: Endelig version -21. februar 2014 | F1: P/L-faktor (11-->12): | H1: 1.02
A2: Sygehusenes nettodriftsudgifter for 2011, 1.000 kr. 2012-priser
A3: Tabel 1.
A4: Nr. | B4: Sygehus | C4: Skema 1 | D4: Skema 2 | E4: Skema 3 | F4: Skema 4 | G4: Skema 5 | H4: Skema 6 | I4: Skema 7 | J4: Totale driftsudgifter, ekskl. udgifter der ikke bidrager til somatisk patient behandling
A5: 1301 | B5: Rigshospitalet | C5: =+'(skema1-7_2011 - 11pl)'!C5*'Skema1-7_2011'!$H$1 -> 4195978.1 | D5: =+'(skema1-7_2011 - 11pl)'!D5*'Skema1-7_2011'!$H$1 -> 149320.08 | E5: =+'(skema1-7_2011 - 11pl)'!E5*'Skema1-7_2011'!$H$1 -> 79300.351 | F5: =+'(skema1-7_2011 - 11pl)'!F5*'Skema1-7_2011'!$H$1 -> 0 | G5: =+'(skema1-7_2011 - 11pl)'!G5*'Skema1-7_2011'!$H$1 -> 28873.821 | H5: =+'(skema1-7_2011 - 11pl)'!H5*'Skema1-7_2011'!$H$1 -> -2204728.1 | I5: =+'(skema1-7_2011 - 11pl)'!I5*'Skema1-7_2011'!$H$1 -> -931.27967 | J5: =+SUM(C5:E5) - SUM(F5:I5) -> 6601384.1
A6: 1309 | B6: Bispebjerg Hospital | C6: =+'(skema1-7_2011 - 11pl)'!C6*'Skema1-7_2011'!$H$1 -> 1647596.8 | D6: =+'(skema1-7_2011 - 11pl)'!D6*'Skema1-7_2011'!$H$1 -> 47310.745 | E6: =+'(skema1-7_2011 - 11pl)'!E6*'Skema1-7_2011'!$H$1 -> 31138.153 | F6: =+'(skema1-7_2011 - 11pl)'!F6*'Skema1-7_2011'!$H$1 -> 0 | G6: =+'(skema1-7_2011 - 11pl)'!G6*'Skema1-7_2011'!$H$1 -> 2746.0987 | H6: =+'(skema1-7_2011 - 11pl)'!H6*'Skema1-7_2011'!$H$1 -> -41712.205 | I6: =+'(skema1-7_2011 - 11pl)'!I6*'Skema1-7_2011'!$H$1 -> 58904.755 | J6: =+SUM(C6:E6) - SUM(F6:I6) -> 1706107.1
A7: 1330 | B7: Hvidovre Hospital | C7: =+'(skema1-7_2011 - 11pl)'!C7*'Skema1-7_2011'!$H$1 -> 1931003.8 | D7: =+'(skema1-7_2011 - 11pl)'!D7*'Skema1-7_2011'!$H$1 -> 57033.38 | E7: =+'(skema1-7_2011 - 11pl)'!E7*'Skema1-7_2011'!$H$1 -> 36494.3 | F7: =+'(skema1-7_2011 - 11pl)'!F7*'Skema1-7_2011'!$H$1 -> 0 | G7: =+'(skema1-7_2011 - 11pl)'!G7*'Skema1-7_2011'!$H$1 -> 4643.0992 | H7: =+'(skema1-7_2011 - 11pl)'!H7*'Skema1-7_2011'!$H$1 -> -127845.58 | I7: =+'(skema1-7_2011 - 11pl)'!I7*'Skema1-7_2011'!$H$1 -> -5699.7834 | J7: =+SUM(C7:E7) - SUM(F7:I7) -> 2153433.8
A8: 1351 | B8: Amager Hospital | C8: =+'(skema1-7_2011 - 11pl)'!C8*'Skema1-7_2011'!$H$1 -> 344537.64 | D8: =+'(skema1-7_2011 - 11pl)'!D8*'Skema1-7_2011'!$H$1 -> 9493.9771 | E8: =+'(skema1-7_2011 - 11pl)'!E8*'Skema1-7_2011'!$H$1 -> 6511.463 | F8: =+'(skema1-7_2011 - 11pl)'!F8*'Skema1-7_2011'!$H$1 -> 0 | G8: =+'(skema1-7_2011 - 11pl)'!G8*'Skema1-7_2011'!$H$1 -> 0 | H8: =+'(skema1-7_2011 - 11pl)'!H8*'Skema1-7_2011'!$H$1 -> 400.86905 | I8: =+'(skema1-7_2011 - 11pl)'!I8*'Skema1-7_2011'!$H$1 -> -17954.135 | J8: =+SUM(C8:E8) - SUM(F8:I8) -> 378096.35
A9: 1401 | B9: Frederiksberg Hospital | C9: =+'(skema1-7_2011 - 11pl)'!C9*'Skema1-7_2011'!$H$1 -> 611580.78 | D9: =+'(skema1-7_2011 - 11pl)'!D9*'Skema1-7_2011'!$H$1 -> 18531.442 | E9: =+'(skema1-7_2011 - 11pl)'!E9*'Skema1-7_2011'!$H$1 -> 11558.347 | F9: =+'(skema1-7_2011 - 11pl)'!F9*'Skema1-7_2011'!$H$1 -> 0 | G9: =+'(skema1-7_2011 - 11pl)'!G9*'Skema1-7_2011'!$H$1 -> 0 | H9: =+'(skema1-7_2011 - 11pl)'!H9*'Skema1-7_2011'!$H$1 -> -42832.832 | I9: =+'(skema1-7_2011 - 11pl)'!I9*'Skema1-7_2011'!$H$1 -> -42058.604 | J9: =+SUM(C9:E9) - SUM(F9:I9) -> 726562.01
A10: 1501 | B10: Gentofte Hospital | C10: =+'(skema1-7_2011 - 11pl)'!C10*'Skema1-7_2011'!$H$1 -> 1160979.3 | D10: =+'(skema1-7_2011 - 11pl)'!D10*'Skema1-7_2011'!$H$1 -> 34156.898 | E10: =+'(skema1-7_2011 - 11pl)'!E10*'Skema1-7_2011'!$H$1 -> 21941.484 | F10: =+'(skema1-7_2011 - 11pl)'!F10*'Skema1-7_2011'!$H$1 -> 0 | G10: =+'(skema1-7_2011 - 11pl)'!G10*'Skema1-7_2011'!$H$1 -> 0 | H10: =+'(skema1-7_2011 - 11pl)'!H10*'Skema1-7_2011'!$H$1 -> -41625.019 | I10: =+'(skema1-7_2011 - 11pl)'!I10*'Skema1-7_2011'!$H$1 -> -23682.888 | J10: =+SUM(C10:E10) - SUM(F10:I10) -> 1282385.6
A11: 1502 | B11: Glostrup Hospital | C11: =+'(skema1-7_2011 - 11pl)'!C11*'Skema1-7_2011'!$H$1 -> 1407577.6 | D11: =+'(skema1-7_2011 - 11pl)'!D11*'Skema1-7_2011'!$H$1 -> 44504.426 | E11: =+'(skema1-7_2011 - 11pl)'!E11*'Skema1-7_2011'!$H$1 -> 26601.997 | F11: =+'(skema1-7_2011 - 11pl)'!F11*'Skema1-7_2011'!$H$1 -> 0 | G11: =+'(skema1-7_2011 - 11pl)'!G11*'Skema1-7_2011'!$H$1 -> 0 | H11: =+'(skema1-7_2011 - 11pl)'!H11*'Skema1-7_2011'!$H$1 -> -96153.457 | I11: =+'(skema1-7_2011 - 11pl)'!I11*'Skema1-7_2011'!$H$1 -> 20773.703 | J11: =+SUM(C11:E11) - SUM(F11:I11) -> 1554063.7
A12: 1516 | B12: Herlev Hospital | C12: =+'(skema1-7_2011 - 11pl)'!C12*'Skema1-7_2011'!$H$1 -> 2833598.8 | D12: =+'(skema1-7_2011 - 11pl)'!D12*'Skema1-7_2011'!$H$1 -> 88044.211 | E12: =+'(skema1-7_2011 - 11pl)'!E12*'Skema1-7_2011'!$H$1 -> 53552.543 | F12: =+'(skema1-7_2011 - 11pl)'!F12*'Skema1-7_2011'!$H$1 -> 0 | G12: =+'(skema1-7_2011 - 11pl)'!G12*'Skema1-7_2011'!$H$1 -> 11642.392 | H12: =+'(skema1-7_2011 - 11pl)'!H12*'Skema1-7_2011'!$H$1 -> -101099.61 | I12: =+'(skema1-7_2011 - 11pl)'!I12*'Skema1-7_2011'!$H$1 -> 21073.096 | J12: =+SUM(C12:E12) - SUM(F12:I12) -> 3043579.6
A13: 2000 | B13: Nordsjællands Hospital | C13: =+'(skema1-7_2011 - 11pl)'!C13*'Skema1-7_2011'!$H$1 -> 2334703.5 | D13: =+'(skema1-7_2011 - 11pl)'!D13*'Skema1-7_2011'!$H$1 -> 67616.956 | E13: =+'(skema1-7_2011 - 11pl)'!E13*'Skema1-7_2011'!$H$1 -> 44123.874 | F13: =+'(skema1-7_2011 - 11pl)'!F13*'Skema1-7_2011'!$H$1 -> 0 | G13: =+'(skema1-7_2011 - 11pl)'!G13*'Skema1-7_2011'!$H$1 -> 956.81717 | H13: =+'(skema1-7_2011 - 11pl)'!H13*'Skema1-7_2011'!$H$1 -> 114824.84 | I13: =+'(skema1-7_2011 - 11pl)'!I13*'Skema1-7_2011'!$H$1 -> 5869.0541 | J13: =+SUM(C13:E13) - SUM(F13:I13) -> 2324793.6
A14: 4001 | B14: Bornholms Hospital | C14: =+'(skema1-7_2011 - 11pl)'!C14*'Skema1-7_2011'!$H$1 -> 390300.96 | D14: =+'(skema1-7_2011 - 11pl)'!D14*'Skema1-7_2011'!$H$1 -> 11338.333 | E14: =+'(skema1-7_2011 - 11pl)'!E14*'Skema1-7_2011'!$H$1 -> 7376.3308 | F14: =+'(skema1-7_2011 - 11pl)'!F14*'Skema1-7_2011'!$H$1 -> 0 | G14: =+'(skema1-7_2011 - 11pl)'!G14*'Skema1-7_2011'!$H$1 -> 0 | H14: =+'(skema1-7_2011 - 11pl)'!H14*'Skema1-7_2011'!$H$1 -> 29740.984 | I14: =+'(skema1-7_2011 - 11pl)'!I14*'Skema1-7_2011'!$H$1 -> -440.08169 | J14: =+SUM(C14:E14) - SUM(F14:I14) -> 379714.72
A15: 2500 | B15: Sygehus Nord | C15: =+'(skema1-7_2011 - 11pl)'!C15*'Skema1-7_2011'!$H$1 -> 3377033.1 | D15: =+'(skema1-7_2011 - 11pl)'!D15*'Skema1-7_2011'!$H$1 -> 100779.06 | E15: =+'(skema1-7_2011 - 11pl)'!E15*'Skema1-7_2011'!$H$1 -> 138207.96 | F15: =+'(skema1-7_2011 - 11pl)'!F15*'Skema1-7_2011'!$H$1 -> 4231.98 | G15: =+'(skema1-7_2011 - 11pl)'!G15*'Skema1-7_2011'!$H$1 -> 18019.32 | H15: =+'(skema1-7_2011 - 11pl)'!H15*'Skema1-7_2011'!$H$1 -> 84752.82 | I15: =+'(skema1-7_2011 - 11pl)'!I15*'Skema1-7_2011'!$H$1 -> -43114.273 | J15: =+SUM(C15:E15) - SUM(F15:I15) -> 3552130.3
A16: 2501 | B16: Sygehus Syd | C16: =+'(skema1-7_2011 - 11pl)'!C16*'Skema1-7_2011'!$H$1 -> 3194082.1 | D16: =+'(skema1-7_2011 - 11pl)'!D16*'Skema1-7_2011'!$H$1 -> 97851.66 | E16: =+'(skema1-7_2011 - 11pl)'!E16*'Skema1-7_2011'!$H$1 -> 133506.78 | F16: =+'(skema1-7_2011 - 11pl)'!F16*'Skema1-7_2011'!$H$1 -> 10225.5 | G16: =+'(skema1-7_2011 - 11pl)'!G16*'Skema1-7_2011'!$H$1 -> 10610.04 | H16: =+'(skema1-7_2011 - 11pl)'!H16*'Skema1-7_2011'!$H$1 -> 120895.5 | I16: =+'(skema1-7_2011 - 11pl)'!I16*'Skema1-7_2011'!$H$1 -> 43644.255 | J16: =+SUM(C16:E16) - SUM(F16:I16) -> 3240065.2
... A31: 8005 | B31: Sygehus Himmerland | C31: =+'(skema1-7_2011 - 11pl)'!C31*'Skema1-7_2011'!$H$1 -> 225507.72 | D31: =+'(skema1-7_2011 - 11pl)'!D31*'Skema1-7_2011'!$H$1 -> 8179.38 | E31: =+'(skema1-7_2011 - 11pl)'!E31*'Skema1-7_2011'!$H$1 -> 14828.76 | F31: =+'(skema1-7_2011 - 11pl)'!F31*'Skema1-7_2011'!$H$1 -> 0 | G31: =+'(skema1-7_2011 - 11pl)'!G31*'Skema1-7_2011'!$H$1 -> 570.18 | H31: =+'(skema1-7_2011 - 11pl)'!H31*'Skema1-7_2011'!$H$1 -> 11245.5 | I31: =+'(skema1-7_2011 - 11pl)'!I31*'Skema1-7_2011'!$H$1 -> -10295.88 | J31: =+SUM(C31:E31) - SUM(F31:I31) -> 246996.06
B36: Hele landet | C36: =+SUM(C5:C33) -> 53223760 | D36: =+SUM(D5:D33) -> 1644003.6 | E36: =+SUM(E5:E33) -> 1326751.5 | F36: =+SUM(F5:F33) -> 47186.956 | G36: =+SUM(G5:G33) -> 144729.99 | H36: =+SUM(H5:H33) -> -1099257.3 | I36: =+SUM(I5:I33) -> 74120.917 | J36: =SUM(C36:E36)-SUM(F36:I36) -> 57027735
B38: Hovedstaden | C38: =SUM(C5:C14) -> 16857857 | D38: =SUM(D5:D14) -> 527350.45 | E38: =SUM(E5:E14) -> 318598.84 | F38: =SUM(F5:F14) -> 0 | G38: =SUM(G5:G14) -> 48862.228 | H38: =SUM(H5:H14) -> -2511030.1 | I38: =SUM(I5:I14) -> 15853.835 | J38: =SUM(J5:J14) -> 20150121
B39: Sjælland | C39: =SUM(C15:C16) -> 6571115.2 | D39: =SUM(D15:D16) -> 198630.72 | E39: =SUM(E15:E16) -> 271714.74 | F39: =SUM(F15:F16) -> 14457.48 | G39: =SUM(G15:G16) -> 28629.36 | H39: =SUM(H15:H16) -> 205648.32 | I39: =SUM(I15:I16) -> 529.9818 | J39: =SUM(J15:J16) -> 6792195.5
B40: Syddanmark | C40: =SUM(C17:C22) -> 12293071 | D40: =SUM(D17:D22) -> 250146.84 | E40: =SUM(E17:E22) -> 255343.74 | F40: =SUM(F17:F22) -> 24384.12 | G40: =SUM(G17:G22) -> 12762.24 | H40: =SUM(H17:H22) -> 485785.2 | I40: =SUM(I17:I22) -> 2077.74 | J40: =SUM(J17:J22) -> 12273552
B41: Midtjylland | C41: =SUM(C23:C27) -> 12061601 | D41: =SUM(D23:D27) -> 485088.54 | E41: =SUM(E23:E27) -> 300689.88 | F41: =SUM(F23:F27) -> 5251.98 | G41: =SUM(G23:G27) -> 17844.9 | H41: =SUM(H23:H27) -> 427193.34 | I41: =SUM(I23:I27) -> 55659.36 | J41: =SUM(J23:J27) -> 12341430
B42: Nordjylland | C42: =SUM(C28:C31) -> 5440115.9 | D42: =SUM(D28:D31) -> 182787.06 | E42: =SUM(E28:E31) -> 180404.34 | F42: =SUM(F28:F31) -> 3093.3764 | G42: =SUM(G28:G31) -> 36631.26 | H42: =SUM(H28:H31) -> 293145.96 | I42: =SUM(I28:I31) -> 0 | J42: =SUM(J28:J31) -> 5470436.7
B43: Hele landet | C43: =+SUM(C38:C42) -> 53223760 | D43: =+SUM(D38:D42) -> 1644003.6 | E43: =+SUM(E38:E42) -> 1326751.5 | F43: =+SUM(F38:F42) -> 47186.956 | G43: =+SUM(G38:G42) -> 144729.99 | H43: =+SUM(H38:H42) -> -1099257.3 | I43: =+SUM(I38:I42) -> 74120.917 | J43: =+SUM(J38:J42) -> 57027735

Sheet Skema1-7_2012
A1: =+'Skema1-7_2011'!A1 -> Endelig version -21. februar 2014
A2: Sygehusenes nettodriftsudgifter for 2012, 1.000 kr. 2012 priser
A3: Tabel 2.
A4: Nr. | B4: Sygehus | C4: Skema 1 | D4: Skema 2 | E4: Skema 3 | F4: Skema 4 | G4: Skema 5 | H4: Skema 6 | I4: Skema 7 | J4: Totale driftsudgifter, ekskl. udgifter der ikke bidrager til somatisk patient behandling
A5: 1301 | B5: Rigshospitalet | C5: 4269891.1 | D5: 154572.51 | E5: 275031.75 | F5: 0 | G5: 40242.034 | H5: -1875007.1 | I5: -3401 | J5: =SUM(C5:E5)-SUM(F5:I5) -> 6537661.3
A6: 1309 | B6: Bispebjerg Hospital | C6: 1658913.5 | D6: 24729.115 | E6: 106853.75 | F6: 0 | G6: 2027.788 | H6: -56060.292 | I6: 109557 | J6: =SUM(C6:E6)-SUM(F6:I6) -> 1734971.9
A7: 1330 | B7: Hvidovre Hospital | C7: 1950773 | D7: 32534.176 | E7: 125652.97 | F7: 0 | G7: 3456.2088 | H7: -116002.21 | I7: 72101 | J7: =SUM(C7:E7)-SUM(F7:I7) -> 2149405.1
A8: 1351 | B8: Amager Hospital | C8: 299031.77 | D8: 3184.8456 | E8: 19261.201 | F8: 0 | G8: 0 | H8: -479.871 | I8: -48304 | J8: =SUM(C8:E8)-SUM(F8:I8) -> 370261.69
A9: 1401 | B9: Frederiksberg Hospital | C9: 495725.71 | D9: 10498.626 | E9: 31930.63 | F9: 0 | G9: 0 | H9: -63429.099 | I9: -105026 | J9: =SUM(C9:E9)-SUM(F9:I9) -> 706610.06
A10: 1501 | B10: Gentofte Hospital | C10: 1141839 | D10: 19055.996 | E10: 73548.01 | F10: 0 | G10: 0 | H10: -46172.729 | I10: -13082 | J10: =SUM(C10:E10)-SUM(F10:I10) -> 1293697.8
A11: 1502 | B11: Glostrup Hospital | C11: 1456429.8 | D11: 38220.531 | E11: 93811.398 | F11: 0 | G11: 0 | H11: -139578.75 | I11: -649 | J11: =SUM(C11:E11)-SUM(F11:I11) -> 1728689.5
A12: 1516 | B12: Herlev Hospital | C12: 2881159.3 | D12: 64615.659 | E12: 185580.92 | F12: 0 | G12: 11304.255 | H12: -104898.43 | I12: 40692 | J12: =SUM(C12:E12)-SUM(F12:I12) -> 3184258.1
A13: 2000 | B13: Nordsjællands Hospital | C13: 2266563.8 | D13: 34204.881 | E13: 145993.66 | F13: 0 | G13: 973.51773 | H13: 110267.89 | I13: -31844 | J13: =SUM(C13:E13)-SUM(F13:I13) -> 2367365
A14: 4001 | B14: Bornholms Hospital | C14: 382632.34 | D14: 5995.0408 | E14: 24646.072 | F14: 0 | G14: 0 | H14: 29123 | I14: -1145 | J14: =SUM(C14:E14)-SUM(F14:I14) -> 385295.45
A15: 2500 | B15: Sygehus Nord | C15: 3525217.2 | D15: 111124 | E15: 141290 | F15: 3947 | G15: 20197.975 | H15: 105623.58 | I15: -44834 | J15: =SUM(C15:E15)-SUM(F15:I15) -> 3692696.6
A16: 2501 | B16: Sygehus Syd | C16: 3229582.5 | D16: 104229 | E16: 134553 | F16: 10573 | G16: 8898 | H16: 130012.91 | I16: 44834 | J16: =SUM(C16:E16)-SUM(F16:I16) -> 3274046.6
... A31: 8005 | B31: Sygehus Himmerland | C31: 229981.96 | D31: 13037.624 | E31: 15885.93 | F31: 0 | G31: 602.55819 | H31: 11046 | I31: -6666.1966 | J31: =SUM(C31:E31)-SUM(F31:I31) -> 253923.16
B36: Hele landet | C36: =+SUM(C5:C33) -> 53419888 | D36: =+SUM(D5:D33) -> 1748795.8 | E36: =+SUM(E5:E33) -> 2137728.6 | F36: =+SUM(F5:F33) -> 55557.792 | G36: =+SUM(G5:G33) -> 214769.05 | H36: =+SUM(H5:H33) -> -1405541.5 | I36: =+SUM(I5:I33) -> 64787 | J36: =SUM(C36:E36)-SUM(F36:I36) -> 58376840
B38: Hovedstaden | C38: =SUM(C5:C14) -> 16802959 | D38: =SUM(D5:D14) -> 387611.38 | E38: =SUM(E5:E14) -> 1082310.4 | F38: =SUM(F5:F14) -> 0 | G38: =SUM(G5:G14) -> 58003.803 | H38: =SUM(H5:H14) -> -2262237.5 | I38: =SUM(I5:I14) -> 18899 | J38: =SUM(J5:J14) -> 20458216
B39: Sjælland | C39: =SUM(C15:C16) -> 6754799.7 | D39: =SUM(D15:D16) -> 215353 | E39: =SUM(E15:E16) -> 275843 | F39: =SUM(F15:F16) -> 14520 | G39: =SUM(G15:G16) -> 29095.975 | H39: =SUM(H15:H16) -> 235636.49 | I39: =SUM(I15:I16) -> 0 | J39: =SUM(J15:J16) -> 6966743.3
B40: Syddanmark | C40: =SUM(C17:C22) -> 12597147 | D40: =SUM(D17:D22) -> 395089 | E40: =SUM(E17:E22) -> 266848 | F40: =SUM(F17:F22) -> 31008 | G40: =SUM(G17:G22) -> 31677 | H40: =SUM(H17:H22) -> 509554 | I40: =SUM(I17:I22) -> 608 | J40: =SUM(J17:J22) -> 12686237
B41: Midtjylland | C41: =SUM(C23:C27) -> 11807078 | D41: =SUM(D23:D27) -> 539697 | E41: =SUM(E23:E27) -> 321709 | F41: =SUM(F23:F27) -> 5948 | G41: =SUM(G23:G27) -> 57579 | H41: =SUM(H23:H27) -> -179894.14 | I41: =SUM(I23:I27) -> 45280 | J41: =SUM(J23:J27) -> 12739572
B42: Nordjylland | C42: =SUM(C28:C31) -> 5457903.2 | D42: =SUM(D28:D31) -> 211045.43 | E42: =SUM(E28:E31) -> 191018.21 | F42: =SUM(F28:F31) -> 4081.792 | G42: =SUM(G28:G31) -> 38413.27 | H42: =SUM(H28:H31) -> 291399.69 | I42: =SUM(I28:I31) -> -2.0372681e-10 | J42: =SUM(J28:J31) -> 5526072.1
B43: Hele landet | C43: =+SUM(C38:C42) -> 53419888 | D43: =+SUM(D38:D42) -> 1748795.8 | E43: =+SUM(E38:E42) -> 2137728.6 | F43: =+SUM(F38:F42) -> 55557.792 | G43: =+SUM(G38:G42) -> 214769.05 | H43: =+SUM(H38:H42) -> -1405541.5 | I43: =+SUM(I38:I42) -> 64787 | J43: =+SUM(J38:J42) -> 58376840

Sheet Skema1-7_forskel
A1: ='Skema1-7_2011'!A1 -> Endelig version -21. februar 2014
A2: Sygehusenes nettodriftsudgifter, procentvis ændring fra 2011-2012
A3: Tabel 3.
A4: Nr. | B4: Sygehus | C4: Skema 1 | D4: Skema 2 | E4: Skema 3 | F4: Skema 4 | G4: Skema 5 | H4: Skema 6 | I4: Skema 7 | J4: Totale driftsudgifter, ekskl. udgifter der ikke bidrager til somatisk patient behandling
A5: 1301 | B5: Rigshospitalet | C5: =IF('Skema1-7_2011'!C5=0,"-",'Skema1-7_2012'!C5/'Skema1-7_2011'!C5*100-100) -> 1.7615198 | D5: =IF('Skema1-7_2011'!D5=0,"-",'Skema1-7_2012'!D5/'Skema1-7_2011'!D5*100-100) -> 3.5175632 | E5: =IF('Skema1-7_2011'!E5=0,"-",'Skema1-7_2012'!E5/'Skema1-7_2011'!E5*100-100) -> 246.82287 | F5: =IF('Skema1-7_2011'!F5=0,"-",'Skema1-7_2012'!F5/'Skema1-7_2011'!F5*100-100) -> - | G5: =IF('Skema1-7_2011'!G5=0,"-",'Skema1-7_2012'!G5/'Skema1-7_2011'!G5*100-100) -> 39.372042 | H5: =IF('Skema1-7_2011'!H5=0,"-",'Skema1-7_2012'!H5/'Skema1-7_2011'!H5*100-100) -> -14.955179 | I5: =IF('Skema1-7_2011'!I5=0,"-",'Skema1-7_2012'!I5/'Skema1-7_2011'!I5*100-100) -> 265.19642 | J5: =IF('Skema1-7_2011'!J5=0,"-",'Skema1-7_2012'!J5/'Skema1-7_2011'!J5*100-100) -> -0.96529338
A6: 1309 | B6: Bispebjerg Hospital | C6: =IF('Skema1-7_2011'!C6=0,"-",'Skema1-7_2012'!C6/'Skema1-7_2011'!C6*100-100) -> 0.68685931 | D6: =IF('Skema1-7_2011'!D6=0,"-",'Skema1-7_2012'!D6/'Skema1-7_2011'!D6*100-100) -> -47.730447 | E6: =IF('Skema1-7_2011'!E6=0,"-",'Skema1-7_2012'!E6/'Skema1-7_2011'!E6*100-100) -> 243.16022 | F6: =IF('Skema1-7_2011'!F6=0,"-",'Skema1-7_2012'!F6/'Skema1-7_2011'!F6*100-100) -> - | G6: =IF('Skema1-7_2011'!G6=0,"-",'Skema1-7_2012'!G6/'Skema1-7_2011'!G6*100-100) -> -26.157497 | H6: =IF('Skema1-7_2011'!H6=0,"-",'Skema1-7_2012'!H6/'Skema1-7_2011'!H6*100-100) -> 34.397814 | I6: =IF('Skema1-7_2011'!I6=0,"-",'Skema1-7_2012'!I6/'Skema1-7_2011'!I6*100-100) -> 85.990079 | J6: =IF('Skema1-7_2011'!J6=0,"-",'Skema1-7_2012'!J6/'Skema1-7_2011'!J6*100-100) -> 1.6918513
A7: 1330 | B7: Hvidovre Hospital | C7: =IF('Skema1-7_2011'!C7=0,"-",'Skema1-7_2012'!C7/'Skema1-7_2011'!C7*100-100) -> 1.0237756 | D7: =IF('Skema1-7_2011'!D7=0,"-",'Skema1-7_2012'!D7/'Skema1-7_2011'!D7*100-100) -> -42.955903 | E7: =IF('Skema1-7_2011'!E7=0,"-",'Skema1-7_2012'!E7/'Skema1-7_2011'!E7*100-100) -> 244.30849 | F7: =IF('Skema1-7_2011'!F7=0,"-",'Skema1-7_2012'!F7/'Skema1-7_2011'!F7*100-100) -> - | G7: =IF('Skema1-7_2011'!G7=0,"-",'Skema1-7_2012'!G7/'Skema1-7_2011'!G7*100-100) -> -25.562461 | H7: =IF('Skema1-7_2011'!H7=0,"-",'Skema1-7_2012'!H7/'Skema1-7_2011'!H7*100-100) -> -9.2638083 | I7: =IF('Skema1-7_2011'!I7=0,"-",'Skema1-7_2012'!I7/'Skema1-7_2011'!I7*100-100) -> -1364.9779 | J7: =IF('Skema1-7_2011'!J7=0,"-",'Skema1-7_2012'!J7/'Skema1-7_2011'!J7*100-100) -> -0.18708006
A8: 1351 | B8: Amager Hospital | C8: =IF('Skema1-7_2011'!C8=0,"-",'Skema1-7_2012'!C8/'Skema1-7_2011'!C8*100-100) -> -13.207809 | D8: =IF('Skema1-7_2011'!D8=0,"-",'Skema1-7_2012'!D8/'Skema1-7_2011'!D8*100-100) -> -66.454041 | E8: =IF('Skema1-7_2011'!E8=0,"-",'Skema1-7_2012'!E8/'Skema1-7_2011'!E8*100-100) -> 195.80451 | F8: =IF('Skema1-7_2011'!F8=0,"-",'Skema1-7_2012'!F8/'Skema1-7_2011'!F8*100-100) -> - | G8: =IF('Skema1-7_2011'!G8=0,"-",'Skema1-7_2012'!G8/'Skema1-7_2011'!G8*100-100) -> - | H8: =IF('Skema1-7_2011'!H8=0,"-",'Skema1-7_2012'!H8/'Skema1-7_2011'!H8*100-100) -> -219.70767 | I8: =IF('Skema1-7_2011'!I8=0,"-",'Skema1-7_2012'!I8/'Skema1-7_2011'!I8*100-100) -> 169.04109 | J8: =IF('Skema1-7_2011'!J8=0,"-",'Skema1-7_2012'!J8/'Skema1-7_2011'!J8*100-100) -> -2.0721334
A9: 1401 | B9: Frederiksberg Hospital | C9: =IF('Skema1-7_2011'!C9=0,"-",'Skema1-7_2012'!C9/'Skema1-7_2011'!C9*100-100) -> -18.943543 | D9: =IF('Skema1-7_2011'!D9=0,"-",'Skema1-7_2012'!D9/'Skema1-7_2011'!D9*100-100) -> -43.346959 | E9: =IF('Skema1-7_2011'!E9=0,"-",'Skema1-7_2012'!E9/'Skema1-7_2011'!E9*100-100) -> 176.25602 | F9: =IF('Skema1-7_2011'!F9=0,"-",'Skema1-7_2012'!F9/'Skema1-7_2011'!F9*100-100) -> - | G9: =IF('Skema1-7_2011'!G9=0,"-",'Skema1-7_2012'!G9/'Skema1-7_2011'!G9*100-100) -> - | H9: =IF('Skema1-7_2011'!H9=0,"-",'Skema1-7_2012'!H9/'Skema1-7_2011'!H9*100-100) -> 48.085234 | I9: =IF('Skema1-7_2011'!I9=0,"-",'Skema1-7_2012'!I9/'Skema1-7_2011'!I9*100-100) -> 149.71347 | J9: =IF('Skema1-7_2011'!J9=0,"-",'Skema1-7_2012'!J9/'Skema1-7_2011'!J9*100-100) -> -2.7460754
A10: 1501 | B10: Gentofte Hospital | C10: =IF('Skema1-7_2011'!C10=0,"-",'Skema1-7_2012'!C10/'Skema1-7_2011'!C10*100-100) -> -1.6486313 | D10: =IF('Skema1-7_2011'!D10=0,"-",'Skema1-7_2012'!D10/'Skema1-7_2011'!D10*100-100) -> -44.210403 | E10: =IF('Skema1-7_2011'!E10=0,"-",'Skema1-7_2012'!E10/'Skema1-7_2011'!E10*100-100) -> 235.20071 | F10: =IF('Skema1-7_2011'!F10=0,"-",'Skema1-7_2012'!F10/'Skema1-7_2011'!F10*100-100) -> - | G10: =IF('Skema1-7_2011'!G10=0,"-",'Skema1-7_2012'!G10/'Skema1-7_2011'!G10*100-100) -> - | H10: =IF('Skema1-7_2011'!H10=0,"-",'Skema1-7_2012'!H10/'Skema1-7_2011'!H10*100-100) -> 10.925424 | I10: =IF('Skema1-7_2011'!I10=0,"-",'Skema1-7_2012'!I10/'Skema1-7_2011'!I10*100-100) -> -44.761805 | J10: =IF('Skema1-7_2011'!J10=0,"-",'Skema1-7_2012'!J10/'Skema1-7_2011'!J10*100-100) -> 0.88211976
A11: 1502 | B11: Glostrup Hospital | C11: =IF('Skema1-7_2011'!C11=0,"-",'Skema1-7_2012'!C11/'Skema1-7_2011'!C11*100-100) -> 3.470663 | D11: =IF('Skema1-7_2011'!D11=0,"-",'Skema1-7_2012'!D11/'Skema1-7_2011'!D11*100-100) -> -14.119709 | E11: =IF('Skema1-7_2011'!E11=0,"-",'Skema1-7_2012'!E11/'Skema1-7_2011'!E11*100-100) -> 252.64796 | F11: =IF('Skema1-7_2011'!F11=0,"-",'Skema1-7_2012'!F11/'Skema1-7_2011'!F11*100-100) -> - | G11: =IF('Skema1-7_2011'!G11=0,"-",'Skema1-7_2012'!G11/'Skema1-7_2011'!G11*100-100) -> - | H11: =IF('Skema1-7_2011'!H11=0,"-",'Skema1-7_2012'!H11/'Skema1-7_2011'!H11*100-100) -> 45.162484 | I11: =IF('Skema1-7_2011'!I11=0,"-",'Skema1-7_2012'!I11/'Skema1-7_2011'!I11*100-100) -> -103.12414 | J11: =IF('Skema1-7_2011'!J11=0,"-",'Skema1-7_2012'!J11/'Skema1-7_2011'!J11*100-100) -> 11.236719
A12: 1516 | B12: Herlev Hospital | C12: =IF('Skema1-7_2011'!C12=0,"-",'Skema1-7_2012'!C12/'Skema1-7_2011'!C12*100-100) -> 1.6784513 | D12: =IF('Skema1-7_2011'!D12=0,"-",'Skema1-7_2012'!D12/'Skema1-7_2011'!D12*100-100) -> -26.609986 | E12: =IF('Skema1-7_2011'!E12=0,"-",'Skema1-7_2012'!E12/'Skema1-7_2011'!E12*100-100) -> 246.53988 | F12: =IF('Skema1-7_2011'!F12=0,"-",'Skema1-7_2012'!F12/'Skema1-7_2011'!F12*100-100) -> - | G12: =IF('Skema1-7_2011'!G12=0,"-",'Skema1-7_2012'!G12/'Skema1-7_2011'!G12*100-100) -> -2.9043601 | H12: =IF('Skema1-7_2011'!H12=0,"-",'Skema1-7_2012'!H12/'Skema1-7_2011'!H12*100-100) -> 3.7575014 | I12: =IF('Skema1-7_2011'!I12=0,"-",'Skema1-7_2012'!I12/'Skema1-7_2011'!I12*100-100) -> 93.099297 | J12: =IF('Skema1-7_2011'!J12=0,"-",'Skema1-7_2012'!J12/'Skema1-7_2011'!J12*100-100) -> 4.6221379
A13: 2000 | B13: Nordsjællands Hospital | C13: =IF('Skema1-7_2011'!C13=0,"-",'Skema1-7_2012'!C13/'Skema1-7_2011'!C13*100-100) -> -2.918558 | D13: =IF('Skema1-7_2011'!D13=0,"-",'Skema1-7_2012'!D13/'Skema1-7_2011'!D13*100-100) -> -49.413753 | E13: =IF('Skema1-7_2011'!E13=0,"-",'Skema1-7_2012'!E13/'Skema1-7_2011'!E13*100-100) -> 230.87226 | F13: =IF('Skema1-7_2011'!F13=0,"-",'Skema1-7_2012'!F13/'Skema1-7_2011'!F13*100-100) -> - | G13: =IF('Skema1-7_2011'!G13=0,"-",'Skema1-7_2012'!G13/'Skema1-7_2011'!G13*100-100) -> 1.7454284 | H13: =IF('Skema1-7_2011'!H13=0,"-",'Skema1-7_2012'!H13/'Skema1-7_2011'!H13*100-100) -> -3.9686134 | I13: =IF('Skema1-7_2011'!I13=0,"-",'Skema1-7_2012'!I13/'Skema1-7_2011'!I13*100-100) -> -642.57465 | J13: =IF('Skema1-7_2011'!J13=0,"-",'Skema1-7_2012'!J13/'Skema1-7_2011'!J13*100-100) -> 1.831188
A14: 4001 | B14: Bornholms Hospital | C14: =IF('Skema1-7_2011'!C14=0,"-",'Skema1-7_2012'!C14/'Skema1-7_2011'!C14*100-100) -> -1.9647968 | D14: =IF('Skema1-7_2011'!D14=0,"-",'Skema1-7_2012'!D14/'Skema1-7_2011'!D14*100-100) -> -47.125907 | E14: =IF('Skema1-7_2011'!E14=0,"-",'Skema1-7_2012'!E14/'Skema1-7_2011'!E14*100-100) -> 234.12374 | F14: =IF('Skema1-7_2011'!F14=0,"-",'Skema1-7_2012'!F14/'Skema1-7_2011'!F14*100-100) -> - | G14: =IF('Skema1-7_2011'!G14=0,"-",'Skema1-7_2012'!G14/'Skema1-7_2011'!G14*100-100) -> - | H14: =IF('Skema1-7_2011'!H14=0,"-",'Skema1-7_2012'!H14/'Skema1-7_2011'!H14*100-100) -> -2.0778854 | I14: =IF('Skema1-7_2011'!I14=0,"-",'Skema1-7_2012'!I14/'Skema1-7_2011'!I14*100-100) -> 160.17897 | J14: =IF('Skema1-7_2011'!J14=0,"-",'Skema1-7_2012'!J14/'Skema1-7_2011'!J14*100-100) -> 1.4697165
A15: 2500 | B15: Sygehus Nord | C15: =IF('Skema1-7_2011'!C15=0,"-",'Skema1-7_2012'!C15/'Skema1-7_2011'!C15*100-100) -> 4.3879961 | D15: =IF('Skema1-7_2011'!D15=0,"-",'Skema1-7_2012'!D15/'Skema1-7_2011'!D15*100-100) -> 10.26497 | E15: =IF('Skema1-7_2011'!E15=0,"-",'Skema1-7_2012'!E15/'Skema1-7_2011'!E15*100-100) -> 2.2300018 | F15: =IF('Skema1-7_2011'!F15=0,"-",'Skema1-7_2012'!F15/'Skema1-7_2011'!F15*100-100) -> -6.7339638 | G15: =IF('Skema1-7_2011'!G15=0,"-",'Skema1-7_2012'!G15/'Skema1-7_2011'!G15*100-100) -> 12.090662 | H15: =IF('Skema1-7_2011'!H15=0,"-",'Skema1-7_2012'!H15/'Skema1-7_2011'!H15*100-100) -> 24.625446 | I15: =IF('Skema1-7_2011'!I15=0,"-",'Skema1-7_2012'!I15/'Skema1-7_2011'!I15*100-100) -> 3.9887652 | J15: =IF('Skema1-7_2011'!J15=0,"-",'Skema1-7_2012'!J15/'Skema1-7_2011'!J15*100-100) -> 3.9572409
A16: 2501 | B16: Sygehus Syd | C16: =IF('Skema1-7_2011'!C16=0,"-",'Skema1-7_2012'!C16/'Skema1-7_2011'!C16*100-100) -> 1.1114457 | D16: =IF('Skema1-7_2011'!D16=0,"-",'Skema1-7_2012'!D16/'Skema1-7_2011'!D16*100-100) -> 6.5173549 | E16: =IF('Skema1-7_2011'!E16=0,"-",'Skema1-7_2012'!E16/'Skema1-7_2011'!E16*100-100) -> 0.78364559 | F16: =IF('Skema1-7_2011'!F16=0,"-",'Skema1-7_2012'!F16/'Skema1-7_2011'!F16*100-100) -> 3.3983668 | G16: =IF('Skema1-7_2011'!G16=0,"-",'Skema1-7_2012'!G16/'Skema1-7_2011'!G16*100-100) -> -16.136037 | H16: =IF('Skema1-7_2011'!H16=0,"-",'Skema1-7_2012'!H16/'Skema1-7_2011'!H16*100-100) -> 7.5415628 | I16: =IF('Skema1-7_2011'!I16=0,"-",'Skema1-7_2012'!I16/'Skema1-7_2011'!I16*100-100) -> 2.7260067 | J16: =IF('Skema1-7_2011'!J16=0,"-",'Skema1-7_2012'!J16/'Skema1-7_2011'!J16*100-100) -> 1.0487885
... A31: 8005 | B31: Sygehus Himmerland | C31: =IF('Skema1-7_2011'!C31=0,"-",'Skema1-7_2012'!C31/'Skema1-7_2011'!C31*100-100) -> 1.984076 | D31: =IF('Skema1-7_2011'!D31=0,"-",'Skema1-7_2012'!D31/'Skema1-7_2011'!D31*100-100) -> 59.396243 | E31: =IF('Skema1-7_2011'!E31=0,"-",'Skema1-7_2012'!E31/'Skema1-7_2011'!E31*100-100) -> 7.1291886 | F31: =IF('Skema1-7_2011'!F31=0,"-",'Skema1-7_2012'!F31/'Skema1-7_2011'!F31*100-100) -> - | G31: =IF('Skema1-7_2011'!G31=0,"-",'Skema1-7_2012'!G31/'Skema1-7_2011'!G31*100-100) -> 5.678591 | H31: =IF('Skema1-7_2011'!H31=0,"-",'Skema1-7_2012'!H31/'Skema1-7_2011'!H31*100-100) -> -1.774043 | I31: =IF('Skema1-7_2011'!I31=0,"-",'Skema1-7_2012'!I31/'Skema1-7_2011'!I31*100-100) -> -35.253746 | J31: =IF('Skema1-7_2011'!J31=0,"-",'Skema1-7_2012'!J31/'Skema1-7_2011'!J31*100-100) -> 2.8045377
B36: Hele landet | C36: =IF('Skema1-7_2011'!C36=0,"-",'Skema1-7_2012'!C36/'Skema1-7_2011'!C36*100-100) -> 0.36849592 | D36: =IF('Skema1-7_2011'!D36=0,"-",'Skema1-7_2012'!D36/'Skema1-7_2011'!D36*100-100) -> 6.3742073 | E36: =IF('Skema1-7_2011'!E36=0,"-",'Skema1-7_2012'!E36/'Skema1-7_2011'!E36*100-100) -> 61.125011 | F36: =IF('Skema1-7_2011'!F36=0,"-",'Skema1-7_2012'!F36/'Skema1-7_2011'!F36*100-100) -> 17.739723 | G36: =IF('Skema1-7_2011'!G36=0,"-",'Skema1-7_2012'!G36/'Skema1-7_2011'!G36*100-100) -> 48.392916 | H36: =IF('Skema1-7_2011'!H36=0,"-",'Skema1-7_2012'!H36/'Skema1-7_2011'!H36*100-100) -> 27.862833 | I36: =IF('Skema1-7_2011'!I36=0,"-",'Skema1-7_2012'!I36/'Skema1-7_2011'!I36*100-100) -> -12.592825 | J36: =IF('Skema1-7_2011'!J36=0,"-",'Skema1-7_2012'!J36/'Skema1-7_2011'!J36*100-100) -> 2.3656995
B38: Hovedstaden | C38: =IF('Skema1-7_2011'!C38=0,"-",'Skema1-7_2012'!C38/'Skema1-7_2011'!C38*100-100) -> -0.32565146 | D38: =IF('Skema1-7_2011'!D38=0,"-",'Skema1-7_2012'!D38/'Skema1-7_2011'!D38*100-100) -> -26.498332 | E38: =IF('Skema1-7_2011'!E38=0,"-",'Skema1-7_2012'!E38/'Skema1-7_2011'!E38*100-100) -> 239.70945 | F38: =IF('Skema1-7_2011'!F38=0,"-",'Skema1-7_2012'!F38/'Skema1-7_2011'!F38*100-100) -> - | G38: =IF('Skema1-7_2011'!G38=0,"-",'Skema1-7_2012'!G38/'Skema1-7_2011'!G38*100-100) -> 18.70888 | H38: =IF('Skema1-7_2011'!H38=0,"-",'Skema1-7_2012'!H38/'Skema1-7_2011'!H38*100-100) -> -9.907988 | I38: =IF('Skema1-7_2011'!I38=0,"-",'Skema1-7_2012'!I38/'Skema1-7_2011'!I38*100-100) -> 19.207746 | J38: =IF('Skema1-7_2011'!J38=0,"-",'Skema1-7_2012'!J38/'Skema1-7_2011'!J38*100-100) -> 1.5289997
B39: Sjælland | C39: =IF('Skema1-7_2011'!C39=0,"-",'Skema1-7_2012'!C39/'Skema1-7_2011'!C39*100-100) -> 2.7953333 | D39: =IF('Skema1-7_2011'!D39=0,"-",'Skema1-7_2012'!D39/'Skema1-7_2011'!D39*100-100) -> 8.4187783 | E39: =IF('Skema1-7_2011'!E39=0,"-",'Skema1-7_2012'!E39/'Skema1-7_2011'!E39*100-100) -> 1.5193361 | F39: =IF('Skema1-7_2011'!F39=0,"-",'Skema1-7_2012'!F39/'Skema1-7_2011'!F39*100-100) -> 0.43244051 | G39: =IF('Skema1-7_2011'!G39=0,"-",'Skema1-7_2012'!G39/'Skema1-7_2011'!G39*100-100) -> 1.6298478 | H39: =IF('Skema1-7_2011'!H39=0,"-",'Skema1-7_2012'!H39/'Skema1-7_2011'!H39*100-100) -> 14.582259 | I39: =IF('Skema1-7_2011'!I39=0,"-",'Skema1-7_2012'!I39/'Skema1-7_2011'!I39*100-100) -> -100 | J39: =IF('Skema1-7_2011'!J39=0,"-",'Skema1-7_2012'!J39/'Skema1-7_2011'!J39*100-100) -> 2.5698287
B40: Syddanmark | C40: =IF('Skema1-7_2011'!C40=0,"-",'Skema1-7_2012'!C40/'Skema1-7_2011'!C40*100-100) -> 2.4735594 | D40: =IF('Skema1-7_2011'!D40=0,"-",'Skema1-7_2012'!D40/'Skema1-7_2011'!D40*100-100) -> 57.942831 | E40: =IF('Skema1-7_2011'!E40=0,"-",'Skema1-7_2012'!E40/'Skema1-7_2011'!E40*100-100) -> 4.5054012 | F40: =IF('Skema1-7_2011'!F40=0,"-",'Skema1-7_2012'!F40/'Skema1-7_2011'!F40*100-100) -> 27.164729 | G40: =IF('Skema1-7_2011'!G40=0,"-",'Skema1-7_2012'!G40/'Skema1-7_2011'!G40*100-100) -> 148.20878 | H40: =IF('Skema1-7_2011'!H40=0,"-",'Skema1-7_2012'!H40/'Skema1-7_2011'!H40*100-100) -> 4.8928621 | I40: =IF('Skema1-7_2011'!I40=0,"-",'Skema1-7_2012'!I40/'Skema1-7_2011'!I40*100-100) -> -70.737436 | J40: =IF('Skema1-7_2011'!J40=0,"-",'Skema1-7_2012'!J40/'Skema1-7_2011'!J40*100-100) -> 3.3623936
B41: Midtjylland | C41: =IF('Skema1-7_2011'!C41=0,"-",'Skema1-7_2012'!C41/'Skema1-7_2011'!C41*100-100) -> -2.1101925 | D41: =IF('Skema1-7_2011'!D41=0,"-",'Skema1-7_2012'!D41/'Skema1-7_2011'!D41*100-100) -> 11.257421 | E41: =IF('Skema1-7_2011'!E41=0,"-",'Skema1-7_2012'!E41/'Skema1-7_2011'!E41*100-100) -> 6.9902984 | F41: =IF('Skema1-7_2011'!F41=0,"-",'Skema1-7_2012'!F41/'Skema1-7_2011'!F41*100-100) -> 13.252526 | G41: =IF('Skema1-7_2011'!G41=0,"-",'Skema1-7_2012'!G41/'Skema1-7_2011'!G41*100-100) -> 222.66362 | H41: =IF('Skema1-7_2011'!H41=0,"-",'Skema1-7_2012'!H41/'Skema1-7_2011'!H41*100-100) -> -142.11071 | I41: =IF('Skema1-7_2011'!I41=0,"-",'Skema1-7_2012'!I41/'Skema1-7_2011'!I41*100-100) -> -18.648005 | J41: =IF('Skema1-7_2011'!J41=0,"-",'Skema1-7_2012'!J41/'Skema1-7_2011'!J41*100-100) -> 3.2260547
B42: Nordjylland | C42: =IF('Skema1-7_2011'!C42=0,"-",'Skema1-7_2012'!C42/'Skema1-7_2011'!C42*100-100) -> 0.32696509 | D42: =IF('Skema1-7_2011'!D42=0,"-",'Skema1-7_2012'!D42/'Skema1-7_2011'!D42*100-100) -> 15.459721 | E42: =IF('Skema1-7_2011'!E42=0,"-",'Skema1-7_2012'!E42/'Skema1-7_2011'!E42*100-100) -> 5.8833761 | F42: =IF('Skema1-7_2011'!F42=0,"-",'Skema1-7_2012'!F42/'Skema1-7_2011'!F42*100-100) -> 31.952643 | G42: =IF('Skema1-7_2011'!G42=0,"-",'Skema1-7_2012'!G42/'Skema1-7_2011'!G42*100-100) -> 4.8647259 | H42: =IF('Skema1-7_2011'!H42=0,"-",'Skema1-7_2012'!H42/'Skema1-7_2011'!H42*100-100) -> -0.59570088 | I42: =IF('Skema1-7_2011'!I42=0,"-",'Skema1-7_2012'!I42/'Skema1-7_2011'!I42*100-100) -> - | J42: =IF('Skema1-7_2011'!J42=0,"-",'Skema1-7_2012'!J42/'Skema1-7_2011'!J42*100-100) -> 1.0170187
B43: Hele landet | C43: =IF('Skema1-7_2011'!C43=0,"-",'Skema1-7_2012'!C43/'Skema1-7_2011'!C43*100-100) -> 0.36849592 | D43: =IF('Skema1-7_2011'!D43=0,"-",'Skema1-7_2012'!D43/'Skema1-7_2011'!D43*100-100) -> 6.3742073 | E43: =IF('Skema1-7_2011'!E43=0,"-",'Skema1-7_2012'!E43/'Skema1-7_2011'!E43*100-100) -> 61.125011 | F43: =IF('Skema1-7_2011'!F43=0,"-",'Skema1-7_2012'!F43/'Skema1-7_2011'!F43*100-100) -> 17.739723 | G43: =IF('Skema1-7_2011'!G43=0,"-",'Skema1-7_2012'!G43/'Skema1-7_2011'!G43*100-100) -> 48.392916 | H43: =IF('Skema1-7_2011'!H43=0,"-",'Skema1-7_2012'!H43/'Skema1-7_2011'!H43*100-100) -> 27.862833 | I43: =IF('Skema1-7_2011'!I43=0,"-",'Skema1-7_2012'!I43/'Skema1-7_2011'!I43*100-100) -> -12.592825 | J43: =IF('Skema1-7_2011'!J43=0,"-",'Skema1-7_2012'!J43/'Skema1-7_2011'!J43*100-100) -> 2.3656995

Sheet DTD_11
A1: ='Skema1-7_2011'!A1 -> Endelig version -21. februar 2014
A2: Korrigerede tilrettede driftudgifter for 2011, 1.000 kr. 2012 priser
A3: Tabel 4.
A4: Nr. | B4: Sygehus | C4: Totale driftsudgifter, ekskl. udgifter der ikke bidrager til somatisk patient behandling | D4: Internt finansieret forskning (-) | E4: De tilrettede driftsudgifter (=) | F4: Medicin på ambulante afdelinger (-) | G4: De korrigerede tilrettede driftsudgifter (=)
A5: 1301 | B5: Rigshospitalet | C5: ='Skema1-7_2011'!J5 -> 6601384.1 | D5: 178969.55 | E5: =C5-D5 -> 6422414.5 | F5: 934831.67 | G5: =E5-F5 -> 5487582.8
A6: 1309 | B6: Bispebjerg Hospital | C6: ='Skema1-7_2011'!J6 -> 1706107.1 | D6: 55051.236 | E6: =C6-D6 -> 1651055.8 | F6: 64097.285 | G6: =E6-F6 -> 1586958.5
A7: 1330 | B7: Hvidovre Hospital | C7: ='Skema1-7_2011'!J7 -> 2153433.8 | D7: 64042.658 | E7: =C7-D7 -> 2089391.1 | F7: 135693.66 | G7: =E7-F7 -> 1953697.4
A8: 1351 | B8: Amager Hospital | C8: ='Skema1-7_2011'!J8 -> 378096.35 | D8: 617.1 | E8: =C8-D8 -> 377479.25 | F8: 1776.5926 | G8: =E8-F8 -> 375702.65
A9: 1401 | B9: Frederiksberg Hospital | C9: ='Skema1-7_2011'!J9 -> 726562.01 | D9: 1356.6 | E9: =C9-D9 -> 725205.41 | F9: 60191.443 | G9: =E9-F9 -> 665013.96
A10: 1501 | B10: Gentofte Hospital | C10: ='Skema1-7_2011'!J10 -> 1282385.6 | D10: 32289.359 | E10: =C10-D10 -> 1250096.2 | F10: 68062.402 | G10: =E10-F10 -> 1182033.8
A11: 1502 | B11: Glostrup Hospital | C11: ='Skema1-7_2011'!J11 -> 1554063.7 | D11: 60368.297 | E11: =C11-D11 -> 1493695.4 | F11: 211160.38 | G11: =E11-F11 -> 1282535.1
A12: 1516 | B12: Herlev Hospital | C12: ='Skema1-7_2011'!J12 -> 3043579.6 | D12: 74787.825 | E12: =C12-D12 -> 2968791.8 | F12: 302978.16 | G12: =E12-F12 -> 2665813.7
A13: 2000 | B13: Nordsjællands Hospital | C13: ='Skema1-7_2011'!J13 -> 2324793.6 | D13: 33480.523 | E13: =C13-D13 -> 2291313.1 | F13: 110962.74 | G13: =E13-F13 -> 2180350.4
A14: 4001 | B14: Bornholms Hospital | C14: ='Skema1-7_2011'!J14 -> 379714.72 | D14: 0 | E14: =C14-D14 -> 379714.72 | F14: 22656.371 | G14: =E14-F14 -> 357058.35
A15: 2500 | B15: Sygehus Nord | C15: ='Skema1-7_2011'!J15 -> 3552130.3 | D15: 21404 | E15: =C15-D15 -> 3530726.3 | F15: 314485.05 | G15: =E15-F15 -> 3216241.2
A16: 2501 | B16: Sygehus Syd | C16: ='Skema1-7_2011'!J16 -> 3240065.2 | D16: 13737 | E16: =C16-D16 -> 3226328.2 | F16: 191796.82 | G16: =E16-F16 -> 3034531.4
... A31: 8005 | B31: Sygehus Himmerland | C31: ='Skema1-7_2011'!J31 -> 246996.06 | D31: 0 | E31: =C31-D31 -> 246996.06 | F31: 439.24356 | G31: =E31-F31 -> 246556.82
B36: Hele landet | C36: =SUM(C5:C35) -> 57027735 | D36: =SUM(D5:D35) -> 1149549.2 | E36: =SUM(E5:E35) -> 55878186 | F36: =SUM(F5:F35) -> 4808234.1 | G36: =SUM(G5:G35) -> 51069952
B38: Hovedstaden | C38: =SUM(C5:C14) -> 20150121 | D38: =SUM(D5:D14) -> 500963.15 | E38: =SUM(E5:E14) -> 19649157 | F38: =SUM(F5:F14) -> 1912410.7 | G38: =SUM(G5:G14) -> 17736747
B39: Sjælland | C39: =SUM(C15:C16) -> 6792195.5 | D39: =SUM(D15:D16) -> 35141 | E39: =SUM(E15:E16) -> 6757054.5 | F39: =SUM(F15:F16) -> 506281.87 | G39: =SUM(G15:G16) -> 6250772.6
B40: Syddanmark | C40: =SUM(C17:C22) -> 12273552 | D40: =SUM(D17:D22) -> 243577.02 | E40: =SUM(E17:E22) -> 12029975 | F40: =SUM(F17:F22) -> 955187.77 | G40: =SUM(G17:G22) -> 11074787
B41: Midtjylland | C41: =SUM(C23:C27) -> 12341430 | D41: =SUM(D23:D27) -> 271789.2 | E41: =SUM(E23:E27) -> 12069641 | F41: =SUM(F23:F27) -> 1093385.4 | G41: =SUM(G23:G27) -> 10976256
B42: Nordjylland | C42: =SUM(C28:C31) -> 5470436.7 | D42: =SUM(D28:D31) -> 98078.857 | E42: =SUM(E28:E31) -> 5372357.9 | F42: =SUM(F28:F31) -> 340968.42 | G42: =SUM(G28:G31) -> 5031389.5
B43: Hele landet | C43: =SUM(C38:C42) -> 57027735 | D43: =SUM(D38:D42) -> 1149549.2 | E43: =SUM(E38:E42) -> 55878186 | F43: =SUM(F38:F42) -> 4808234.1 | G43: =SUM(G38:G42) -> 51069952

Sheet DTD_12
A1: ='Skema1-7_2011'!A1 -> Endelig version -21. februar 2014
A2: Korrigerede tilrettede driftudgifter for 2012, 1.000 kr. 2012 priser
A3: Tabel 5.
A4: Nr. | B4: Sygehus | C4: Totale driftsudgifter, ekskl. udgifter der ikke bidrager til somatisk patient behandling | D4: Internt finansieret forskning (-) | E4: De tilrettede driftsudgifter (=) | F4: Medicin på ambulante afdelinger (-) | G4: De korrigerede tilrettede driftsudgifter (=)
A5: 1301 | B5: Rigshospitalet | C5: =+'Skema1-7_2012'!J5 -> 6537661.3 | D5: 168087.96 | E5: =C5-D5 -> 6369573.4 | F5: 912153.65 | G5: =E5-F5 -> 5457419.7
A6: 1309 | B6: Bispebjerg Hospital | C6: =+'Skema1-7_2012'!J6 -> 1734971.9 | D6: 55787.77 | E6: =C6-D6 -> 1679184.1 | F6: 70603.861 | G6: =E6-F6 -> 1608580.2
A7: 1330 | B7: Hvidovre Hospital | C7: =+'Skema1-7_2012'!J7 -> 2149405.1 | D7: 74610.316 | E7: =C7-D7 -> 2074794.8 | F7: 130099.72 | G7: =E7-F7 -> 1944695.1
A8: 1351 | B8: Amager Hospital | C8: =+'Skema1-7_2012'!J8 -> 370261.69 | D8: 0 | E8: =C8-D8 -> 370261.69 | F8: 1075.8528 | G8: =E8-F8 -> 369185.83
A9: 1401 | B9: Frederiksberg Hospital | C9: =+'Skema1-7_2012'!J9 -> 706610.06 | D9: 3477 | E9: =C9-D9 -> 703133.06 | F9: 56935.298 | G9: =E9-F9 -> 646197.77
A10: 1501 | B10: Gentofte Hospital | C10: =+'Skema1-7_2012'!J10 -> 1293697.8 | D10: 19573.795 | E10: =C10-D10 -> 1274124 | F10: 78668.333 | G10: =E10-F10 -> 1195455.6
A11: 1502 | B11: Glostrup Hospital | C11: =+'Skema1-7_2012'!J11 -> 1728689.5 | D11: 44757.578 | E11: =C11-D11 -> 1683931.9 | F11: 251777.25 | G11: =E11-F11 -> 1432154.7
A12: 1516 | B12: Herlev Hospital | C12: =+'Skema1-7_2012'!J12 -> 3184258.1 | D12: 86199.252 | E12: =C12-D12 -> 3098058.8 | F12: 324480.86 | G12: =E12-F12 -> 2773578
A13: 2000 | B13: Nordsjællands Hospital | C13: =+'Skema1-7_2012'!J13 -> 2367365 | D13: 27613.26 | E13: =C13-D13 -> 2339751.7 | F13: 114303.43 | G13: =E13-F13 -> 2225448.3
A14: 4001 | B14: Bornholms Hospital | C14: =+'Skema1-7_2012'!J14 -> 385295.45 | D14: 0 | E14: =C14-D14 -> 385295.45 | F14: 22918.376 | G14: =E14-F14 -> 362377.08
A15: 2500 | B15: Sygehus Nord | C15: =+'Skema1-7_2012'!J15 -> 3692696.6 | D15: 21404 | E15: =C15-D15 -> 3671292.6 | F15: =361485.68249687-1434.912 -> 360050.77 | G15: =E15-F15 -> 3311241.8
A16: 2501 | B16: Sygehus Syd | C16: =+'Skema1-7_2012'!J16 -> 3274046.6 | D16: 13737 | E16: =C16-D16 -> 3260309.6 | F16: =195622.081191913+1434.912 -> 197056.99 | G16: =E16-F16 -> 3063252.6
A17: 4202 | B17: Odense Universitetshospital | C17: =+'Skema1-7_2012'!J17 -> 5998928 | D17: 186602 | E17: =C17-D17 -> 5812326 | F17: 482082.52 | G17: =E17-F17 -> 5330243.5
A18: 5000 | B18: Sygehus Sønderjylland | C18: =+'Skema1-7_2012'!J18 -> 1778828 | D18: 3323 | E18: =C18-D18 -> 1775505 | F18: 101195.02 | G18: =E18-F18 -> 1674310
A19: 5501 | B19: Sydvestjysk Sygehus | C19: =+'Skema1-7_2012'!J19 -> 1730671 | D19: 8495 | E19: =C19-D19 -> 1722176 | F19: 137713.02 | G19: =E19-F19 -> 1584463
A20: 6007 | B20: Fredericia og Kolding Sygehuse | C20: =+'Skema1-7_2012'!J20 -> 1419386 | D20: 8803.2002 | E20: =C20-D20 -> 1410582.8 | F20: 64772.44 | G20: =E20-F20 -> 1345810.4
A21: 6008 | B21: Vejle og Give sygehuse | C21: =+'Skema1-7_2012'!J21 -> 1648736 | D21: 58361.8 | E21: =C21-D21 -> 1590374.2 | F21: 230839.31 | G21: =E21-F21 -> 1359534.9
A22: 6013 | B22: De Vestdanske Friklinikker, Syddanmark | C22: =+'Skema1-7_2012'!J22 -> 109688 | D22: 0 | E22: =C22-D22 -> 109688 | F22: 343.4632 | G22: =E22-F22 -> 109344.54
A23: 6006 | B23: Hospitalsenheden Horsens | C23: =+'Skema1-7_2012'!J23 -> 936997 | D23: 5980 | E23: =C23-D23 -> 931017 | F23: 25751.324 | G23: =E23-F23 -> 905265.68
A24: 6650 | B24: Hospitalsenheden Vest | C24: =+'Skema1-7_2012'!J24 -> 1981261 | D24: 21384 | E24: =C24-D24 -> 1959877 | F24: 164520.78 | G24: =E24-F24 -> 1795356.2
A25: 6620 | B25: Århus Universitetshospital | C25: =+'Skema1-7_2012'!J25 -> 6682320.6 | D25: 248987 | E25: =C25-D25 -> 6433333.6 | F25: 840702.65 | G25: =E25-F25 -> 5592630.9
A26: 7005 | B26: Regionshospitalet Randers | C26: =+'Skema1-7_2012'!J26 -> 986071 | D26: 537 | E26: =C26-D26 -> 985534 | F26: 28249.567 | G26: =E26-F26 -> 957284.43
A27: 6630 | B27: Hospitalsenhed Midt | C27: =+'Skema1-7_2012'!J27 -> 2152922 | D27: 16565 | E27: =C27-D27 -> 2136357 | F27: 128857.7 | G27: =E27-F27 -> 2007499.3
A28: 7603 | B28: Sygehus Thy - Mors | C28: =+'Skema1-7_2012'!J28 -> 387825.84 | D28: 0 | E28: =C28-D28 -> 387825.84 | F28: 4951.7726 | G28: =E28-F28 -> 382874.07
... A31: 8005 | B31: Sygehus Himmerland | C31: =+'Skema1-7_2012'!J31 -> 253923.16 | D31: 0 | E31: =C31-D31 -> 253923.16 | F31: 349.46683 | G31: =E31-F31 -> 253573.69
B36: Hele landet | C36: =SUM(C5:C35) -> 58376840 | D36: =SUM(D5:D35) -> 1186676.6 | E36: =SUM(E5:E35) -> 57190163 | F36: =SUM(F5:F35) -> 5069688 | G36: =SUM(G5:G35) -> 52120475
B38: Hovedstaden | C38: =SUM(C5:C14) -> 20458216 | D38: =SUM(D5:D14) -> 480106.93 | E38: =SUM(E5:E14) -> 19978109 | F38: =SUM(F5:F14) -> 1963016.6 | G38: =SUM(G5:G14) -> 18015092
B39: Sjælland | C39: =SUM(C15:C16) -> 6966743.3 | D39: =SUM(D15:D16) -> 35141 | E39: =SUM(E15:E16) -> 6931602.3 | F39: =SUM(F15:F16) -> 557107.76 | G39: =SUM(G15:G16) -> 6374494.5
B40: Syddanmark | C40: =SUM(C17:C22) -> 12686237 | D40: =SUM(D17:D22) -> 265585 | E40: =SUM(E17:E22) -> 12420652 | F40: =SUM(F17:F22) -> 1016945.8 | G40: =SUM(G17:G22) -> 11403706
B41: Midtjylland | C41: =SUM(C23:C27) -> 12739572 | D41: =SUM(D23:D27) -> 293453 | E41: =SUM(E23:E27) -> 12446119 | F41: =SUM(F23:F27) -> 1188082 | G41: =SUM(G23:G27) -> 11258037
B42: Nordjylland | C42: =SUM(C28:C31) -> 5526072.1 | D42: =SUM(D28:D31) -> 112390.67 | E42: =SUM(E28:E31) -> 5413681.4 | F42: =SUM(F28:F31) -> 344535.79 | G42: =SUM(G28:G31) -> 5069145.6
B43: Hele landet | C43: =SUM(C38:C42) -> 58376840 | D43: =SUM(D38:D42) -> 1186676.6 | E43: =SUM(E38:E42) -> 57190163 | F43: =SUM(F38:F42) -> 5069688 | G43: =SUM(G38:G42) -> 52120475

Sheet DTD_forskel
A1: ='Skema1-7_2011'!A1 -> Endelig version -21. februar 2014
A2: Korrigerede tilrettede driftudgifter, procentvis ændring fra 2011-2012
A3: Tabel 6.
A4: Nr. | B4: Sygehus | C4: Totale driftsudgifter, ekskl. udgifter der ikke bidrager til somatisk patient behandling | D4: Internt finansieret forskning (-) | E4: De tilrettede driftsudgifter (=) | F4: Medicin på ambulante afdelinger (-) | G4: De korrigerede tilrettede driftsudgifter (=)
A5: 1301 | B5: Rigshospitalet | C5: =IF(DTD_11!C5=0,"-",DTD_12!C5/DTD_11!C5*100-100) -> -0.96529338 | D5: =IF(DTD_11!D5=0,"-",DTD_12!D5/DTD_11!D5*100-100) -> -6.080136 | E5: =IF(DTD_11!E5=0,"-",DTD_12!E5/DTD_11!E5*100-100) -> -0.82276115 | F5: =IF(DTD_11!F5=0,"-",DTD_12!F5/DTD_11!F5*100-100) -> -2.4258937 | G5: =IF(DTD_11!G5=0,"-",DTD_12!G5/DTD_11!G5*100-100) -> -0.5496611
A6: 1309 | B6: Bispebjerg Hospital | C6: =IF(DTD_11!C6=0,"-",DTD_12!C6/DTD_11!C6*100-100) -> 1.6918513 | D6: =IF(DTD_11!D6=0,"-",DTD_12!D6/DTD_11!D6*100-100) -> 1.3379064 | E6: =IF(DTD_11!E6=0,"-",DTD_12!E6/DTD_11!E6*100-100) -> 1.7036529 | F6: =IF(DTD_11!F6=0,"-",DTD_12!F6/DTD_11!F6*100-100) -> 10.151094 | G6: =IF(DTD_11!G6=0,"-",DTD_12!G6/DTD_11!G6*100-100) -> 1.3624606
A7: 1330 | B7: Hvidovre Hospital | C7: =IF(DTD_11!C7=0,"-",DTD_12!C7/DTD_11!C7*100-100) -> -0.18708006 | D7: =IF(DTD_11!D7=0,"-",DTD_12!D7/DTD_11!D7*100-100) -> 16.500967 | E7: =IF(DTD_11!E7=0,"-",DTD_12!E7/DTD_11!E7*100-100) -> -0.69859123 | F7: =IF(DTD_11!F7=0,"-",DTD_12!F7/DTD_11!F7*100-100) -> -4.1224785 | G7: =IF(DTD_11!G7=0,"-",DTD_12!G7/DTD_11!G7*100-100) -> -0.46078584
A8: 1351 | B8: Amager Hospital | C8: =IF(DTD_11!C8=0,"-",DTD_12!C8/DTD_11!C8*100-100) -> -2.0721334 | D8: =IF(DTD_11!D8=0,"-",DTD_12!D8/DTD_11!D8*100-100) -> -100 | E8: =IF(DTD_11!E8=0,"-",DTD_12!E8/DTD_11!E8*100-100) -> -1.9120418 | F8: =IF(DTD_11!F8=0,"-",DTD_12!F8/DTD_11!F8*100-100) -> -39.442907 | G8: =IF(DTD_11!G8=0,"-",DTD_12!G8/DTD_11!G8*100-100) -> -1.7345688
A9: 1401 | B9: Frederiksberg Hospital | C9: =IF(DTD_11!C9=0,"-",DTD_12!C9/DTD_11!C9*100-100) -> -2.7460754 | D9: =IF(DTD_11!D9=0,"-",DTD_12!D9/DTD_11!D9*100-100) -> 156.30252 | E9: =IF(DTD_11!E9=0,"-",DTD_12!E9/DTD_11!E9*100-100) -> -3.0435985 | F9: =IF(DTD_11!F9=0,"-",DTD_12!F9/DTD_11!F9*100-100) -> -5.409648 | G9: =IF(DTD_11!G9=0,"-",DTD_12!G9/DTD_11!G9*100-100) -> -2.8294436
A10: 1501 | B10: Gentofte Hospital | C10: =IF(DTD_11!C10=0,"-",DTD_12!C10/DTD_11!C10*100-100) -> 0.88211976 | D10: =IF(DTD_11!D10=0,"-",DTD_12!D10/DTD_11!D10*100-100) -> -39.380045 | E10: =IF(DTD_11!E10=0,"-",DTD_12!E10/DTD_11!E10*100-100) -> 1.9220713 | F10: =IF(DTD_11!F10=0,"-",DTD_12!F10/DTD_11!F10*100-100) -> 15.582657 | G10: =IF(DTD_11!G10=0,"-",DTD_12!G10/DTD_11!G10*100-100) -> 1.1354844
A11: 1502 | B11: Glostrup Hospital | C11: =IF(DTD_11!C11=0,"-",DTD_12!C11/DTD_11!C11*100-100) -> 11.236719 | D11: =IF(DTD_11!D11=0,"-",DTD_12!D11/DTD_11!D11*100-100) -> -25.859136 | E11: =IF(DTD_11!E11=0,"-",DTD_12!E11/DTD_11!E11*100-100) -> 12.735963 | F11: =IF(DTD_11!F11=0,"-",DTD_12!F11/DTD_11!F11*100-100) -> 19.23508 | G11: =IF(DTD_11!G11=0,"-",DTD_12!G11/DTD_11!G11*100-100) -> 11.665928
A12: 1516 | B12: Herlev Hospital | C12: =IF(DTD_11!C12=0,"-",DTD_12!C12/DTD_11!C12*100-100) -> 4.6221379 | D12: =IF(DTD_11!D12=0,"-",DTD_12!D12/DTD_11!D12*100-100) -> 15.258403 | E12: =IF(DTD_11!E12=0,"-",DTD_12!E12/DTD_11!E12*100-100) -> 4.3541962 | F12: =IF(DTD_11!F12=0,"-",DTD_12!F12/DTD_11!F12*100-100) -> 7.0971149 | G12: =IF(DTD_11!G12=0,"-",DTD_12!G12/DTD_11!G12*100-100) -> 4.0424548
A13: 2000 | B13: Nordsjællands Hospital | C13: =IF(DTD_11!C13=0,"-",DTD_12!C13/DTD_11!C13*100-100) -> 1.831188 | D13: =IF(DTD_11!D13=0,"-",DTD_12!D13/DTD_11!D13*100-100) -> -17.524407 | E13: =IF(DTD_11!E13=0,"-",DTD_12!E13/DTD_11!E13*100-100) -> 2.1140107 | F13: =IF(DTD_11!F13=0,"-",DTD_12!F13/DTD_11!F13*100-100) -> 3.0106455 | G13: =IF(DTD_11!G13=0,"-",DTD_12!G13/DTD_11!G13*100-100) -> 2.068379
A14: 4001 | B14: Bornholms Hospital | C14: =IF(DTD_11!C14=0,"-",DTD_12!C14/DTD_11!C14*100-100) -> 1.4697165 | D14: =IF(DTD_11!D14=0,"-",DTD_12!D14/DTD_11!D14*100-100) -> - | E14: =IF(DTD_11!E14=0,"-",DTD_12!E14/DTD_11!E14*100-100) -> 1.4697165 | F14: =IF(DTD_11!F14=0,"-",DTD_12!F14/DTD_11!F14*100-100) -> 1.1564283 | G14: =IF(DTD_11!G14=0,"-",DTD_12!G14/DTD_11!G14*100-100) -> 1.4895955
A15: 2500 | B15: Sygehus Nord | C15: =IF(DTD_11!C15=0,"-",DTD_12!C15/DTD_11!C15*100-100) -> 3.9572409 | D15: =IF(DTD_11!D15=0,"-",DTD_12!D15/DTD_11!D15*100-100) -> 0 | E15: =IF(DTD_11!E15=0,"-",DTD_12!E15/DTD_11!E15*100-100) -> 3.9812306 | F15: =IF(DTD_11!F15=0,"-",DTD_12!F15/DTD_11!F15*100-100) -> 14.488996 | G15: =IF(DTD_11!G15=0,"-",DTD_12!G15/DTD_11!G15*100-100) -> 2.9537781
A16: 2501 | B16: Sygehus Syd | C16: =IF(DTD_11!C16=0,"-",DTD_12!C16/DTD_11!C16*100-100) -> 1.0487885 | D16: =IF(DTD_11!D16=0,"-",DTD_12!D16/DTD_11!D16*100-100) -> 0 | E16: =IF(DTD_11!E16=0,"-",DTD_12!E16/DTD_11!E16*100-100) -> 1.0532541 | F16: =IF(DTD_11!F16=0,"-",DTD_12!F16/DTD_11!F16*100-100) -> 2.7425761 | G16: =IF(DTD_11!G16=0,"-",DTD_12!G16/DTD_11!G16*100-100) -> 0.94648087
... A31: 8005 | B31: Sygehus Himmerland | C31: =IF(DTD_11!C31=0,"-",DTD_12!C31/DTD_11!C31*100-100) -> 2.8045377 | D31: =IF(DTD_11!D31=0,"-",DTD_12!D31/DTD_11!D31*100-100) -> - | E31: =IF(DTD_11!E31=0,"-",DTD_12!E31/DTD_11!E31*100-100) -> 2.8045377 | F31: =IF(DTD_11!F31=0,"-",DTD_12!F31/DTD_11!F31*100-100) -> -20.438941 | G31: =IF(DTD_11!G31=0,"-",DTD_12!G31/DTD_11!G31*100-100) -> 2.8459462
B36: Hele landet | C36: =IF(DTD_11!C36=0,"-",DTD_12!C36/DTD_11!C36*100-100) -> 2.3656995 | D36: =IF(DTD_11!D36=0,"-",DTD_12!D36/DTD_11!D36*100-100) -> 3.2297329 | E36: =IF(DTD_11!E36=0,"-",DTD_12!E36/DTD_11!E36*100-100) -> 2.3479243 | F36: =IF(DTD_11!F36=0,"-",DTD_12!F36/DTD_11!F36*100-100) -> 5.4376271 | G36: =IF(DTD_11!G36=0,"-",DTD_12!G36/DTD_11!G36*100-100) -> 2.0570289
B38: Hovedstaden | C38: =IF(DTD_11!C38=0,"-",DTD_12!C38/DTD_11!C38*100-100) -> 1.5289997 | D38: =IF(DTD_11!D38=0,"-",DTD_12!D38/DTD_11!D38*100-100) -> -4.1632243 | E38: =IF(DTD_11!E38=0,"-",DTD_12!E38/DTD_11!E38*100-100) -> 1.6741253 | F38: =IF(DTD_11!F38=0,"-",DTD_12!F38/DTD_11!F38*100-100) -> 2.6461854 | G38: =IF(DTD_11!G38=0,"-",DTD_12!G38/DTD_11!G38*100-100) -> 1.5693159
B39: Sjælland | C39: =IF(DTD_11!C39=0,"-",DTD_12!C39/DTD_11!C39*100-100) -> 2.5698287 | D39: =IF(DTD_11!D39=0,"-",DTD_12!D39/DTD_11!D39*100-100) -> 0 | E39: =IF(DTD_11!E39=0,"-",DTD_12!E39/DTD_11!E39*100-100) -> 2.5831934 | F39: =IF(DTD_11!F39=0,"-",DTD_12!F39/DTD_11!F39*100-100) -> 10.039052 | G39: =IF(DTD_11!G39=0,"-",DTD_12!G39/DTD_11!G39*100-100) -> 1.9793055
B40: Syddanmark | C40: =IF(DTD_11!C40=0,"-",DTD_12!C40/DTD_11!C40*100-100) -> 3.3623936 | D40: =IF(DTD_11!D40=0,"-",DTD_12!D40/DTD_11!D40*100-100) -> 9.0353269 | E40: =IF(DTD_11!E40=0,"-",DTD_12!E40/DTD_11!E40*100-100) -> 3.2475308 | F40: =IF(DTD_11!F40=0,"-",DTD_12!F40/DTD_11!F40*100-100) -> 6.4655363 | G40: =IF(DTD_11!G40=0,"-",DTD_12!G40/DTD_11!G40*100-100) -> 2.9699815
B41: Midtjylland | C41: =IF(DTD_11!C41=0,"-",DTD_12!C41/DTD_11!C41*100-100) -> 3.2260547 | D41: =IF(DTD_11!D41=0,"-",DTD_12!D41/DTD_11!D41*100-100) -> 7.9708097 | E41: =IF(DTD_11!E41=0,"-",DTD_12!E41/DTD_11!E41*100-100) -> 3.1192103 | F41: =IF(DTD_11!F41=0,"-",DTD_12!F41/DTD_11!F41*100-100) -> 8.6608644 | G41: =IF(DTD_11!G41=0,"-",DTD_12!G41/DTD_11!G41*100-100) -> 2.5671857
B42: Nordjylland | C42: =IF(DTD_11!C42=0,"-",DTD_12!C42/DTD_11!C42*100-100) -> 1.0170187 | D42: =IF(DTD_11!D42=0,"-",DTD_12!D42/DTD_11!D42*100-100) -> 14.592146 | E42: =IF(DTD_11!E42=0,"-",DTD_12!E42/DTD_11!E42*100-100) -> 0.76918838 | F42: =IF(DTD_11!F42=0,"-",DTD_12!F42/DTD_11!F42*100-100) -> 1.046248 | G42: =IF(DTD_11!G42=0,"-",DTD_12!G42/DTD_11!G42*100-100) -> 0.75041254
B43: Hele landet | C43: =IF(DTD_11!C43=0,"-",DTD_12!C43/DTD_11!C43*100-100) -> 2.3656995 | D43: =IF(DTD_11!D43=0,"-",DTD_12!D43/DTD_11!D43*100-100) -> 3.2297329 | E43: =IF(DTD_11!E43=0,"-",DTD_12!E43/DTD_11!E43*100-100) -> 2.3479243 | F43: =IF(DTD_11!F43=0,"-",DTD_12!F43/DTD_11!F43*100-100) -> 5.4376271 | G43: =IF(DTD_11!G43=0,"-",DTD_12!G43/DTD_11!G43*100-100) -> 2.0570289

Sheet DRG_11
A1: ='Skema1-7_2011'!A1 -> Endelig version -21. februar 2014
A2: Korrigeret produktionsværdi, 2011-aktivitet med LPR pr. 10. marts 2012, 1.000 kr., 2012-takstsystem
A3: Tabel 7.
A4: Nr. | B4: Sygehus | C4: Stationær produktions-værdi inkl. genoptræning | D4: Ambulant produktions-værdi inkl. genoptræning | E4: Ukorrigeret produktions-værdi i alt (=) | F4: Medicin på ambulante afdelinger (-) | G4: Korrektion for forskelle i organisering (-) | H4: Regionsspeci-fikke korrektioner (-) | I4: Korrigeret produktions-værdi (=)
A5: 1301 | B5: Rigshospitalet | C5: 4234567 | D5: 2342138 | E5: =C5+D5 -> 6576705 | F5: 666594 | G5: -22984 | I5: =E5-SUM(F5:H5) -> 5933095
A6: 1309 | B6: Bispebjerg Hospital | C6: 1227180 | D6: 571090 | E6: =C6+D6 -> 1798270 | F6: 44822 | G6: -7074 | H6: 1238 | I6: =E6-SUM(F6:H6) -> 1759284
A7: 1330 | B7: Hvidovre Hospital | C7: 1625994 | D7: 701429 | E7: =C7+D7 -> 2327423 | F7: 63562 | G7: -9236 | H7: 25242 | I7: =E7-SUM(F7:H7) -> 2247855
A8: 1351 | B8: Amager Hospital | C8: 263101 | D8: 89774 | E8: =C8+D8 -> 352875 | F8: 295 | G8: -1521 | H8: 0 | I8: =E8-SUM(F8:H8) -> 354101
A9: 1401 | B9: Frederiksberg Hospital | C9: 458219 | D9: 327862 | E9: =C9+D9 -> 786081 | F9: 76822 | G9: -2611 | H9: 0 | I9: =E9-SUM(F9:H9) -> 711870
A10: 1501 | B10: Gentofte Hospital | C10: 746714 | D10: 583835 | E10: =C10+D10 -> 1330549 | F10: 99858 | G10: -6780 | H10: 9643 | I10: =E10-SUM(F10:H10) -> 1227828
A11: 1502 | B11: Glostrup Hospital | C11: 848319 | D11: 751442 | E11: =C11+D11 -> 1599761 | F11: 217861 | G11: -2785 | H11: 0 | I11: =E11-SUM(F11:H11) -> 1384685
A12: 1516 | B12: Herlev Hospital | C12: 1984333 | D12: 1686532 | E12: =C12+D12 -> 3670865 | F12: 471769 | G12: -11191 | H12: 6562 | I12: =E12-SUM(F12:H12) -> 3203725
A13: 2000 | B13: Nordsjællands Hospital | C13: 1598702 | D13: 825260 | E13: =C13+D13 -> 2423962 | F13: 126049 | G13: -9330 | H13: 1984 | I13: =E13-SUM(F13:H13) -> 2305259
A14: 4001 | B14: Bornholms Hospital | C14: 193136 | D14: 123550 | E14: =C14+D14 -> 316686 | F14: 14099 | G14: -1105 | H14: 0 | I14: =E14-SUM(F14:H14) -> 303692
A15: 2500 | B15: Sygehus Nord | C15: 2404335 | D15: 1526913 | E15: =C15+D15 -> 3931248 | F15: 320963 | G15: -45906 | H15: 10009 | I15: =E15-SUM(F15:H15) -> 3646182
A16: 2501 | B16: Sygehus Syd | C16: 2103209 | D16: 1253359 | E16: =C16+D16 -> 3356568 | F16: 261204 | G16: -44280 | H16: 5891 | I16: =E16-SUM(F16:H16) -> 3133753
A17: 4202 | B17: Odense Universitetshospital | C17: 3631999 | D17: 2715906 | E17: =C17+D17 -> 6347905 | F17: 505010 | G17: 43135 | H17: 26263 | I17: =E17-SUM(F17:H17) -> 5773497
... A31: 8005 | B31: Sygehus Himmerland | C31: 213412 | D31: 47046 | E31: =C31+D31 -> 260458 | F31: 183 | G31: -1236 | H31: 0 | I31: =E31-SUM(F31:H31) -> 261511
B36: Hele landet | C36: =SUM(C5:C35) -> 36738348 | D36: =SUM(D5:D35) -> 24456962 | E36: =SUM(E5:E35) -> 61195310 | F36: =SUM(F5:F35) -> 4656684 | G36: 0 | H36: =SUM(H5:H35) -> 263087 | I36: =SUM(I5:I35) -> 56275540
B38: Hovedstaden | C38: =SUM(C5:C14) -> 13180265 | D38: =SUM(D5:D14) -> 8002912 | E38: =SUM(E5:E14) -> 21183177 | F38: =SUM(F5:F14) -> 1781731 | G38: =SUM(G5:G14) -> -74617 | H38: =SUM(H5:H14) -> 44669 | I38: =SUM(I5:I14) -> 19431394
B39: Sjælland | C39: =SUM(C15:C16) -> 4507544 | D39: =SUM(D15:D16) -> 2780272 | E39: =SUM(E15:E16) -> 7287816 | F39: =SUM(F15:F16) -> 582167 | G39: =SUM(G15:G16) -> -90186 | H39: =SUM(H15:H16) -> 15900 | I39: =SUM(I15:I16) -> 6779935
B40: Syddanmark | C40: =SUM(C17:C22) -> 7495660 | D40: =SUM(D17:D22) -> 6352831 | E40: =SUM(E17:E22) -> 13848491 | F40: =SUM(F17:F22) -> 1137078 | G40: =SUM(G17:G22) -> 58463 | H40: =SUM(H17:H22) -> 34031 | I40: =SUM(I17:I22) -> 12618919
B41: Midtjylland | C41: =SUM(C23:C27) -> 8006928 | D41: =SUM(D23:D27) -> 5155124 | E41: =SUM(E23:E27) -> 13162052 | F41: =SUM(F23:F27) -> 832612 | G41: =SUM(G23:G27) -> 118311 | H41: =SUM(H23:H27) -> 102928 | I41: =SUM(I23:I27) -> 12108201
B42: Nordjylland | C42: =SUM(C28:C31) -> 3547951 | D42: =SUM(D28:D31) -> 2165823 | E42: =SUM(E28:E31) -> 5713774 | F42: =SUM(F28:F31) -> 323096 | G42: =SUM(G28:G31) -> -11972 | H42: =SUM(H28:H31) -> 65559 | I42: =SUM(I28:I31) -> 5337091
B43: Hele landet | C43: =SUM(C38:C42) -> 36738348 | D43: =SUM(D38:D42) -> 24456962 | E43: =SUM(E38:E42) -> 61195310 | F43: =SUM(F38:F42) -> 4656684 | G43: 0 | H43: 0 | I43: =SUM(I38:I42) -> 56275540

Sheet DRG_12
A1: ='Skema1-7_2011'!A1 -> Endelig version -21. februar 2014
A2: Korrigeret produktionsværdi, 2012-aktivitet med LPR pr. 10. marts 2013, 1.000 kr., 2012-takstsystem
A3: Tabel 8.
A4: Nr. | B4: Sygehus | C4: Stationær produktions-værdi inkl. genoptræning | D4: Ambulant produktions-værdi inkl. genoptræning | E4: Ukorrigeret produktions-værdi i alt (=) | F4: Medicin på ambulante afdelinger (-) | G4: Korrektion for forskelle i organisering (-) | H4: Regionsspeci-fikke korrektioner (-) | I4: Korrigeret produktions-værdi (=)
A5: 1301 | B5: Rigshospitalet | C5: 4376597 | D5: 2439359 | E5: =C5+D5 -> 6815956 | F5: 687638 | G5: -10934 | I5: =E5-SUM(F5:H5) -> 6139252
A6: 1309 | B6: Bispebjerg Hospital | C6: 1286249 | D6: 598334 | E6: =C6+D6 -> 1884583 | F6: 40035 | G6: -2770 | I6: =E6-SUM(F6:H6) -> 1847318
A7: 1330 | B7: Hvidovre Hospital | C7: 1659578 | D7: 696385 | E7: =C7+D7 -> 2355963 | F7: 61549 | G7: -4286 | I7: =E7-SUM(F7:H7) -> 2298700
