Workbook

Sheet Vejledning
A1: Vejledning til udfyldelse af Bilag 1 - Aktions-, Inventar- og Medlemsoversigt
A3: Generel vejledning
A4: Felter med "mørk" farvemarkering udfyldes, mens felter med lys farvemarkering hentes.
A5: Det er vigtigt at medlemsoversigten udfyldes først, da data hentes fra denne fane til andre faner.
A7: 1. Medlemsoversigtfanen
A8: Medlemsoversigten udfyldes fsva. data på alle medlemmer. Vær opmærksom på at hvert medlem skal have et unikt medlemsnummer, da dette bruges til at indlæse data om medlemmet på aktionslisten.
A11: 2. Aktionslisten
A12: Aktionslisten skal indeholde informationer om alle aktioner under driftsprogram-året.
A13: Listen er lavet semiautomatisk, så "indsatsområde" udfyldes ved valg af aktion i drop-downmenuen. Ligeledes hentes alle data om medlemmet (Navn, CVR-nr. og Økologinummer) ud fra medlemsnummer angivet i Medlemsoversigen på 2. fane.
A14: Ansøgt budget udfyldes i denkolonne der viser den ansøgte tiskudssats.
A16: 3. Inventaroversigten
A17: PO'er skal hvert år indsende en samlet inventaroversigt i forbindelse med ansøgningen om udbetaling af tilskud, se Vejledningen afsnit 6.4. Bemærk at inventaroversigten i modsætning til tidligere også inkluderer oplysninger om solgte investeringer.

Sheet Medlemsoversigt
A1: Producentorganisation:
A2: Driftsprogramår:
A4: Medlemsnummer | B4: Navn/Firmanavn | C4: CVR-nr. | D4: Tilknyttede CVR-numre, Angiv forskellige numre, som semikolon sepereret | E4: Adresse | F4: Postnummer | G4: By | H4: Indmeldt Formateres således (dd-md-åååå) | I4: Udmeldt Udfyldes hvis medlemmet er udmeldt (dd-md-ååååå) | J4: Økologinummer Økologi registreringsnummer tildelt af Landbrugsstyrelsen | K4: Primær produkt KN-koden for medlemmets hovedprodukt | L4: Omsætning 20 eller 20/21 Medlemmets samlede bidrag i kr. til referenceomsætning til driftsprogram år 2022 | M4: Omsætning 21 eller 21/22 Medlemmets samlede bidrag i kr. til referenceomsætning til driftsprogram år 2023 | N4: Omsætning 22 eller 22/23 Medlemmets samlede bidrag i kr. til referenceomsætning til driftsprogram år 2024 | O4: Omsætning 23 eller 23/24 Medlemmets samlede bidrag i kr. til referenceomsætning til driftsprogram år 2025 | P4: Omsætning 24 eller 23/24 Medlemmets samlede bidrag i kr. til referenceomsætning til driftsprogram år 2026 | Q4: Omsætning 25 eller 24/25 Medlemmets samlede bidrag i kr. til referenceomsætning til driftsprogram år 2027 | R4: Omsætning 26 eller 25/26 Medlemmets samlede bidrag i kr. til referenceomsætning til driftsprogram år 2028
A5: X | B5: Gårdmand Bjørn | C5: 9999999999 | D5: 9999999991 | E5: Paradisæblevej | F5: 99999 | G5: =IFERROR(+VLOOKUP(F5,postnr!A:B,2,FALSE),"") -> Andeby | H5: 17899 | K5: Kål | L5: 2500 | M5: 3000 | N5: 3500
G6: =IFERROR(+VLOOKUP(F6,postnr!A:B,2,FALSE),"")
G7: =IFERROR(+VLOOKUP(F7,postnr!A:B,2,FALSE),"")
G8: =IFERROR(+VLOOKUP(F8,postnr!A:B,2,FALSE),"")
G9: =IFERROR(+VLOOKUP(F9,postnr!A:B,2,FALSE),"")
G10: =IFERROR(+VLOOKUP(F10,postnr!A:B,2,FALSE),"")
G11: =IFERROR(+VLOOKUP(F11,postnr!A:B,2,FALSE),"")
G12: =IFERROR(+VLOOKUP(F12,postnr!A:B,2,FALSE),"")
G13: =IFERROR(+VLOOKUP(F13,postnr!A:B,2,FALSE),"")
G14: =IFERROR(+VLOOKUP(F14,postnr!A:B,2,FALSE),"")
G15: =IFERROR(+VLOOKUP(F15,postnr!A:B,2,FALSE),"")
G16: =IFERROR(+VLOOKUP(F16,postnr!A:B,2,FALSE),"")
G17: =IFERROR(+VLOOKUP(F17,postnr!A:B,2,FALSE),"")
... G311: =IFERROR(+VLOOKUP(F311,postnr!A:B,2,FALSE),"")

Sheet Aktionsliste
B2: Producentorganisation: | C2: =Medlemsoversigt!C1 -> 0
B3: Driftsprogramår: | C3: =+Medlemsoversigt!C2 -> 0
B5: Indsatsområde | C5: Aktionstype | D5: PO aktionsnummer Producentorganisationens lokale aktionsnummer | E5: Beskrivelse Beskrivelse af investeringen (fx sprøjte, gardiner, kølerum) | F5: Nyt eller brugt udstyr | G5: Milepæl 1) Ansøgning om tilsagn 2) Ansøgning om udbetaling | H5: Mulige Resultatindikatorer Mulige Resultatindikatorer vises ud fra valg af aktionsnummer. | I5: Medlemsnummer Nummer på det medlem hvor investeringen er placeret. Hvis investeringen findes på PO'ens matrikel skrives "PO". | J5: Navn/Firmanavn | K5: CVR-nr. | L5: Alle medlemmets tilknyttede CVR-numre | M5: Medlemmets Økologinummer ved 60% finansiering | N5: Ansøgt budget 50 pct. tilskud | O5: Ansøgt budget 60 pct. tilskud | P5: Ansøgt budget 80 pct. tilskud | Q5: Godkendt budget 50 pct. tilskud (Udfyldes af LBST) | R5: Godkendt budget 60 pct. tilskud (Udfyldes af LBST) | S5: Godkendt budget 80 pct. tilskud (Udfyldes af LBST) | T5: Ansøgt budget 1. ændring 50 pct. tilskud | U5: Ansøgt budget 1. ændring 60 pct. tilskud | V5: Ansøgt budget 1. ændring 80 pct. tilskud | W5: Godkendt budget 1. ændring 50 pct. tilskud (Udfyldes af LBST) | X5: Godkendt budget 1. ændring 60 pct. tilskud (Udfyldes af LBST) | Y5: Godkendt budget 1. ændring 80 pct. tilskud (Udfyldes af LBST) | Z5: Ansøgt budget 2. ændring 50 pct. tilskud | AA5: Ansøgt budget 2. ændring 60 pct. tilskud | AB5: Ansøgt budget 2. ændring 80 pct. tilskud | AC5: Godkendt budget 2. ændring 50 pct. tilskud (Udfyldes af LBST) | AD5: Godkendt budget 2. ændring 60 pct. tilskud (Udfyldes af LBST) | AE5: Godkendt budget 2. ændring 80 pct. tilskud (Udfyldes af LBST) | AF5: Ansøgt budget 3. ændring 50 pct. tilskud | AG5: Ansøgt budget 3. ændring 60 pct. tilskud | AH5: Ansøgt budget 3. ændring 80 pct. tilskud | AI5: Godkendt budget 3. ændring 50 pct. tilskud (Udfyldes af LBST) | AJ5: Godkendt budget 3. ændring 60 pct. tilskud (Udfyldes af LBST) | AK5: Godkendt budget 3. ændring 80 pct. tilskud (Udfyldes af LBST) | AL5: Ansøgning om udbetaling. Faktiske afholdte udgifter (svarer til beløb på bilagslisten)
A6: =LEFT(C6,2) -> 1. | B6: =+IF(A6="1.",+Indsats!$A$1,+IF(A6="2.",+Indsats!$A$2,+IF(A6="3.",+Indsats!$A$3,+IF(A6="4.",+Indsats!$A$4,+IF(A6="5.",+Indsats!$A$5,+IF(A6="6.",+Indsats!$A$6,+IF(A6="7.",+Indsats!$A$7,+IF(A6="8.",+Indsats!$A$8,+IF(A6="9.",+Indsats!$A$9,+IF(A6="10",+Indsats!$A$10,+IF(A6="11",+Indsats!$A$11,+IF(A6="12",+Indsats!$A$12,+IF(A6="13",+Indsats!$A$13,+IF(A6="14",+Indsats!$A$14,"Mangler Aktionsnummer")))))))))))))) -> 1. Investeringer i materielle og immaterielle aktiver, innovation mv. | C6: 1.1 Erhvervelse af anlægsaktiver (herunder investeringer i skånsom håndtering, sortering, pakning og opbevaring | D6: 20-2 | E6: Kålpakker | F6: Nyt | G6: 2) Ansøgning om udbetaling | H6: =IFERROR(+VLOOKUP(C6,Indsats!$B$1:$D$29,2,FALSE),"") -> R.9, R.3 | I6: x | J6: =+IFERROR(+VLOOKUP(I6,Medlemsoversigt!A:D,2,FALSE),"") -> Gårdmand Bjørn | K6: =IFERROR(+VLOOKUP(I6,Medlemsoversigt!A:D,3,FALSE),"") -> 9999999999 | L6: =IFERROR(IF(+VLOOKUP(I6,Medlemsoversigt!A:H,4,FALSE)=0,"",+VLOOKUP(I6,Medlemsoversigt!A:H,4,FALSE)),"") -> 9999999991 | M6: =IFERROR(IF(+VLOOKUP(I6,Medlemsoversigt!A:K,10,FALSE)=0,"",+VLOOKUP(I6,Medlemsoversigt!A:K,10,FALSE)),"") | N6: 1000 | Q6: 1001 | T6: 1002 | W6: 1003 | Z6: 1004 | AC6: 1005 | AF6: 1006 | AI6: 1007 | AL6: 1008
A7: =LEFT(C7,2) | B7: =+IF(A7="1.",+Indsats!$A$1,+IF(A7="2.",+Indsats!$A$2,+IF(A7="3.",+Indsats!$A$3,+IF(A7="4.",+Indsats!$A$4,+IF(A7="5.",+Indsats!$A$5,+IF(A7="6.",+Indsats!$A$6,+IF(A7="7.",+Indsats!$A$7,+IF(A7="8.",+Indsats!$A$8,+IF(A7="9.",+Indsats!$A$9,+IF(A7="10",+Indsats!$A$10,+IF(A7="11",+Indsats!$A$11,+IF(A7="12",+Indsats!$A$12,+IF(A7="13",+Indsats!$A$13,+IF(A7="14",+Indsats!$A$14,"Mangler Aktionsnummer")))))))))))))) -> Mangler Aktionsnummer | H7: =IFERROR(+VLOOKUP(C7,Indsats!$B$1:$D$29,2,FALSE),"") | J7: =+IFERROR(+VLOOKUP(I7,Medlemsoversigt!A:D,2,FALSE),"") | K7: =IFERROR(+VLOOKUP(I7,Medlemsoversigt!A:D,3,FALSE),"") | L7: =IFERROR(IF(+VLOOKUP(I7,Medlemsoversigt!A:H,4,FALSE)=0,"",+VLOOKUP(I7,Medlemsoversigt!A:H,4,FALSE)),"") | M7: =IFERROR(IF(+VLOOKUP(I7,Medlemsoversigt!A:K,10,FALSE)=0,"",+VLOOKUP(I7,Medlemsoversigt!A:K,10,FALSE)),"")
A8: =LEFT(C8,2) | B8: =+IF(A8="1.",+Indsats!$A$1,+IF(A8="2.",+Indsats!$A$2,+IF(A8="3.",+Indsats!$A$3,+IF(A8="4.",+Indsats!$A$4,+IF(A8="5.",+Indsats!$A$5,+IF(A8="6.",+Indsats!$A$6,+IF(A8="7.",+Indsats!$A$7,+IF(A8="8.",+Indsats!$A$8,+IF(A8="9.",+Indsats!$A$9,+IF(A8="10",+Indsats!$A$10,+IF(A8="11",+Indsats!$A$11,+IF(A8="12",+Indsats!$A$12,+IF(A8="13",+Indsats!$A$13,+IF(A8="14",+Indsats!$A$14,"Mangler Aktionsnummer")))))))))))))) -> Mangler Aktionsnummer | H8: =IFERROR(+VLOOKUP(C8,Indsats!$B$1:$D$29,2,FALSE),"") | J8: =+IFERROR(+VLOOKUP(I8,Medlemsoversigt!A:D,2,FALSE),"") | K8: =IFERROR(+VLOOKUP(I8,Medlemsoversigt!A:D,3,FALSE),"") | L8: =IFERROR(IF(+VLOOKUP(I8,Medlemsoversigt!A:H,4,FALSE)=0,"",+VLOOKUP(I8,Medlemsoversigt!A:H,4,FALSE)),"")
A9: =LEFT(C9,2) | B9: =+IF(A9="1.",+Indsats!$A$1,+IF(A9="2.",+Indsats!$A$2,+IF(A9="3.",+Indsats!$A$3,+IF(A9="4.",+Indsats!$A$4,+IF(A9="5.",+Indsats!$A$5,+IF(A9="6.",+Indsats!$A$6,+IF(A9="7.",+Indsats!$A$7,+IF(A9="8.",+Indsats!$A$8,+IF(A9="9.",+Indsats!$A$9,+IF(A9="10",+Indsats!$A$10,+IF(A9="11",+Indsats!$A$11,+IF(A9="12",+Indsats!$A$12,+IF(A9="13",+Indsats!$A$13,+IF(A9="14",+Indsats!$A$14,"Mangler Aktionsnummer")))))))))))))) -> Mangler Aktionsnummer | H9: =IFERROR(+VLOOKUP(C9,Indsats!$B$1:$D$29,2,FALSE),"") | J9: =+IFERROR(+VLOOKUP(I9,Medlemsoversigt!A:D,2,FALSE),"") | K9: =IFERROR(+VLOOKUP(I9,Medlemsoversigt!A:D,3,FALSE),"") | L9: =IFERROR(IF(+VLOOKUP(I9,Medlemsoversigt!A:H,4,FALSE)=0,"",+VLOOKUP(I9,Medlemsoversigt!A:H,4,FALSE)),"")
A10: =LEFT(C10,2) | B10: =+IF(A10="1.",+Indsats!$A$1,+IF(A10="2.",+Indsats!$A$2,+IF(A10="3.",+Indsats!$A$3,+IF(A10="4.",+Indsats!$A$4,+IF(A10="5.",+Indsats!$A$5,+IF(A10="6.",+Indsats!$A$6,+IF(A10="7.",+Indsats!$A$7,+IF(A10="8.",+Indsats!$A$8,+IF(A10="9.",+Indsats!$A$9,+IF(A10="10",+Indsats!$A$10,+IF(A10="11",+Indsats!$A$11,+IF(A10="12",+Indsats!$A$12,+IF(A10="13",+Indsats!$A$13,+IF(A10="14",+Indsats!$A$14,"Mangler Aktionsnummer")))))))))))))) -> Mangler Aktionsnummer | H10: =IFERROR(+VLOOKUP(C10,Indsats!$B$1:$D$29,2,FALSE),"") | J10: =+IFERROR(+VLOOKUP(I10,Medlemsoversigt!A:D,2,FALSE),"") | K10: =IFERROR(+VLOOKUP(I10,Medlemsoversigt!A:D,3,FALSE),"") | L10: =IFERROR(IF(+VLOOKUP(I10,Medlemsoversigt!A:H,4,FALSE)=0,"",+VLOOKUP(I10,Medlemsoversigt!A:H,4,FALSE)),"")
A11: =LEFT(C11,2) | B11: =+IF(A11="1.",+Indsats!$A$1,+IF(A11="2.",+Indsats!$A$2,+IF(A11="3.",+Indsats!$A$3,+IF(A11="4.",+Indsats!$A$4,+IF(A11="5.",+Indsats!$A$5,+IF(A11="6.",+Indsats!$A$6,+IF(A11="7.",+Indsats!$A$7,+IF(A11="8.",+Indsats!$A$8,+IF(A11="9.",+Indsats!$A$9,+IF(A11="10",+Indsats!$A$10,+IF(A11="11",+Indsats!$A$11,+IF(A11="12",+Indsats!$A$12,+IF(A11="13",+Indsats!$A$13,+IF(A11="14",+Indsats!$A$14,"Mangler Aktionsnummer")))))))))))))) -> Mangler Aktionsnummer | H11: =IFERROR(+VLOOKUP(C11,Indsats!$B$1:$D$29,2,FALSE),"") | J11: =+IFERROR(+VLOOKUP(I11,Medlemsoversigt!A:D,2,FALSE),"") | K11: =IFERROR(+VLOOKUP(I11,Medlemsoversigt!A:D,3,FALSE),"") | L11: =IFERROR(IF(+VLOOKUP(I11,Medlemsoversigt!A:H,4,FALSE)=0,"",+VLOOKUP(I11,Medlemsoversigt!A:H,4,FALSE)),"")
A12: =LEFT(C12,2) | B12: =+IF(A12="1.",+Indsats!$A$1,+IF(A12="2.",+Indsats!$A$2,+IF(A12="3.",+Indsats!$A$3,+IF(A12="4.",+Indsats!$A$4,+IF(A12="5.",+Indsats!$A$5,+IF(A12="6.",+Indsats!$A$6,+IF(A12="7.",+Indsats!$A$7,+IF(A12="8.",+Indsats!$A$8,+IF(A12="9.",+Indsats!$A$9,+IF(A12="10",+Indsats!$A$10,+IF(A12="11",+Indsats!$A$11,+IF(A12="12",+Indsats!$A$12,+IF(A12="13",+Indsats!$A$13,+IF(A12="14",+Indsats!$A$14,"Mangler Aktionsnummer")))))))))))))) -> Mangler Aktionsnummer | H12: =IFERROR(+VLOOKUP(C12,Indsats!$B$1:$D$29,2,FALSE),"") | J12: =+IFERROR(+VLOOKUP(I12,Medlemsoversigt!A:D,2,FALSE),"") | K12: =IFERROR(+VLOOKUP(I12,Medlemsoversigt!A:D,3,FALSE),"") | L12: =IFERROR(IF(+VLOOKUP(I12,Medlemsoversigt!A:H,4,FALSE)=0,"",+VLOOKUP(I12,Medlemsoversigt!A:H,4,FALSE)),"")
A13: =LEFT(C13,2) | B13: =+IF(A13="1.",+Indsats!$A$1,+IF(A13="2.",+Indsats!$A$2,+IF(A13="3.",+Indsats!$A$3,+IF(A13="4.",+Indsats!$A$4,+IF(A13="5.",+Indsats!$A$5,+IF(A13="6.",+Indsats!$A$6,+IF(A13="7.",+Indsats!$A$7,+IF(A13="8.",+Indsats!$A$8,+IF(A13="9.",+Indsats!$A$9,+IF(A13="10",+Indsats!$A$10,+IF(A13="11",+Indsats!$A$11,+IF(A13="12",+Indsats!$A$12,+IF(A13="13",+Indsats!$A$13,+IF(A13="14",+Indsats!$A$14,"Mangler Aktionsnummer")))))))))))))) -> Mangler Aktionsnummer | H13: =IFERROR(+VLOOKUP(C13,Indsats!$B$1:$D$29,2,FALSE),"") | J13: =+IFERROR(+VLOOKUP(I13,Medlemsoversigt!A:D,2,FALSE),"") | K13: =IFERROR(+VLOOKUP(I13,Medlemsoversigt!A:D,3,FALSE),"") | L13: =IFERROR(IF(+VLOOKUP(I13,Medlemsoversigt!A:H,4,FALSE)=0,"",+VLOOKUP(I13,Medlemsoversigt!A:H,4,FALSE)),"")
A14: =LEFT(C14,2) | B14: =+IF(A14="1.",+Indsats!$A$1,+IF(A14="2.",+Indsats!$A$2,+IF(A14="3.",+Indsats!$A$3,+IF(A14="4.",+Indsats!$A$4,+IF(A14="5.",+Indsats!$A$5,+IF(A14="6.",+Indsats!$A$6,+IF(A14="7.",+Indsats!$A$7,+IF(A14="8.",+Indsats!$A$8,+IF(A14="9.",+Indsats!$A$9,+IF(A14="10",+Indsats!$A$10,+IF(A14="11",+Indsats!$A$11,+IF(A14="12",+Indsats!$A$12,+IF(A14="13",+Indsats!$A$13,+IF(A14="14",+Indsats!$A$14,"Mangler Aktionsnummer")))))))))))))) -> Mangler Aktionsnummer | H14: =IFERROR(+VLOOKUP(C14,Indsats!$B$1:$D$29,2,FALSE),"") | J14: =+IFERROR(+VLOOKUP(I14,Medlemsoversigt!A:D,2,FALSE),"") | K14: =IFERROR(+VLOOKUP(I14,Medlemsoversigt!A:D,3,FALSE),"") | L14: =IFERROR(IF(+VLOOKUP(I14,Medlemsoversigt!A:H,4,FALSE)=0,"",+VLOOKUP(I14,Medlemsoversigt!A:H,4,FALSE)),"")
A15: =LEFT(C15,2) | B15: =+IF(A15="1.",+Indsats!$A$1,+IF(A15="2.",+Indsats!$A$2,+IF(A15="3.",+Indsats!$A$3,+IF(A15="4.",+Indsats!$A$4,+IF(A15="5.",+Indsats!$A$5,+IF(A15="6.",+Indsats!$A$6,+IF(A15="7.",+Indsats!$A$7,+IF(A15="8.",+Indsats!$A$8,+IF(A15="9.",+Indsats!$A$9,+IF(A15="10",+Indsats!$A$10,+IF(A15="11",+Indsats!$A$11,+IF(A15="12",+Indsats!$A$12,+IF(A15="13",+Indsats!$A$13,+IF(A15="14",+Indsats!$A$14,"Mangler Aktionsnummer")))))))))))))) -> Mangler Aktionsnummer | H15: =IFERROR(+VLOOKUP(C15,Indsats!$B$1:$D$29,2,FALSE),"") | J15: =+IFERROR(+VLOOKUP(I15,Medlemsoversigt!A:D,2,FALSE),"") | K15: =IFERROR(+VLOOKUP(I15,Medlemsoversigt!A:D,3,FALSE),"") | L15: =IFERROR(IF(+VLOOKUP(I15,Medlemsoversigt!A:H,4,FALSE)=0,"",+VLOOKUP(I15,Medlemsoversigt!A:H,4,FALSE)),"")
A16: =LEFT(C16,2) | B16: =+IF(A16="1.",+Indsats!$A$1,+IF(A16="2.",+Indsats!$A$2,+IF(A16="3.",+Indsats!$A$3,+IF(A16="4.",+Indsats!$A$4,+IF(A16="5.",+Indsats!$A$5,+IF(A16="6.",+Indsats!$A$6,+IF(A16="7.",+Indsats!$A$7,+IF(A16="8.",+Indsats!$A$8,+IF(A16="9.",+Indsats!$A$9,+IF(A16="10",+Indsats!$A$10,+IF(A16="11",+Indsats!$A$11,+IF(A16="12",+Indsats!$A$12,+IF(A16="13",+Indsats!$A$13,+IF(A16="14",+Indsats!$A$14,"Mangler Aktionsnummer")))))))))))))) -> Mangler Aktionsnummer | H16: =IFERROR(+VLOOKUP(C16,Indsats!$B$1:$D$29,2,FALSE),"") | J16: =+IFERROR(+VLOOKUP(I16,Medlemsoversigt!A:D,2,FALSE),"") | K16: =IFERROR(+VLOOKUP(I16,Medlemsoversigt!A:D,3,FALSE),"") | L16: =IFERROR(IF(+VLOOKUP(I16,Medlemsoversigt!A:H,4,FALSE)=0,"",+VLOOKUP(I16,Medlemsoversigt!A:H,4,FALSE)),"")
A17: =LEFT(C17,2) | B17: =+IF(A17="1.",+Indsats!$A$1,+IF(A17="2.",+Indsats!$A$2,+IF(A17="3.",+Indsats!$A$3,+IF(A17="4.",+Indsats!$A$4,+IF(A17="5.",+Indsats!$A$5,+IF(A17="6.",+Indsats!$A$6,+IF(A17="7.",+Indsats!$A$7,+IF(A17="8.",+Indsats!$A$8,+IF(A17="9.",+Indsats!$A$9,+IF(A17="10",+Indsats!$A$10,+IF(A17="11",+Indsats!$A$11,+IF(A17="12",+Indsats!$A$12,+IF(A17="13",+Indsats!$A$13,+IF(A17="14",+Indsats!$A$14,"Mangler Aktionsnummer")))))))))))))) -> Mangler Aktionsnummer | H17: =IFERROR(+VLOOKUP(C17,Indsats!$B$1:$D$29,2,FALSE),"") | J17: =+IFERROR(+VLOOKUP(I17,Medlemsoversigt!A:D,2,FALSE),"") | K17: =IFERROR(+VLOOKUP(I17,Medlemsoversigt!A:D,3,FALSE),"") | L17: =IFERROR(IF(+VLOOKUP(I17,Medlemsoversigt!A:H,4,FALSE)=0,"",+VLOOKUP(I17,Medlemsoversigt!A:H,4,FALSE)),"")
A18: =LEFT(C18,2) | B18: =+IF(A18="1.",+Indsats!$A$1,+IF(A18="2.",+Indsats!$A$2,+IF(A18="3.",+Indsats!$A$3,+IF(A18="4.",+Indsats!$A$4,+IF(A18="5.",+Indsats!$A$5,+IF(A18="6.",+Indsats!$A$6,+IF(A18="7.",+Indsats!$A$7,+IF(A18="8.",+Indsats!$A$8,+IF(A18="9.",+Indsats!$A$9,+IF(A18="10",+Indsats!$A$10,+IF(A18="11",+Indsats!$A$11,+IF(A18="12",+Indsats!$A$12,+IF(A18="13",+Indsats!$A$13,+IF(A18="14",+Indsats!$A$14,"Mangler Aktionsnummer")))))))))))))) -> Mangler Aktionsnummer | H18: =IFERROR(+VLOOKUP(C18,Indsats!$B$1:$D$29,2,FALSE),"") | J18: =+IFERROR(+VLOOKUP(I18,Medlemsoversigt!A:D,2,FALSE),"") | K18: =IFERROR(+VLOOKUP(I18,Medlemsoversigt!A:D,3,FALSE),"") | L18: =IFERROR(IF(+VLOOKUP(I18,Medlemsoversigt!A:H,4,FALSE)=0,"",+VLOOKUP(I18,Medlemsoversigt!A:H,4,FALSE)),"")
A19: =LEFT(C19,2) | B19: =+IF(A19="1.",+Indsats!$A$1,+IF(A19="2.",+Indsats!$A$2,+IF(A19="3.",+Indsats!$A$3,+IF(A19="4.",+Indsats!$A$4,+IF(A19="5.",+Indsats!$A$5,+IF(A19="6.",+Indsats!$A$6,+IF(A19="7.",+Indsats!$A$7,+IF(A19="8.",+Indsats!$A$8,+IF(A19="9.",+Indsats!$A$9,+IF(A19="10",+Indsats!$A$10,+IF(A19="11",+Indsats!$A$11,+IF(A19="12",+Indsats!$A$12,+IF(A19="13",+Indsats!$A$13,+IF(A19="14",+Indsats!$A$14,"Mangler Aktionsnummer")))))))))))))) -> Mangler Aktionsnummer | H19: =IFERROR(+VLOOKUP(C19,Indsats!$B$1:$D$29,2,FALSE),"") | J19: =+IFERROR(+VLOOKUP(I19,Medlemsoversigt!A:D,2,FALSE),"") | K19: =IFERROR(+VLOOKUP(I19,Medlemsoversigt!A:D,3,FALSE),"") | L19: =IFERROR(IF(+VLOOKUP(I19,Medlemsoversigt!A:H,4,FALSE)=0,"",+VLOOKUP(I19,Medlemsoversigt!A:H,4,FALSE)),"")
A20: =LEFT(C20,2) | B20: =+IF(A20="1.",+Indsats!$A$1,+IF(A20="2.",+Indsats!$A$2,+IF(A20="3.",+Indsats!$A$3,+IF(A20="4.",+Indsats!$A$4,+IF(A20="5.",+Indsats!$A$5,+IF(A20="6.",+Indsats!$A$6,+IF(A20="7.",+Indsats!$A$7,+IF(A20="8.",+Indsats!$A$8,+IF(A20="9.",+Indsats!$A$9,+IF(A20="10",+Indsats!$A$10,+IF(A20="11",+Indsats!$A$11,+IF(A20="12",+Indsats!$A$12,+IF(A20="13",+Indsats!$A$13,+IF(A20="14",+Indsats!$A$14,"Mangler Aktionsnummer")))))))))))))) -> Mangler Aktionsnummer | H20: =IFERROR(+VLOOKUP(C20,Indsats!$B$1:$D$29,2,FALSE),"") | J20: =+IFERROR(+VLOOKUP(I20,Medlemsoversigt!A:D,2,FALSE),"") | K20: =IFERROR(+VLOOKUP(I20,Medlemsoversigt!A:D,3,FALSE),"") | L20: =IFERROR(IF(+VLOOKUP(I20,Medlemsoversigt!A:H,4,FALSE)=0,"",+VLOOKUP(I20,Medlemsoversigt!A:H,4,FALSE)),"") | M20: =IFERROR(IF(+VLOOKUP(I20,Medlemsoversigt!A:K,10,FALSE)=0,"",+VLOOKUP(I20,Medlemsoversigt!A:K,10,FALSE)),"")
A21: =LEFT(C21,2) | B21: =+IF(A21="1.",+Indsats!$A$1,+IF(A21="2.",+Indsats!$A$2,+IF(A21="3.",+Indsats!$A$3,+IF(A21="4.",+Indsats!$A$4,+IF(A21="5.",+Indsats!$A$5,+IF(A21="6.",+Indsats!$A$6,+IF(A21="7.",+Indsats!$A$7,+IF(A21="8.",+Indsats!$A$8,+IF(A21="9.",+Indsats!$A$9,+IF(A21="10",+Indsats!$A$10,+IF(A21="11",+Indsats!$A$11,+IF(A21="12",+Indsats!$A$12,+IF(A21="13",+Indsats!$A$13,+IF(A21="14",+Indsats!$A$14,"Mangler Aktionsnummer")))))))))))))) -> Mangler Aktionsnummer | H21: =IFERROR(+VLOOKUP(C21,Indsats!$B$1:$D$29,2,FALSE),"") | J21: =+IFERROR(+VLOOKUP(I21,Medlemsoversigt!A:D,2,FALSE),"") | K21: =IFERROR(+VLOOKUP(I21,Medlemsoversigt!A:D,3,FALSE),"") | L21: =IFERROR(IF(+VLOOKUP(I21,Medlemsoversigt!A:H,4,FALSE)=0,"",+VLOOKUP(I21,Medlemsoversigt!A:H,4,FALSE)),"") | M21: =IFERROR(IF(+VLOOKUP(I21,Medlemsoversigt!A:K,10,FALSE)=0,"",+VLOOKUP(I21,Medlemsoversigt!A:K,10,FALSE)),"")
A22: =LEFT(C22,2) | B22: =+IF(A22="1.",+Indsats!$A$1,+IF(A22="2.",+Indsats!$A$2,+IF(A22="3.",+Indsats!$A$3,+IF(A22="4.",+Indsats!$A$4,+IF(A22="5.",+Indsats!$A$5,+IF(A22="6.",+Indsats!$A$6,+IF(A22="7.",+Indsats!$A$7,+IF(A22="8.",+Indsats!$A$8,+IF(A22="9.",+Indsats!$A$9,+IF(A22="10",+Indsats!$A$10,+IF(A22="11",+Indsats!$A$11,+IF(A22="12",+Indsats!$A$12,+IF(A22="13",+Indsats!$A$13,+IF(A22="14",+Indsats!$A$14,"Mangler Aktionsnummer")))))))))))))) -> Mangler Aktionsnummer | H22: =IFERROR(+VLOOKUP(C22,Indsats!$B$1:$D$29,2,FALSE),"") | J22: =+IFERROR(+VLOOKUP(I22,Medlemsoversigt!A:D,2,FALSE),"") | K22: =IFERROR(+VLOOKUP(I22,Medlemsoversigt!A:D,3,FALSE),"") | L22: =IFERROR(IF(+VLOOKUP(I22,Medlemsoversigt!A:H,4,FALSE)=0,"",+VLOOKUP(I22,Medlemsoversigt!A:H,4,FALSE)),"") | M22: =IFERROR(IF(+VLOOKUP(I22,Medlemsoversigt!A:K,10,FALSE)=0,"",+VLOOKUP(I22,Medlemsoversigt!A:K,10,FALSE)),"")
A23: =LEFT(C23,2) | B23: =+IF(A23="1.",+Indsats!$A$1,+IF(A23="2.",+Indsats!$A$2,+IF(A23="3.",+Indsats!$A$3,+IF(A23="4.",+Indsats!$A$4,+IF(A23="5.",+Indsats!$A$5,+IF(A23="6.",+Indsats!$A$6,+IF(A23="7.",+Indsats!$A$7,+IF(A23="8.",+Indsats!$A$8,+IF(A23="9.",+Indsats!$A$9,+IF(A23="10",+Indsats!$A$10,+IF(A23="11",+Indsats!$A$11,+IF(A23="12",+Indsats!$A$12,+IF(A23="13",+Indsats!$A$13,+IF(A23="14",+Indsats!$A$14,"Mangler Aktionsnummer")))))))))))))) -> Mangler Aktionsnummer | H23: =IFERROR(+VLOOKUP(C23,Indsats!$B$1:$D$29,2,FALSE),"") | J23: =+IFERROR(+VLOOKUP(I23,Medlemsoversigt!A:D,2,FALSE),"") | K23: =IFERROR(+VLOOKUP(I23,Medlemsoversigt!A:D,3,FALSE),"") | L23: =IFERROR(IF(+VLOOKUP(I23,Medlemsoversigt!A:H,4,FALSE)=0,"",+VLOOKUP(I23,Medlemsoversigt!A:H,4,FALSE)),"") | M23: =IFERROR(IF(+VLOOKUP(I23,Medlemsoversigt!A:K,10,FALSE)=0,"",+VLOOKUP(I23,Medlemsoversigt!A:K,10,FALSE)),"")
A24: =LEFT(C24,2) | B24: =+IF(A24="1.",+Indsats!$A$1,+IF(A24="2.",+Indsats!$A$2,+IF(A24="3.",+Indsats!$A$3,+IF(A24="4.",+Indsats!$A$4,+IF(A24="5.",+Indsats!$A$5,+IF(A24="6.",+Indsats!$A$6,+IF(A24="7.",+Indsats!$A$7,+IF(A24="8.",+Indsats!$A$8,+IF(A24="9.",+Indsats!$A$9,+IF(A24="10",+Indsats!$A$10,+IF(A24="11",+Indsats!$A$11,+IF(A24="12",+Indsats!$A$12,+IF(A24="13",+Indsats!$A$13,+IF(A24="14",+Indsats!$A$14,"Mangler Aktionsnummer")))))))))))))) -> Mangler Aktionsnummer | H24: =IFERROR(+VLOOKUP(C24,Indsats!$B$1:$D$29,2,FALSE),"") | J24: =+IFERROR(+VLOOKUP(I24,Medlemsoversigt!A:D,2,FALSE),"") | K24: =IFERROR(+VLOOKUP(I24,Medlemsoversigt!A:D,3,FALSE),"") | L24: =IFERROR(IF(+VLOOKUP(I24,Medlemsoversigt!A:H,4,FALSE)=0,"",+VLOOKUP(I24,Medlemsoversigt!A:H,4,FALSE)),"") | M24: =IFERROR(IF(+VLOOKUP(I24,Medlemsoversigt!A:K,10,FALSE)=0,"",+VLOOKUP(I24,Medlemsoversigt!A:K,10,FALSE)),"")
A25: =LEFT(C25,2) | B25: =+IF(A25="1.",+Indsats!$A$1,+IF(A25="2.",+Indsats!$A$2,+IF(A25="3.",+Indsats!$A$3,+IF(A25="4.",+Indsats!$A$4,+IF(A25="5.",+Indsats!$A$5,+IF(A25="6.",+Indsats!$A$6,+IF(A25="7.",+Indsats!$A$7,+IF(A25="8.",+Indsats!$A$8,+IF(A25="9.",+Indsats!$A$9,+IF(A25="10",+Indsats!$A$10,+IF(A25="11",+Indsats!$A$11,+IF(A25="12",+Indsats!$A$12,+IF(A25="13",+Indsats!$A$13,+IF(A25="14",+Indsats!$A$14,"Mangler Aktionsnummer")))))))))))))) -> Mangler Aktionsnummer | H25: =IFERROR(+VLOOKUP(C25,Indsats!$B$1:$D$29,2,FALSE),"") | J25: =+IFERROR(+VLOOKUP(I25,Medlemsoversigt!A:D,2,FALSE),"") | K25: =IFERROR(+VLOOKUP(I25,Medlemsoversigt!A:D,3,FALSE),"") | L25: =IFERROR(IF(+VLOOKUP(I25,Medlemsoversigt!A:H,4,FALSE)=0,"",+VLOOKUP(I25,Medlemsoversigt!A:H,4,FALSE)),"") | M25: =IFERROR(IF(+VLOOKUP(I25,Medlemsoversigt!A:K,10,FALSE)=0,"",+VLOOKUP(I25,Medlemsoversigt!A:K,10,FALSE)),"")
A26: =LEFT(C26,2) | B26: =+IF(A26="1.",+Indsats!$A$1,+IF(A26="2.",+Indsats!$A$2,+IF(A26="3.",+Indsats!$A$3,+IF(A26="4.",+Indsats!$A$4,+IF(A26="5.",+Indsats!$A$5,+IF(A26="6.",+Indsats!$A$6,+IF(A26="7.",+Indsats!$A$7,+IF(A26="8.",+Indsats!$A$8,+IF(A26="9.",+Indsats!$A$9,+IF(A26="10",+Indsats!$A$10,+IF(A26="11",+Indsats!$A$11,+IF(A26="12",+Indsats!$A$12,+IF(A26="13",+Indsats!$A$13,+IF(A26="14",+Indsats!$A$14,"Mangler Aktionsnummer")))))))))))))) -> Mangler Aktionsnummer | H26: =IFERROR(+VLOOKUP(C26,Indsats!$B$1:$D$29,2,FALSE),"") | J26: =+IFERROR(+VLOOKUP(I26,Medlemsoversigt!A:D,2,FALSE),"") | K26: =IFERROR(+VLOOKUP(I26,Medlemsoversigt!A:D,3,FALSE),"") | L26: =IFERROR(IF(+VLOOKUP(I26,Medlemsoversigt!A:H,4,FALSE)=0,"",+VLOOKUP(I26,Medlemsoversigt!A:H,4,FALSE)),"") | M26: =IFERROR(IF(+VLOOKUP(I26,Medlemsoversigt!A:K,10,FALSE)=0,"",+VLOOKUP(I26,Medlemsoversigt!A:K,10,FALSE)),"")
A27: =LEFT(C27,2) | B27: =+IF(A27="1.",+Indsats!$A$1,+IF(A27="2.",+Indsats!$A$2,+IF(A27="3.",+Indsats!$A$3,+IF(A27="4.",+Indsats!$A$4,+IF(A27="5.",+Indsats!$A$5,+IF(A27="6.",+Indsats!$A$6,+IF(A27="7.",+Indsats!$A$7,+IF(A27="8.",+Indsats!$A$8,+IF(A27="9.",+Indsats!$A$9,+IF(A27="10",+Indsats!$A$10,+IF(A27="11",+Indsats!$A$11,+IF(A27="12",+Indsats!$A$12,+IF(A27="13",+Indsats!$A$13,+IF(A27="14",+Indsats!$A$14,"Mangler Aktionsnummer")))))))))))))) -> Mangler Aktionsnummer | H27: =IFERROR(+VLOOKUP(C27,Indsats!$B$1:$D$29,2,FALSE),"") | J27: =+IFERROR(+VLOOKUP(I27,Medlemsoversigt!A:D,2,FALSE),"") | K27: =IFERROR(+VLOOKUP(I27,Medlemsoversigt!A:D,3,FALSE),"") | L27: =IFERROR(IF(+VLOOKUP(I27,Medlemsoversigt!A:H,4,FALSE)=0,"",+VLOOKUP(I27,Medlemsoversigt!A:H,4,FALSE)),"") | M27: =IFERROR(IF(+VLOOKUP(I27,Medlemsoversigt!A:K,10,FALSE)=0,"",+VLOOKUP(I27,Medlemsoversigt!A:K,10,FALSE)),"")
A28: =LEFT(C28,2) | B28: =+IF(A28="1.",+Indsats!$A$1,+IF(A28="2.",+Indsats!$A$2,+IF(A28="3.",+Indsats!$A$3,+IF(A28="4.",+Indsats!$A$4,+IF(A28="5.",+Indsats!$A$5,+IF(A28="6.",+Indsats!$A$6,+IF(A28="7.",+Indsats!$A$7,+IF(A28="8.",+Indsats!$A$8,+IF(A28="9.",+Indsats!$A$9,+IF(A28="10",+Indsats!$A$10,+IF(A28="11",+Indsats!$A$11,+IF(A28="12",+Indsats!$A$12,+IF(A28="13",+Indsats!$A$13,+IF(A28="14",+Indsats!$A$14,"Mangler Aktionsnummer")))))))))))))) -> Mangler Aktionsnummer | H28: =IFERROR(+VLOOKUP(C28,Indsats!$B$1:$D$29,2,FALSE),"") | J28: =+IFERROR(+VLOOKUP(I28,Medlemsoversigt!A:D,2,FALSE),"") | K28: =IFERROR(+VLOOKUP(I28,Medlemsoversigt!A:D,3,FALSE),"") | L28: =IFERROR(IF(+VLOOKUP(I28,Medlemsoversigt!A:H,4,FALSE)=0,"",+VLOOKUP(I28,Medlemsoversigt!A:H,4,FALSE)),"") | M28: =IFERROR(IF(+VLOOKUP(I28,Medlemsoversigt!A:K,10,FALSE)=0,"",+VLOOKUP(I28,Medlemsoversigt!A:K,10,FALSE)),"")
A29: =LEFT(C29,2) | B29: =+IF(A29="1.",+Indsats!$A$1,+IF(A29="2.",+Indsats!$A$2,+IF(A29="3.",+Indsats!$A$3,+IF(A29="4.",+Indsats!$A$4,+IF(A29="5.",+Indsats!$A$5,+IF(A29="6.",+Indsats!$A$6,+IF(A29="7.",+Indsats!$A$7,+IF(A29="8.",+Indsats!$A$8,+IF(A29="9.",+Indsats!$A$9,+IF(A29="10",+Indsats!$A$10,+IF(A29="11",+Indsats!$A$11,+IF(A29="12",+Indsats!$A$12,+IF(A29="13",+Indsats!$A$13,+IF(A29="14",+Indsats!$A$14,"Mangler Aktionsnummer")))))))))))))) -> Mangler Aktionsnummer | H29: =IFERROR(+VLOOKUP(C29,Indsats!$B$1:$D$29,2,FALSE),"") | J29: =+IFERROR(+VLOOKUP(I29,Medlemsoversigt!A:D,2,FALSE),"") | K29: =IFERROR(+VLOOKUP(I29,Medlemsoversigt!A:D,3,FALSE),"") | L29: =IFERROR(IF(+VLOOKUP(I29,Medlemsoversigt!A:H,4,FALSE)=0,"",+VLOOKUP(I29,Medlemsoversigt!A:H,4,FALSE)),"") | M29: =IFERROR(IF(+VLOOKUP(I29,Medlemsoversigt!A:K,10,FALSE)=0,"",+VLOOKUP(I29,Medlemsoversigt!A:K,10,FALSE)),"")
A30: =LEFT(C30,2) | B30: =+IF(A30="1.",+Indsats!$A$1,+IF(A30="2.",+Indsats!$A$2,+IF(A30="3.",+Indsats!$A$3,+IF(A30="4.",+Indsats!$A$4,+IF(A30="5.",+Indsats!$A$5,+IF(A30="6.",+Indsats!$A$6,+IF(A30="7.",+Indsats!$A$7,+IF(A30="8.",+Indsats!$A$8,+IF(A30="9.",+Indsats!$A$9,+IF(A30="10",+Indsats!$A$10,+IF(A30="11",+Indsats!$A$11,+IF(A30="12",+Indsats!$A$12,+IF(A30="13",+Indsats!$A$13,+IF(A30="14",+Indsats!$A$14,"Mangler Aktionsnummer")))))))))))))) -> Mangler Aktionsnummer | H30: =IFERROR(+VLOOKUP(C30,Indsats!$B$1:$D$29,2,FALSE),"") | J30: =+IFERROR(+VLOOKUP(I30,Medlemsoversigt!A:D,2,FALSE),"") | K30: =IFERROR(+VLOOKUP(I30,Medlemsoversigt!A:D,3,FALSE),"") | L30: =IFERROR(IF(+VLOOKUP(I30,Medlemsoversigt!A:H,4,FALSE)=0,"",+VLOOKUP(I30,Medlemsoversigt!A:H,4,FALSE)),"") | M30: =IFERROR(IF(+VLOOKUP(I30,Medlemsoversigt!A:K,10,FALSE)=0,"",+VLOOKUP(I30,Medlemsoversigt!A:K,10,FALSE)),"")
A31: =LEFT(C31,2) | B31: =+IF(A31="1.",+Indsats!$A$1,+IF(A31="2.",+Indsats!$A$2,+IF(A31="3.",+Indsats!$A$3,+IF(A31="4.",+Indsats!$A$4,+IF(A31="5.",+Indsats!$A$5,+IF(A31="6.",+Indsats!$A$6,+IF(A31="7.",+Indsats!$A$7,+IF(A31="8.",+Indsats!$A$8,+IF(A31="9.",+Indsats!$A$9,+IF(A31="10",+Indsats!$A$10,+IF(A31="11",+Indsats!$A$11,+IF(A31="12",+Indsats!$A$12,+IF(A31="13",+Indsats!$A$13,+IF(A31="14",+Indsats!$A$14,"Mangler Aktionsnummer")))))))))))))) -> Mangler Aktionsnummer | H31: =IFERROR(+VLOOKUP(C31,Indsats!$B$1:$D$29,2,FALSE),"") | J31: =+IFERROR(+VLOOKUP(I31,Medlemsoversigt!A:D,2,FALSE),"") | K31: =IFERROR(+VLOOKUP(I31,Medlemsoversigt!A:D,3,FALSE),"") | L31: =IFERROR(IF(+VLOOKUP(I31,Medlemsoversigt!A:H,4,FALSE)=0,"",+VLOOKUP(I31,Medlemsoversigt!A:H,4,FALSE)),"") | M31: =IFERROR(IF(+VLOOKUP(I31,Medlemsoversigt!A:K,10,FALSE)=0,"",+VLOOKUP(I31,Medlemsoversigt!A:K,10,FALSE)),"")
... A644: =LEFT(C644,2) | B644: =+IF(A644="1.",+Indsats!$A$1,+IF(A644="2.",+Indsats!$A$2,+IF(A644="3.",+Indsats!$A$3,+IF(A644="4.",+Indsats!$A$4,+IF(A644="5.",+Indsats!$A$5,+IF(A644="6.",+Indsats!$A$6,+IF(A644="7.",+Indsats!$A$7,+IF(A644="8.",+Indsats!$A$8,+IF(A644="9.",+Indsats!$A$9,+IF(A644="10",+Indsats!$A$10,+IF(A644="11",+Indsats!$A$11,+IF(A644="12",+Indsats!$A$12,+IF(A644="13",+Indsats!$A$13,+IF(A644="14",+Indsats!$A$14,"Mangler Aktionsnummer")))))))))))))) -> Mangler Aktionsnummer | H644: =IFERROR(+VLOOKUP(C644,Indsats!$B$1:$D$29,2,FALSE),"") | J644: =+IFERROR(+VLOOKUP(I644,Medlemsoversigt!A:D,2,FALSE),"") | K644: =IFERROR(+VLOOKUP(I644,Medlemsoversigt!A:D,3,FALSE),"") | L644: =IFERROR(IF(+VLOOKUP(I644,Medlemsoversigt!A:H,4,FALSE)=0,"",+VLOOKUP(I644,Medlemsoversigt!A:H,4,FALSE)),"") | M644: =IFERROR(IF(+VLOOKUP(I644,Medlemsoversigt!A:K,10,FALSE)=0,"",+VLOOKUP(I644,Medlemsoversigt!A:K,10,FALSE)),"")

Sheet Inventaroversigt
A1: Producentorganisation: | B1: =Medlemsoversigt!C1 -> 0
A2: Driftsprogramår: | B2: =+Medlemsoversigt!C2 -> 0
A4: Investeringsoversigt over EU-støttede investeringer som PO'en har kunnet afskrive på (Producentorganisationen skal udfylde inventaroversigten for investeringer foretaget med EU-støtte. Listen skal omfatte alle de investeringer som PO'en stadig afskriver eller har solgt inden værdi 0 kr. )
A5: Programår (åååå) Angiv årstal for køb af investeringen | B5: Tidl. Foranstaltningsnummer/ Indsatsområde | C5: Aktionstype | D5: PO aktionsnummer Producentorganisationens lokale aktionsnummer | E5: Beskrivelse Kort beskrivelse af investeringen (fx sprøjte, gardiner, radrenser) | F5: Medlemsnummer Nummer på det medlem hvor investeringen er placeret. Hvis investeringen findes på PO'ens matrikel skrives "PO". | G5: Navn/Firmanavn | H5: CVR nr. | I5: Tilknyttede CVR-Nr. | J5: Adresse | K5: Postnummer | L5: By | M5: Anskaffelsesbeløb Købspris i kr. | N5: Støtteprocent | O5: Værdi i kr. pr 31. december i det nuværende år | P5: Salgsår (åååå) Angiv hvis solgt | Q5: Salgspris Angiv værdi i kr. hvis solgt
A6: 1949 | B6: 1. Investeringer i materielle og immaterielle aktiver, innovation mv. | C6: 1.1 Erhvervelse af anlægsaktiver (herunder investeringer i skånsom håndtering, sortering, pakning og opbevaring | D6: 20-2 | E6: Kål pakkeri | F6: X | G6: =IFERROR(IF(+VLOOKUP(F6,Medlemsoversigt!A:K,2,FALSE)=0,"",+VLOOKUP(F6,Medlemsoversigt!A:K,2,FALSE)),"") -> Gårdmand Bjørn | H6: =IFERROR(IF(+VLOOKUP(F6,Medlemsoversigt!A:K,3,FALSE)=0,"",+VLOOKUP(F6,Medlemsoversigt!A:K,3,FALSE)),"") -> 9999999999 | I6: =IFERROR(IF(+VLOOKUP(F6,Medlemsoversigt!A:K,4,FALSE)=0,"",+VLOOKUP(F6,Medlemsoversigt!A:K,4,FALSE)),"") -> 9999999991 | J6: =IFERROR(+VLOOKUP(F6,Medlemsoversigt!A:K,5,FALSE),"") -> Paradisæblevej | K6: =IFERROR(+VLOOKUP(F6,Medlemsoversigt!A:K,6,FALSE),"") -> 99999 | L6: =IFERROR(+VLOOKUP(F6,Medlemsoversigt!A:K,7,FALSE),"") -> Andeby | M6: 1000 | N6: 0.5 | O6: 750 | P6: 2022 | Q6: 650
G7: =IFERROR(IF(+VLOOKUP(F7,Medlemsoversigt!A:K,2,FALSE)=0,"",+VLOOKUP(F7,Medlemsoversigt!A:K,2,FALSE)),"") | H7: =IFERROR(IF(+VLOOKUP(F7,Medlemsoversigt!A:K,3,FALSE)=0,"",+VLOOKUP(F7,Medlemsoversigt!A:K,3,FALSE)),"") | I7: =IFERROR(IF(+VLOOKUP(F7,Medlemsoversigt!A:K,4,FALSE)=0,"",+VLOOKUP(F7,Medlemsoversigt!A:K,4,FALSE)),"") | J7: =IFERROR(+VLOOKUP(F7,Medlemsoversigt!A:K,5,FALSE),"") | K7: =IFERROR(+VLOOKUP(F7,Medlemsoversigt!A:K,6,FALSE),"") | L7: =IFERROR(+VLOOKUP(F7,Medlemsoversigt!A:K,7,FALSE),"")
G8: =IFERROR(IF(+VLOOKUP(F8,Medlemsoversigt!A:K,2,FALSE)=0,"",+VLOOKUP(F8,Medlemsoversigt!A:K,2,FALSE)),"") | H8: =IFERROR(IF(+VLOOKUP(F8,Medlemsoversigt!A:K,3,FALSE)=0,"",+VLOOKUP(F8,Medlemsoversigt!A:K,3,FALSE)),"") | I8: =IFERROR(IF(+VLOOKUP(F8,Medlemsoversigt!A:K,4,FALSE)=0,"",+VLOOKUP(F8,Medlemsoversigt!A:K,4,FALSE)),"") | J8: =IFERROR(+VLOOKUP(F8,Medlemsoversigt!A:K,5,FALSE),"") | K8: =IFERROR(+VLOOKUP(F8,Medlemsoversigt!A:K,6,FALSE),"") | L8: =IFERROR(+VLOOKUP(F8,Medlemsoversigt!A:K,7,FALSE),"")
G9: =IFERROR(IF(+VLOOKUP(F9,Medlemsoversigt!A:K,2,FALSE)=0,"",+VLOOKUP(F9,Medlemsoversigt!A:K,2,FALSE)),"") | H9: =IFERROR(IF(+VLOOKUP(F9,Medlemsoversigt!A:K,3,FALSE)=0,"",+VLOOKUP(F9,Medlemsoversigt!A:K,3,FALSE)),"") | I9: =IFERROR(IF(+VLOOKUP(F9,Medlemsoversigt!A:K,4,FALSE)=0,"",+VLOOKUP(F9,Medlemsoversigt!A:K,4,FALSE)),"") | J9: =IFERROR(+VLOOKUP(F9,Medlemsoversigt!A:K,5,FALSE),"") | K9: =IFERROR(+VLOOKUP(F9,Medlemsoversigt!A:K,6,FALSE),"") | L9: =IFERROR(+VLOOKUP(F9,Medlemsoversigt!A:K,7,FALSE),"")
G10: =IFERROR(IF(+VLOOKUP(F10,Medlemsoversigt!A:K,2,FALSE)=0,"",+VLOOKUP(F10,Medlemsoversigt!A:K,2,FALSE)),"") | H10: =IFERROR(IF(+VLOOKUP(F10,Medlemsoversigt!A:K,3,FALSE)=0,"",+VLOOKUP(F10,Medlemsoversigt!A:K,3,FALSE)),"") | I10: =IFERROR(IF(+VLOOKUP(F10,Medlemsoversigt!A:K,4,FALSE)=0,"",+VLOOKUP(F10,Medlemsoversigt!A:K,4,FALSE)),"") | J10: =IFERROR(+VLOOKUP(F10,Medlemsoversigt!A:K,5,FALSE),"") | K10: =IFERROR(+VLOOKUP(F10,Medlemsoversigt!A:K,6,FALSE),"") | L10: =IFERROR(+VLOOKUP(F10,Medlemsoversigt!A:K,7,FALSE),"")
G11: =IFERROR(IF(+VLOOKUP(F11,Medlemsoversigt!A:K,2,FALSE)=0,"",+VLOOKUP(F11,Medlemsoversigt!A:K,2,FALSE)),"") | H11: =IFERROR(IF(+VLOOKUP(F11,Medlemsoversigt!A:K,3,FALSE)=0,"",+VLOOKUP(F11,Medlemsoversigt!A:K,3,FALSE)),"") | I11: =IFERROR(IF(+VLOOKUP(F11,Medlemsoversigt!A:K,4,FALSE)=0,"",+VLOOKUP(F11,Medlemsoversigt!A:K,4,FALSE)),"") | J11: =IFERROR(+VLOOKUP(F11,Medlemsoversigt!A:K,5,FALSE),"") | K11: =IFERROR(+VLOOKUP(F11,Medlemsoversigt!A:K,6,FALSE),"") | L11: =IFERROR(+VLOOKUP(F11,Medlemsoversigt!A:K,7,FALSE),"")
G12: =IFERROR(IF(+VLOOKUP(F12,Medlemsoversigt!A:K,2,FALSE)=0,"",+VLOOKUP(F12,Medlemsoversigt!A:K,2,FALSE)),"") | H12: =IFERROR(IF(+VLOOKUP(F12,Medlemsoversigt!A:K,3,FALSE)=0,"",+VLOOKUP(F12,Medlemsoversigt!A:K,3,FALSE)),"") | I12: =IFERROR(IF(+VLOOKUP(F12,Medlemsoversigt!A:K,4,FALSE)=0,"",+VLOOKUP(F12,Medlemsoversigt!A:K,4,FALSE)),"") | J12: =IFERROR(+VLOOKUP(F12,Medlemsoversigt!A:K,5,FALSE),"") | K12: =IFERROR(+VLOOKUP(F12,Medlemsoversigt!A:K,6,FALSE),"") | L12: =IFERROR(+VLOOKUP(F12,Medlemsoversigt!A:K,7,FALSE),"")
G13: =IFERROR(IF(+VLOOKUP(F13,Medlemsoversigt!A:K,2,FALSE)=0,"",+VLOOKUP(F13,Medlemsoversigt!A:K,2,FALSE)),"") | H13: =IFERROR(IF(+VLOOKUP(F13,Medlemsoversigt!A:K,3,FALSE)=0,"",+VLOOKUP(F13,Medlemsoversigt!A:K,3,FALSE)),"") | I13: =IFERROR(IF(+VLOOKUP(F13,Medlemsoversigt!A:K,4,FALSE)=0,"",+VLOOKUP(F13,Medlemsoversigt!A:K,4,FALSE)),"") | J13: =IFERROR(+VLOOKUP(F13,Medlemsoversigt!A:K,5,FALSE),"") | K13: =IFERROR(+VLOOKUP(F13,Medlemsoversigt!A:K,6,FALSE),"") | L13: =IFERROR(+VLOOKUP(F13,Medlemsoversigt!A:K,7,FALSE),"")
G14: =IFERROR(IF(+VLOOKUP(F14,Medlemsoversigt!A:K,2,FALSE)=0,"",+VLOOKUP(F14,Medlemsoversigt!A:K,2,FALSE)),"") | H14: =IFERROR(IF(+VLOOKUP(F14,Medlemsoversigt!A:K,3,FALSE)=0,"",+VLOOKUP(F14,Medlemsoversigt!A:K,3,FALSE)),"") | I14: =IFERROR(IF(+VLOOKUP(F14,Medlemsoversigt!A:K,4,FALSE)=0,"",+VLOOKUP(F14,Medlemsoversigt!A:K,4,FALSE)),"") | J14: =IFERROR(+VLOOKUP(F14,Medlemsoversigt!A:K,5,FALSE),"") | K14: =IFERROR(+VLOOKUP(F14,Medlemsoversigt!A:K,6,FALSE),"") | L14: =IFERROR(+VLOOKUP(F14,Medlemsoversigt!A:K,7,FALSE),"")
G15: =IFERROR(IF(+VLOOKUP(F15,Medlemsoversigt!A:K,2,FALSE)=0,"",+VLOOKUP(F15,Medlemsoversigt!A:K,2,FALSE)),"") | H15: =IFERROR(IF(+VLOOKUP(F15,Medlemsoversigt!A:K,3,FALSE)=0,"",+VLOOKUP(F15,Medlemsoversigt!A:K,3,FALSE)),"") | I15: =IFERROR(IF(+VLOOKUP(F15,Medlemsoversigt!A:K,4,FALSE)=0,"",+VLOOKUP(F15,Medlemsoversigt!A:K,4,FALSE)),"") | J15: =IFERROR(+VLOOKUP(F15,Medlemsoversigt!A:K,5,FALSE),"") | K15: =IFERROR(+VLOOKUP(F15,Medlemsoversigt!A:K,6,FALSE),"") | L15: =IFERROR(+VLOOKUP(F15,Medlemsoversigt!A:K,7,FALSE),"")
G16: =IFERROR(IF(+VLOOKUP(F16,Medlemsoversigt!A:K,2,FALSE)=0,"",+VLOOKUP(F16,Medlemsoversigt!A:K,2,FALSE)),"") | H16: =IFERROR(IF(+VLOOKUP(F16,Medlemsoversigt!A:K,3,FALSE)=0,"",+VLOOKUP(F16,Medlemsoversigt!A:K,3,FALSE)),"") | I16: =IFERROR(IF(+VLOOKUP(F16,Medlemsoversigt!A:K,4,FALSE)=0,"",+VLOOKUP(F16,Medlemsoversigt!A:K,4,FALSE)),"") | J16: =IFERROR(+VLOOKUP(F16,Medlemsoversigt!A:K,5,FALSE),"") | K16: =IFERROR(+VLOOKUP(F16,Medlemsoversigt!A:K,6,FALSE),"") | L16: =IFERROR(+VLOOKUP(F16,Medlemsoversigt!A:K,7,FALSE),"")
G17: =IFERROR(IF(+VLOOKUP(F17,Medlemsoversigt!A:K,2,FALSE)=0,"",+VLOOKUP(F17,Medlemsoversigt!A:K,2,FALSE)),"") | H17: =IFERROR(IF(+VLOOKUP(F17,Medlemsoversigt!A:K,3,FALSE)=0,"",+VLOOKUP(F17,Medlemsoversigt!A:K,3,FALSE)),"") | I17: =IFERROR(IF(+VLOOKUP(F17,Medlemsoversigt!A:K,4,FALSE)=0,"",+VLOOKUP(F17,Medlemsoversigt!A:K,4,FALSE)),"") | J17: =IFERROR(+VLOOKUP(F17,Medlemsoversigt!A:K,5,FALSE),"") | K17: =IFERROR(+VLOOKUP(F17,Medlemsoversigt!A:K,6,FALSE),"") | L17: =IFERROR(+VLOOKUP(F17,Medlemsoversigt!A:K,7,FALSE),"")
G18: =IFERROR(IF(+VLOOKUP(F18,Medlemsoversigt!A:K,2,FALSE)=0,"",+VLOOKUP(F18,Medlemsoversigt!A:K,2,FALSE)),"") | H18: =IFERROR(IF(+VLOOKUP(F18,Medlemsoversigt!A:K,3,FALSE)=0,"",+VLOOKUP(F18,Medlemsoversigt!A:K,3,FALSE)),"") | I18: =IFERROR(IF(+VLOOKUP(F18,Medlemsoversigt!A:K,4,FALSE)=0,"",+VLOOKUP(F18,Medlemsoversigt!A:K,4,FALSE)),"") | J18: =IFERROR(+VLOOKUP(F18,Medlemsoversigt!A:K,5,FALSE),"") | K18: =IFERROR(+VLOOKUP(F18,Medlemsoversigt!A:K,6,FALSE),"") | L18: =IFERROR(+VLOOKUP(F18,Medlemsoversigt!A:K,7,FALSE),"")
... G501: =IFERROR(IF(+VLOOKUP(F501,Medlemsoversigt!A:K,2,FALSE)=0,"",+VLOOKUP(F501,Medlemsoversigt!A:K,2,FALSE)),"") | H501: =IFERROR(IF(+VLOOKUP(F501,Medlemsoversigt!A:K,3,FALSE)=0,"",+VLOOKUP(F501,Medlemsoversigt!A:K,3,FALSE)),"") | I501: =IFERROR(IF(+VLOOKUP(F501,Medlemsoversigt!A:K,4,FALSE)=0,"",+VLOOKUP(F501,Medlemsoversigt!A:K,4,FALSE)),"") | J501: =IFERROR(+VLOOKUP(F501,Medlemsoversigt!A:K,5,FALSE),"") | K501: =IFERROR(+VLOOKUP(F501,Medlemsoversigt!A:K,6,FALSE),"") | L501: =IFERROR(+VLOOKUP(F501,Medlemsoversigt!A:K,7,FALSE),"")

Sheet Indsats
A1: 1. Investeringer i materielle og immaterielle aktiver, innovation mv. | B1: 1.1 Erhvervelse af anlægsaktiver (herunder investeringer i skånsom håndtering, sortering, pakning og opbevaring | C1: R.9, R.3 | D1: Erhvervelse af anlægsaktiver (herunder investeringer i skånsom håndtering, sortering, pakning og opbevaring) | F1: R.1 | H1: 1) Ansøgning om tilsagn
A2: 2. Rådgivningstjenester og teknisk bistand, efteruddannelse mv. | B2: 1.2 Indkøb af flerårige certificerede konventionelle planter | C2: Indgår ikke | D2: Indkøb af flerårige certificerede konventionelle plante | F2: R.3 | H2: 2) Ansøgning om udbetaling
A3: 3. Aktiviteter afholdt af PO'en | B3: 1.3 Investering i innovation, forskning i og udvikling af bæredygtige produktionsmetoder mv. | C3: R.3, R.9, R.16, R.26, R.28 | D3: Investering i innovation, forskning i og udvikling af bæredygtige produktionsmetoder mv. | F3: R.5
A4: 4. Økologisk produktion | B4: 1.4 Investering målrettet miljø jf. miljøpositivlisten | C4: R.3, R.9, R.16, R.26 | D4: Investering målrettet miljø jf. miljøpositivlisten | F4: R.9
A5: 5. Integreret produktion | B5: 1.5 Investering i IT og driftsplanlægning | C5: R.3, R.9 | D5: Investering i IT og driftsplanlægning | F5: R.10
A6: 6. Salgsfremstød, kommunikation og markedsføring mv. | B6: 2.1 Rådgivning, teknisk bistand og kurser vedr. forbedring af konkurrenceevnen gennem modernisering | C6: R.1 | D6: Rådgivning, teknisk bistand og kurser vedr. forbedring af konkurrenceevnen gennem modernisering | F6: R.11
A7: 7. Gennemførelse af kvalitetsordninger | B7: 2.2 Rådgivning, uddannelse og kurser vedr. salgsfremme | C7: R.1 | D7: Rådgivning, uddannelse og kurser vedr. salgsfremme | F7: R.16
A8: 8. Gennemførelse af sporbarheds- og certificeringssystemer | B8: 2.3 Rådgivning, uddannelse og kurser vedr. produktionsmetoder og -teknikker, der tager hensyn til miljøet mv. | C8: R.28 | D8: Rådgivning, uddannelse og kurser vedr. produktionsmetoder og -teknikker, der tager hensyn til miljøet mv. | F8: R.26
A9: 9. Modvirkning af og tilpasning til klimaforandringer | B9: 3.1 Vejledning af medlemmer i kriseforebyggelse | C9: R.1, R.28 | D9: Vejledning af medlemmer i kriseforebyggelse | F9: R.28
A10: 10. Høstforsikring | B10: 3.2 Aktiviteter vedr. hvervning af nye medlemmer | C10: R.1, R.28 | D10: Aktiviteter vedr. hvervning af nye medlemmer
A11: 11. Tilbagekøb fra markedet | B11: 4.1 Erhvervelse af anlægsaktiver til økologisk produktion jf. miljøpositivlisten. | C11: R.3, R.9 | D11: Erhvervelse af anlægsaktiver til økologisk produktion jf. miljøpositivlisten
A12: 12. Grøn høst | B12: 4.2 Indkøb af flerårige certificerede økologiske planter og specifikke omkostninger til økologiske etårige planter og frømateriale | C12: Indgår ikke | D12: Indkøb af flerårige certificerede økologiske planter og specifikke meromkostninger til økologisk plante- og frømateriale
A13: 13. Undladt høst | B13: 4.3 Investering i innovation, forskning i og udvikling målrettet økologisk produktion | C13: R.9, R.28 | D13: Investering i innovation, forskning i og udvikling målrettet økologisk produktion
A14: 14. Administrationsomkostninger | B14: 4.4 Rådgivning og uddannelse vedr. økologisk produktion | C14: R.28 | D14: Rådgivning og uddannelse vedr. økologisk produktion
B15: 5.1 Investering i innovation, forskning i og udvikling målrettet i integreret produktion | C15: R.9, R.28 | D15: Investering i innovation, forskning i og udvikling målrettet i integreret produktion
B16: 5.2 Rådgivning og uddannelse vedr. integreret produktion | C16: R.28 | D16: Rådgivning og uddannelse vedr. integreret produktion
B17: 6.1 Salgsfremstød, kommunikation og markedsføring mv | C17: Indgår ikke | D17: Salgsfremstød, kommunikation og markedsføring mv.
B18: 7.1 Gennemførelse af kvalitetsordninger | C18: Indgår ikke | D18: Gennemførelse af kvalitetsordninger
B19: 8.1 Gennemførelse af sporbarheds- og certificeringssystemer | C19: Indgår ikke | D19: Gennemførelse af sporbarheds- og certificeringssystemer
B20: 9.1 Erhvervelse af anlægsaktiver, målrettet modvirkning af / tilpasning til klimaforandringer jf. miljøpositivlisten | C20: R.3, R.9, R.16, R.26 | D20: Erhvervelse af anlægsaktiver, målrettet modvirkning af / tilpasning til klimaforandringer jf. miljøpositivlisten
B21: 9.2 Investering i innovation, forskning og udvikling målrettet modvirkning af / tilpasning til klimaforandringer | C21: R.3, R.9, R.16, R.26, R.28 | D21: Investering i innovation, forskning og udvikling målrettet modvirkning af / tilpasning til klimaforandringer
B22: 9.3 Rådgivning og uddannelse målrettet modvirkning af / tilpasning til klimaforandringer | C22: R.28 | D22: Rådgivning og uddannelse målrettet modvirkning af / tilpasning til klimaforandringer
B23: 10.1 Høstforsikring | C23: R.5 | D23: Høstforsikring
B24: 11.1 Tilbagekøb fra markedet | C24: R.5 | D24: Tilbagekøb fra markedet
B25: 12.1 Grøn høst | C25: R.5 | D25: Grøn høst
B26: 13.1 Undladt høst | C26: R.5 | D26: Undladt høst
B27: 14.1 Generelle omkostninger vedr. driftsfonden eller driftsprogrammet | C27: Indgår ikke | D27: Generelle omkostninger vedr. driftsfonden eller driftsprogrammet

Sheet postnr
A1: Opdateret 22. juni 2021
A2: Postnr. | B2: Bynavn | C2: Gade | D2: Firma | E2: Provins | F2: Land
A3: 0555 | B3: Scanning | D3: Data Scanning A/S | E3: True | F3: 1
A4: 0783 | B4: Facility | E4: False | F4: 1
A5: 0784 | B5: H&M | C5: Postbox 600 | D5: (Return parcels) | E5: False | F5: 1
A6: 0785 | B6: Bestseller | C6: Postbox 580 | D6: (Return parcels) | E6: False | F6: 1
A7: 0800 | B7: Høje Taastrup | C7: Girostrøget 1 | D7: BG-Bank A/S | E7: True | F7: 1
A8: 0877 | B8: København C | C8: Havneholmen 33 | D8: Aller Press (konkurrencer) | E8: False | F8: 1
A9: 0892 | B9: Sjælland USF P | C9: Ufrankerede svarforsendelser | E9: False | F9: 1
A10: 0893 | B10: Sjælland USF B | C10: Ufrankerede svarforsendelser | E10: False | F10: 1
A11: 0894 | B11: Udbetaling | D11: (Post til scanning) | E11: False | F11: 1
A12: 0899 | B12: Kommuneservice | D12: (Post til scanning) | E12: False | F12: 1
A13: 0900 | B13: København C | D13: Københavns Postcenter + erhvervskunder | E13: False | F13: 1
A14: 0910 | B14: København C | C14: Ufrankerede svarforsendelser | E14: False | F14: 1
A15: 0913 | B15: Københavns Pakkecenter | D15: Zalando returpakker | E15: False | F15: 1
A16: 0914 | B16: Københavns Pakkecenter | D16: (Returpakker) | E16: False | F16: 1
A17: 0917 | B17: Københavns Pakkecenter | D17: (Returpakker) | E17: False | F17: 1
A18: 0918 | B18: Københavns Pakke BRC | D18: (Returpakker) | E18: False | F18: 1
A19: 0919 | B19: Returprint BRC | E19: False | F19: 1
A20: 0929 | B20: København C | C20: Ufrankerede svarforsendelser | E20: False | F20: 1
A21: 0960 | B21: Internationalt Postcenter | D21: (Internt) | E21: False | F21: 1
A22: 0999 | B22: København C | D22: DR Byen | E22: False | F22: 1
A23: 1001 | B23: København K | C23: Postboks | E23: False | F23: 1
A24: 1002 | B24: København K | C24: Postboks | E24: False | F24: 1
A25: 1003 | B25: København K | C25: Postboks | E25: False | F25: 1
A26: 1004 | B26: København K | C26: Postboks | E26: False | F26: 1
A27: 1005 | B27: København K | C27: Postboks | E27: False | F27: 1
A28: 1006 | B28: København K | C28: Postboks | E28: False | F28: 1
A29: 1007 | B29: København K | C29: Postboks | E29: False | F29: 1
A30: 1008 | B30: København K | C30: Postboks | E30: False | F30: 1
A31: 1009 | B31: København K | C31: Postboks | E31: False | F31: 1
A32: 1010 | B32: København K | C32: Postboks | E32: False | F32: 1
A33: 1011 | B33: København K | C33: Postboks | E33: False | F33: 1
A34: 1012 | B34: København K | C34: Postboks | E34: False | F34: 1
... A75: 1074 | B75: København K | C75: Lille Kongensgade | E75: False | F75: 1
A76: 1092 | B76: København K | C76: Holmens Kanal 2-12 | D76: Danske Bank A/S | E76: False | F76: 1
A77: 1093 | B77: København K | C77: Havnegade 5 | D77: Danmarks Nationalbank | E77: False | F77: 1
A78: 1095 | B78: København K | C78: Kongens Nytorv 13 | D78: Magasin du Nord | E78: False | F78: 1
A79: 1098 | B79: København K | C79: Esplanaden 50 | D79: A.P. Møller | E79: False | F79: 1
A80: 1100 | B80: København K | C80: Østergade | E80: False | F80: 1
...
